Workbook
Name IDX_WP_Name_1: '[1]2. Start'!$B$17
Name RParticipants: '3 - Participants'!$C$2:INDEX('3 - Participants'!$C$2:$C$100,COUNTIF('3 - Participants'!$C$2:$C$100,"?*"))
Name RWorkPackages: '2 - Work packages'!$D$2:INDEX('2 - Work packages'!$D$2:$D$100,COUNTIF('2 - Work packages'!$D$2:$D$100,"?*"))
Name Source_Staff_Cat: '[1]EC Data'!$B$34:$B$45
Name StaffTypeOfRateA1A2: '[1]EC Data'!$B$49:$B$51
Name StaffTypeOfRateA3A4: '[1]EC Data'!$B$52:$B$54
Name WP_A_Total: '[1]3. Detailed table '!$F$66
Name WP_A1_Total: '[1]3. Detailed table '!$F$42
Name WP_B_Total: '[1]3. Detailed table '!$F$97
Name WP_B1_1_subTotal: '[1]3. Detailed table '!$C$82
Name WP_B1_2_subTotal: '[1]3. Detailed table '!$F$82
Name WP_B1_Travel_1_1_subTotal: '[1]3. Detailed table '!$C$81
Name WP_B1_Travel_1_2_subTotal: '[1]3. Detailed table '!$F$81
Name WP_C_Total: '[1]3. Detailed table '!$F$110
Name WP_C1_Total: '[1]3. Detailed table '!$C$104
Name WP_D_Total: '[1]3. Detailed table '!$F$116
Name WP_E1_Total: '[1]3. Detailed table '!$G$166
Name WP_E11_Total: '[1]3. Detailed table '!$G$141
Name WP_E2_Total: '[1]3. Detailed table '!$C$197
Name WP_E21_Total: '[1]3. Detailed table '!$C$181
Name WP_E3_Total: '[1]3. Detailed table '!$E$212
Name WP_E31_Total: '[1]3. Detailed table '!$E$204
Name WP_F_Total: '[1]3. Detailed table '!$C$233
Name WP_G_Total: '[1]3. Detailed table '!$E$240

Sheet Instructions
A1: INSTRUCTIONS (DETAILED BUDGET TABLE PER WP)
A3: General
A4: The file is composed of 7 sheets (1- Start, 2 - Work packages, 3 - Participants, 4 - DB table, 5 - DB table_Summary_WP, 6 - DB table_Summary_Participants, 7 - DB table_Consistency check).
A5: This table complements the budget information you encode directly in the Funding & Tenders Portal. Make sure that the information provided in the DB table is consistent with the information provided in the Funding & Tenders Portal. You should submit the DB table as part of your proposal and grant preparation: - for proposal: the table will be an Annex to your Application Form Part B. Complete and upload the table as an Excel file in the Funding & Tenders Portal Submission System. - for grant preparation: the table will become part of the Grant Agreement Annex 1 Description of the Action (DoA). Complete and upload the table as an Excel File in the Funding & Tenders Portal Grant Preparation tool.
A7: Getting started
A8: Please complete the sheets in their order (Start - Work packages- Participants- DB table).
A9: ATTENTION! White cells mean that you are required to enter data. Grey cells are calculated automatically.
A11: 1- Start sheet
A12: Use this sheet to insert the generic data (project name and acronym). This information will be automatically copied into the other sheets.
A14: 2 - Work packages sheet
A15: Use this sheet to enter the names of work packages and the corresponding funding rates. The information provided here needs to be consistent with the information provided in the Funding & Tenders Portal (Submission System for the application & Grant Preparation Tool for grant preparation).
A17: 3 - Participants sheet
... A31: Do NOT delete formulas or change the configuration of the file.

Sheet 1 - Start
A1: START (DETAILED BUDGET TABLE PER WP)
A3: PROJECT DATA
A4: Project number:
A5: Project acronym:

Sheet 2 - Work packages
A1: Work package name | B1: Funding Rate | D1: Formula 1
A2: WP name 1 | B2: 0 | D2: {=IF(ROWS(D$2:D2)>COUNTA($A$2:$A$100),"",INDEX($A$2:$A$100,SMALL(IF($A$2:$A$100<>"",ROW($A$2:$A$100)-ROW($A$2)+1),ROWS(D$2:D2))))} -> WP name 1
A3: WP name 2 | B3: 0 | D3: {=IF(ROWS(D$2:D3)>COUNTA($A$2:$A$100),"",INDEX($A$2:$A$100,SMALL(IF($A$2:$A$100<>"",ROW($A$2:$A$100)-ROW($A$2)+1),ROWS(D$2:D3))))} -> WP name 2
A4: WP name 3 | B4: 0 | D4: {=IF(ROWS(D$2:D4)>COUNTA($A$2:$A$100),"",INDEX($A$2:$A$100,SMALL(IF($A$2:$A$100<>"",ROW($A$2:$A$100)-ROW($A$2)+1),ROWS(D$2:D4))))} -> WP name 3
A5: WP name 4 | B5: 0 | D5: {=IF(ROWS(D$2:D5)>COUNTA($A$2:$A$100),"",INDEX($A$2:$A$100,SMALL(IF($A$2:$A$100<>"",ROW($A$2:$A$100)-ROW($A$2)+1),ROWS(D$2:D5))))} -> WP name 4
D6: {=IF(ROWS(D$2:D6)>COUNTA($A$2:$A$100),"",INDEX($A$2:$A$100,SMALL(IF($A$2:$A$100<>"",ROW($A$2:$A$100)-ROW($A$2)+1),ROWS(D$2:D6))))}
D7: {=IF(ROWS(D$2:D7)>COUNTA($A$2:$A$100),"",INDEX($A$2:$A$100,SMALL(IF($A$2:$A$100<>"",ROW($A$2:$A$100)-ROW($A$2)+1),ROWS(D$2:D7))))}
D8: {=IF(ROWS(D$2:D8)>COUNTA($A$2:$A$100),"",INDEX($A$2:$A$100,SMALL(IF($A$2:$A$100<>"",ROW($A$2:$A$100)-ROW($A$2)+1),ROWS(D$2:D8))))}
D9: {=IF(ROWS(D$2:D9)>COUNTA($A$2:$A$100),"",INDEX($A$2:$A$100,SMALL(IF($A$2:$A$100<>"",ROW($A$2:$A$100)-ROW($A$2)+1),ROWS(D$2:D9))))}
D10: {=IF(ROWS(D$2:D10)>COUNTA($A$2:$A$100),"",INDEX($A$2:$A$100,SMALL(IF($A$2:$A$100<>"",ROW($A$2:$A$100)-ROW($A$2)+1),ROWS(D$2:D10))))}
D11: {=IF(ROWS(D$2:D11)>COUNTA($A$2:$A$100),"",INDEX($A$2:$A$100,SMALL(IF($A$2:$A$100<>"",ROW($A$2:$A$100)-ROW($A$2)+1),ROWS(D$2:D11))))}
D12: {=IF(ROWS(D$2:D12)>COUNTA($A$2:$A$100),"",INDEX($A$2:$A$100,SMALL(IF($A$2:$A$100<>"",ROW($A$2:$A$100)-ROW($A$2)+1),ROWS(D$2:D12))))}
D13: {=IF(ROWS(D$2:D13)>COUNTA($A$2:$A$100),"",INDEX($A$2:$A$100,SMALL(IF($A$2:$A$100<>"",ROW($A$2:$A$100)-ROW($A$2)+1),ROWS(D$2:D13))))}
D14: {=IF(ROWS(D$2:D14)>COUNTA($A$2:$A$100),"",INDEX($A$2:$A$100,SMALL(IF($A$2:$A$100<>"",ROW($A$2:$A$100)-ROW($A$2)+1),ROWS(D$2:D14))))}
D15: {=IF(ROWS(D$2:D15)>COUNTA($A$2:$A$100),"",INDEX($A$2:$A$100,SMALL(IF($A$2:$A$100<>"",ROW($A$2:$A$100)-ROW($A$2)+1),ROWS(D$2:D15))))}
D16: {=IF(ROWS(D$2:D16)>COUNTA($A$2:$A$100),"",INDEX($A$2:$A$100,SMALL(IF($A$2:$A$100<>"",ROW($A$2:$A$100)-ROW($A$2)+1),ROWS(D$2:D16))))}
D17: {=IF(ROWS(D$2:D17)>COUNTA($A$2:$A$100),"",INDEX($A$2:$A$100,SMALL(IF($A$2:$A$100<>"",ROW($A$2:$A$100)-ROW($A$2)+1),ROWS(D$2:D17))))}
... D100: {=IF(ROWS(D$2:D100)>COUNTA($A$2:$A$100),"",INDEX($A$2:$A$100,SMALL(IF($A$2:$A$100<>"",ROW($A$2:$A$100)-ROW($A$2)+1),ROWS(D$2:D100))))}

Sheet 3 - Participants
A1: Participant name | C1: Formula 1
A2: Participant name1 | C2: {=IF(ROWS(C$2:C2)>COUNTA($A$2:$A$100),"",INDEX($A$2:$A$100,SMALL(IF($A$2:$A$100<>"",ROW($A$2:$A$100)-ROW($A$2)+1),ROWS(C$2:C2))))} -> Participant name1
A3: Participant name2 | C3: {=IF(ROWS(C$2:C3)>COUNTA($A$2:$A$100),"",INDEX($A$2:$A$100,SMALL(IF($A$2:$A$100<>"",ROW($A$2:$A$100)-ROW($A$2)+1),ROWS(C$2:C3))))} -> Participant name2
C4: {=IF(ROWS(C$2:C4)>COUNTA($A$2:$A$100),"",INDEX($A$2:$A$100,SMALL(IF($A$2:$A$100<>"",ROW($A$2:$A$100)-ROW($A$2)+1),ROWS(C$2:C4))))}
C5: {=IF(ROWS(C$2:C5)>COUNTA($A$2:$A$100),"",INDEX($A$2:$A$100,SMALL(IF($A$2:$A$100<>"",ROW($A$2:$A$100)-ROW($A$2)+1),ROWS(C$2:C5))))}
C6: {=IF(ROWS(C$2:C6)>COUNTA($A$2:$A$100),"",INDEX($A$2:$A$100,SMALL(IF($A$2:$A$100<>"",ROW($A$2:$A$100)-ROW($A$2)+1),ROWS(C$2:C6))))}
C7: {=IF(ROWS(C$2:C7)>COUNTA($A$2:$A$100),"",INDEX($A$2:$A$100,SMALL(IF($A$2:$A$100<>"",ROW($A$2:$A$100)-ROW($A$2)+1),ROWS(C$2:C7))))}
C8: {=IF(ROWS(C$2:C8)>COUNTA($A$2:$A$100),"",INDEX($A$2:$A$100,SMALL(IF($A$2:$A$100<>"",ROW($A$2:$A$100)-ROW($A$2)+1),ROWS(C$2:C8))))}
C9: {=IF(ROWS(C$2:C9)>COUNTA($A$2:$A$100),"",INDEX($A$2:$A$100,SMALL(IF($A$2:$A$100<>"",ROW($A$2:$A$100)-ROW($A$2)+1),ROWS(C$2:C9))))}
C10: {=IF(ROWS(C$2:C10)>COUNTA($A$2:$A$100),"",INDEX($A$2:$A$100,SMALL(IF($A$2:$A$100<>"",ROW($A$2:$A$100)-ROW($A$2)+1),ROWS(C$2:C10))))}
C11: {=IF(ROWS(C$2:C11)>COUNTA($A$2:$A$100),"",INDEX($A$2:$A$100,SMALL(IF($A$2:$A$100<>"",ROW($A$2:$A$100)-ROW($A$2)+1),ROWS(C$2:C11))))}
C12: {=IF(ROWS(C$2:C12)>COUNTA($A$2:$A$100),"",INDEX($A$2:$A$100,SMALL(IF($A$2:$A$100<>"",ROW($A$2:$A$100)-ROW($A$2)+1),ROWS(C$2:C12))))}
C13: {=IF(ROWS(C$2:C13)>COUNTA($A$2:$A$100),"",INDEX($A$2:$A$100,SMALL(IF($A$2:$A$100<>"",ROW($A$2:$A$100)-ROW($A$2)+1),ROWS(C$2:C13))))}
C14: {=IF(ROWS(C$2:C14)>COUNTA($A$2:$A$100),"",INDEX($A$2:$A$100,SMALL(IF($A$2:$A$100<>"",ROW($A$2:$A$100)-ROW($A$2)+1),ROWS(C$2:C14))))}
C15: {=IF(ROWS(C$2:C15)>COUNTA($A$2:$A$100),"",INDEX($A$2:$A$100,SMALL(IF($A$2:$A$100<>"",ROW($A$2:$A$100)-ROW($A$2)+1),ROWS(C$2:C15))))}
... C100: {=IF(ROWS(C$2:C100)>COUNTA($A$2:$A$100),"",INDEX($A$2:$A$100,SMALL(IF($A$2:$A$100<>"",ROW($A$2:$A$100)-ROW($A$2)+1),ROWS(C$2:C100))))}

Sheet 4 - DB table
A1: DETAILED BUDGET TABLE PER WP
A3: PROJECT DATA
A4: Project number: | C4: ='1 - Start'!B4 -> 0
A5: Project acronym: | C5: ='1 - Start'!B5 -> 0
A7: BUDGET BREAKDOWN PER WORK PACKAGE AND PARTICIPANT Reporting period can be added/deleted as needed
A9: Work Package | B9: Participant | C9: Reporting period 1 | D9: Reporting period 2 | E9: Reporting period 3 | F9: Reporting period 4 | G9: Reporting period 5 | H9: Total costs | I9: Funding rate (for work package) | J9: EU contribution
A10: WP name 1 | B10: Participant name1 | C10: 0 | D10: 0 | E10: 0 | F10: 0 | G10: 0 | H10: =SUM(C10:G10) -> 0 | I10: =VLOOKUP(Table1[[#This Row],[Work Package]],'2 - Work packages'!$A$2:$B$100,2,FALSE) -> 0 | J10: =Table1[[#This Row],[Funding rate (for work package)]]*Table1[[#This Row],[Total costs]] -> 0
A11: WP name 2 | B11: Participant name2 | C11: 0 | D11: 0 | E11: 0 | F11: 0 | G11: 0 | H11: =SUM(C11:G11) -> 0 | I11: =VLOOKUP(Table1[[#This Row],[Work Package]],'2 - Work packages'!$A$2:$B$100,2,FALSE) -> 0 | J11: =Table1[[#This Row],[Funding rate (for work package)]]*Table1[[#This Row],[Total costs]] -> 0
A12: WP name 3 | B12: Participant name1 | C12: 0 | D12: 0 | E12: 0 | F12: 0 | G12: 0 | H12: =SUM(C12:G12) -> 0 | I12: =VLOOKUP(Table1[[#This Row],[Work Package]],'2 - Work packages'!$A$2:$B$100,2,FALSE) -> 0 | J12: =Table1[[#This Row],[Funding rate (for work package)]]*Table1[[#This Row],[Total costs]] -> 0
A13: WP name 4 | B13: Participant name2 | C13: 0 | D13: 0 | E13: 0 | F13: 0 | G13: 0 | H13: =SUM(C13:G13) -> 0 | I13: =VLOOKUP(Table1[[#This Row],[Work Package]],'2 - Work packages'!$A$2:$B$100,2,FALSE) -> 0 | J13: =Table1[[#This Row],[Funding rate (for work package)]]*Table1[[#This Row],[Total costs]] -> 0
A14: Total | C14: =SUM(Table1[Reporting period 1]) -> 0 | D14: =SUM(Table1[Reporting period 2]) -> 0 | E14: =SUM(Table1[Reporting period 3]) -> 0 | F14: =SUM(Table1[Reporting period 4]) -> 0 | G14: =SUM(Table1[Reporting period 5]) -> 0 | H14: =SUM(Table1[Total costs]) -> 0 | J14: =SUBTOTAL(109,Table1[EU contribution]) -> 0

Sheet 5 - DB table_Summary_WP
B1: WARNING: IF YOU HAVE CHANGED ANY OF THE NAMES OF THE WP OR PARTICIPANTS YOU HAVE TO REFRESH THE PIVOT TABLES (RIGHT CLICK INSIDE ONE OF THE PIVOT TABLES AND PRESS REFRESH)
B2: Summary per work package
B3: Row Labels | C3: Reporting period_1 | D3: FP RP_1 | E3: Reporting period_2 | F3: FP RP_2 | G3: Reporting period_3 | H3: FP RP_3 | I3: Reporting period_4 | J3: FP RP_4 | K3: Reporting period_5 | L3: FP RP_5 | M3: Sum of Total costs | N3: Sum of EU contribution
B4: WP name 1 | C4: 0 | D4: #DIV/0! | E4: 0 | F4: #DIV/0! | G4: 0 | H4: #DIV/0! | I4: 0 | J4: #DIV/0! | K4: 0 | L4: #DIV/0! | M4: 0 | N4: 0
B5: WP name 2 | C5: 0 | D5: #DIV/0! | E5: 0 | F5: #DIV/0! | G5: 0 | H5: #DIV/0! | I5: 0 | J5: #DIV/0! | K5: 0 | L5: #DIV/0! | M5: 0 | N5: 0
B6: WP name 3 | C6: 0 | D6: #DIV/0! | E6: 0 | F6: #DIV/0! | G6: 0 | H6: #DIV/0! | I6: 0 | J6: #DIV/0! | K6: 0 | L6: #DIV/0! | M6: 0 | N6: 0
B7: WP name 4 | C7: 0 | D7: #DIV/0! | E7: 0 | F7: #DIV/0! | G7: 0 | H7: #DIV/0! | I7: 0 | J7: #DIV/0! | K7: 0 | L7: #DIV/0! | M7: 0 | N7: 0
B8: Grand Total | C8: 0 | D8: #DIV/0! | E8: 0 | F8: #DIV/0! | G8: 0 | H8: #DIV/0! | I8: 0 | J8: #DIV/0! | K8: 0 | L8: #DIV/0! | M8: 0 | N8: 0

Sheet 6 - DB table_Summary_Partici.
B1: WARNING: IF YOU HAVE CHANGED ANY OF THE NAMES OF THE WP OR PARTICIPANTS YOU HAVE TO REFRESH THE PIVOT TABLES (RIGHT CLICK INSIDE ONE OF THE PIVOT TABLES AND PRESS REFRESH)
B2: Summary per Participant
B3: Row Labels | C3: Reporting period_1 | D3: Reporting period_2 | E3: Reporting period_3 | F3: Reporting period_4 | G3: Reporting period_5 | H3: Sum of Total costs | I3: Sum of EU contribution
B4: Participant name1 | C4: 0 | D4: 0 | E4: 0 | F4: 0 | G4: 0 | H4: 0 | I4: 0
B5: Participant name2 | C5: 0 | D5: 0 | E5: 0 | F5: 0 | G5: 0 | H5: 0 | I5: 0
B6: Grand Total | C6: 0 | D6: 0 | E6: 0 | F6: 0 | G6: 0 | H6: 0 | I6: 0

Sheet 7 - DB tabl_Consistency check
A1: # | B1: EU CONTRIBUTION | C1: TOTAL COSTS
A2: ENCODE VALUE FROM EGRANTS | B2: 0 | C2: 0
A3: DIFFERENCE | B3: =B2-Table1[[#Totals],[EU contribution]] -> 0 | C3: =C2-Table1[[#Totals],[Total costs]] -> 0
