Workbook
Name CountryList: Sheet3!$A$1:$B$249

Sheet Instructions
A1: CREATIVE EUROPE PROGRAMME - MEDIA Strand and Cross-Sectoral Strand
A2: DECLARATION ON INDEPENDENCE AND EUROPEAN OWNERSHIP
A3: Please provide the FULL ownership structure of all the companies/organisations involved in the application, either as coordinator or as other beneficiary/partner in case of consortium.
A4: Start by providing following information about your application and the structure of your consortium:
A5: Project name
A6: SEP Project ID | C6: SEP-XXXXX
A7: Name of applicant - coordinator
A8: Name of other beneficiary 1
A9: Name of other beneficiary 2
A10: Name of other beneficiary 3
A11: Name of other beneficiary 4
A12: Name of other beneficiary 5
A13: Name of other beneficiary 6
A14: Name of other beneficiary 7
A15: Name of other beneficiary 8
A16: Name of other beneficiary 9
A17: Name of other beneficiary 10
A18: Afterwards, please provide the FULL ownership structure of the entities involved in the application, starting from the applicant entity (tab 'Coordinator'). In case of applications submitted by a consortium, please also provide the FULL ownership structure of each of the consortium participants, by filling in the tabs 'Other BE1', 'Other BE2', etc. Please consider that, according to the eligibility criterion, in order to be eligible an applicant must be established in one of the countries participating fully in the MEDIA Strand of the Creative Europe Programme and be owned directly or indirectly, wholly or by majority participation, by nationals from such countries. Therefore, when providing the FULL ownership structure, if any of the listed shareholders is a company, please describe the full chain of its shareholders too, until the level of nationals (i.e. physical persons). Please include percentage of shares and nationalities of such nationals. If the company is publicly listed, please provide the location of the stock exchange. Please note that in case of insufficient information on this point, the applicant may be considered as ineligible.
... A20: Do NOT remove or rename sheets. The structure of this document MUST remain unchanged. ONLY complete information in the cells in yellow

Sheet Coordinator
A1: DECLARATION ON INDEPENDENCE AND EUROPEAN OWNERSHIP FOR | E1: =Instructions!C7 -> 0
A2: Name of the shareholder/Owner | B2: Nationality of shareholder (for physical persons) or country of registration (for legal persons/companies) | C2: Status of shareholder | D2: Main activity if legal person (leave empty in case of physical person) | E2: Number of shares | F2: Shareholding % | G2: If any of the listed shareholders is a legal person/company, please describe the FULL chain of the shareholders, until the level of nationals (i.e. physical persons). Please include the percentage of shares and nationalities of such nationals. If the company is publicly listed, please provide the location of the stock exchange. Please note that in case of insufficient information on this point, the applicant may be considered as ineligible.
F18: =SUM(F3:F17) -> 0

Sheet Other BE1
A1: DECLARATION ON INDEPENDENCE AND EUROPEAN OWNERSHIP FOR | E1: =Instructions!C8 -> 0
A2: Name of the shareholder/Owner | B2: Nationality of shareholder (for physical persons) or country of registration (for legal persons/companies) | C2: Status of shareholder | D2: Main activity if legal person (leave empty in case of physical person) | E2: Number of shares | F2: Shareholding % | G2: If any of the listed shareholders is a legal person/company, please describe the FULL chain of the shareholders, until the level of nationals (i.e. physical persons). Please include the percentage of shares and nationalities of such nationals. If the company is publicly listed, please provide the location of the stock exchange. Please note that in case of insufficient information on this point, the applicant may be considered as ineligible.
F18: =SUM(F3:F17) -> 0

Sheet Other BE2
A1: DECLARATION ON INDEPENDENCE AND EUROPEAN OWNERSHIP FOR | E1: =Instructions!C9 -> 0
A2: Name of the shareholder/Owner | B2: Nationality of shareholder (for physical persons) or country of registration (for legal persons/companies) | C2: Status of shareholder | D2: Main activity if legal person (leave empty in case of physical person) | E2: Number of shares | F2: Shareholding % | G2: If any of the listed shareholders is a legal person/company, please describe the FULL chain of the shareholders, until the level of nationals (i.e. physical persons). Please include the percentage of shares and nationalities of such nationals. If the company is publicly listed, please provide the location of the stock exchange. Please note that in case of insufficient information on this point, the applicant may be considered as ineligible.
F18: =SUM(F3:F17) -> 0

Sheet Other BE3
A1: DECLARATION ON INDEPENDENCE AND EUROPEAN OWNERSHIP FOR | E1: =Instructions!C10 -> 0
A2: Name of the shareholder/Owner | B2: Nationality of shareholder (for physical persons) or country of registration (for legal persons/companies) | C2: Status of shareholder | D2: Main activity if legal person (leave empty in case of physical person) | E2: Number of shares | F2: Shareholding % | G2: If any of the listed shareholders is a legal person/company, please describe the FULL chain of the shareholders, until the level of nationals (i.e. physical persons). Please include the percentage of shares and nationalities of such nationals. If the company is publicly listed, please provide the location of the stock exchange. Please note that in case of insufficient information on this point, the applicant may be considered as ineligible.
F18: =SUM(F3:F17) -> 0

Sheet Other BE4
A1: DECLARATION ON INDEPENDENCE AND EUROPEAN OWNERSHIP FOR | E1: =Instructions!C11 -> 0
A2: Name of the shareholder/Owner | B2: Nationality of shareholder (for physical persons) or country of registration (for legal persons/companies) | C2: Status of shareholder | D2: Main activity if legal person (leave empty in case of physical person) | E2: Number of shares | F2: Shareholding % | G2: If any of the listed shareholders is a legal person/company, please describe the FULL chain of the shareholders, until the level of nationals (i.e. physical persons). Please include the percentage of shares and nationalities of such nationals. If the company is publicly listed, please provide the location of the stock exchange. Please note that in case of insufficient information on this point, the applicant may be considered as ineligible.
F18: =SUM(F3:F17) -> 0

Sheet Other BE5
A1: DECLARATION ON INDEPENDENCE AND EUROPEAN OWNERSHIP FOR | E1: =Instructions!C12 -> 0
A2: Name of the shareholder/Owner | B2: Nationality of shareholder (for physical persons) or country of registration (for legal persons/companies) | C2: Status of shareholder | D2: Main activity if legal person (leave empty in case of physical person) | E2: Number of shares | F2: Shareholding % | G2: If any of the listed shareholders is a legal person/company, please describe the FULL chain of the shareholders, until the level of nationals (i.e. physical persons). Please include the percentage of shares and nationalities of such nationals. If the company is publicly listed, please provide the location of the stock exchange. Please note that in case of insufficient information on this point, the applicant may be considered as ineligible.
F18: =SUM(F3:F17) -> 0

Sheet Other BE6
A1: DECLARATION ON INDEPENDENCE AND EUROPEAN OWNERSHIP FOR | E1: =Instructions!C13 -> 0
A2: Name of the shareholder/Owner | B2: Nationality of shareholder (for physical persons) or country of registration (for legal persons/companies) | C2: Status of shareholder | D2: Main activity if legal person (leave empty in case of physical person) | E2: Number of shares | F2: Shareholding % | G2: If any of the listed shareholders is a legal person/company, please describe the FULL chain of the shareholders, until the level of nationals (i.e. physical persons). Please include the percentage of shares and nationalities of such nationals. If the company is publicly listed, please provide the location of the stock exchange. Please note that in case of insufficient information on this point, the applicant may be considered as ineligible.
F18: =SUM(F3:F17) -> 0

Sheet Other BE7
A1: DECLARATION ON INDEPENDENCE AND EUROPEAN OWNERSHIP FOR | E1: =Instructions!C14 -> 0
A2: Name of the shareholder/Owner | B2: Nationality of shareholder (for physical persons) or country of registration (for legal persons/companies) | C2: Status of shareholder | D2: Main activity if legal person (leave empty in case of physical person) | E2: Number of shares | F2: Shareholding % | G2: If any of the listed shareholders is a legal person/company, please describe the FULL chain of the shareholders, until the level of nationals (i.e. physical persons). Please include the percentage of shares and nationalities of such nationals. If the company is publicly listed, please provide the location of the stock exchange. Please note that in case of insufficient information on this point, the applicant may be considered as ineligible.
F18: =SUM(F3:F17) -> 0

Sheet Other BE8
A1: DECLARATION ON INDEPENDENCE AND EUROPEAN OWNERSHIP FOR | E1: =Instructions!C15 -> 0
A2: Name of the shareholder/Owner | B2: Nationality of shareholder (for physical persons) or country of registration (for legal persons/companies) | C2: Status of shareholder | D2: Main activity if legal person (leave empty in case of physical person) | E2: Number of shares | F2: Shareholding % | G2: If any of the listed shareholders is a legal person/company, please describe the FULL chain of the shareholders, until the level of nationals (i.e. physical persons). Please include the percentage of shares and nationalities of such nationals. If the company is publicly listed, please provide the location of the stock exchange. Please note that in case of insufficient information on this point, the applicant may be considered as ineligible.
F18: =SUM(F3:F17) -> 0

Sheet Other BE9
A1: DECLARATION ON INDEPENDENCE AND EUROPEAN OWNERSHIP FOR | E1: =Instructions!C16 -> 0
A2: Name of the shareholder/Owner | B2: Nationality of shareholder (for physical persons) or country of registration (for legal persons/companies) | C2: Status of shareholder | D2: Main activity if legal person (leave empty in case of physical person) | E2: Number of shares | F2: Shareholding % | G2: If any of the listed shareholders is a legal person/company, please describe the FULL chain of the shareholders, until the level of nationals (i.e. physical persons). Please include the percentage of shares and nationalities of such nationals. If the company is publicly listed, please provide the location of the stock exchange. Please note that in case of insufficient information on this point, the applicant may be considered as ineligible.
F18: =SUM(F3:F17) -> 0

Sheet Other BE10
A1: DECLARATION ON INDEPENDENCE AND EUROPEAN OWNERSHIP FOR | E1: =Instructions!C17 -> 0
A2: Name of the shareholder/Owner | B2: Nationality of shareholder (for physical persons) or country of registration (for legal persons/companies) | C2: Status of shareholder | D2: Main activity if legal person (leave empty in case of physical person) | E2: Number of shares | F2: Shareholding % | G2: If any of the listed shareholders is a legal person/company, please describe the FULL chain of the shareholders, until the level of nationals (i.e. physical persons). Please include the percentage of shares and nationalities of such nationals. If the company is publicly listed, please provide the location of the stock exchange. Please note that in case of insufficient information on this point, the applicant may be considered as ineligible.
F18: =SUM(F3:F17) -> 0

Sheet Sheet2 (2)
A1: DECLARATION ON OWNERSHIP AND CONTROL FOR | E1: =Instructions!C7 -> 0
A2: Name of the shareholder/Owner | B2: Nationality of shareholder (using ISO codes) | C2: Status of shareholder | D2: Main activity if legal person (leave empty in case of natural person) | E2: Number of shares | F2: Shareholding % | G2: If any of the listed shareholders is a legal person/company, please describe below the full chain of its own shareholders, including percentage of sharesand nationalities. If the company if publicy listed, provide the location of the stock exchange
F18: =SUM(F3:F17) -> 0

Sheet Sheet3
A1: Country | B1: ISO Code
A2: Afghanistan | B2: AF
A3: Aland Islands | B3: AX
A4: Albania | B4: AL
A5: Algeria | B5: DZ
A6: American Samoa | B6: AS
A7: Andorra | B7: AD
A8: Angola | B8: AO
A9: Anguilla | B9: AI
A10: Antarctica | B10: AQ
A11: Antigua and Barbuda | B11: AG
A12: Argentina | B12: AR
... A249: Zimbabwe | B249: ZW
