Workbook

Sheet Vyhodnotenie CP
D2: Prehľad cenových ponúk (uveďte údaje z predložených cenových ponúk)
B4: Dôležité: uvedená tabuľka slúži ako pomôcka pre kontrolu správnosti výpočtov.
B6: Riešiteľ č. 1:
B7: Je/Nie je platca DPH: | C7: zvoľte
B8: Cena služieb oslobodených od DPH:
B9: =IF(C7="zvoľte",pomocný_hárok!A7,pomocny_harok!J4) -> Cena celkom v EUR:
B10: =IF(C7="Platca DPH","Cena služieb podliehajúcich DPH v EUR s DPH:"," ") | C10: =IF(C7="Platca DPH",C9*1.23," ")
B11: Cena celkom: | C11: =IFERROR(IF(C7="Nie je platca DPH",C8+C9,C10+C8)," ")
B14: Riešiteľ č. 2:
B15: Je/Nie je platca DPH: | C15: zvoľte
B16: Cena služieb oslobodených od DPH:
B17: =IF(C15="zvoľte",pomocný_hárok!A7,pomocny_harok!J12) -> Cena celkom v EUR:
B18: =IF(C15="Platca DPH","Cena služieb podliehajúcich DPH v EUR s DPH"," ") | C18: =IF(C15="Platca DPH",C17*1.23," ")
B19: Cena celkom: | C19: =IFERROR(IF(C15="Nie je platca DPH",C16+C17,C16+C18)," ")
B22: Riešiteľ č. 3:
B23: Je/Nie je platca DPH: | C23: zvoľte
B24: Cena služieb oslobodených od DPH:
B25: =IF(C23="zvoľte",pomocný_hárok!A7,pomocny_harok!J20) -> Cena celkom v EUR:
B26: =IF(C23="Platca DPH","Cena v EUR s DPH:"," ") | C26: =IF(C23="Platca DPH",C25*1.23," ")
B27: Cena celkom: | C27: =IFERROR(IF(C23="Nie je platca DPH",C24+C25,C24+C26)," ")
B29: Prijímateľ (P) Je/Nie je platca DPH: | C29: zvoľte
B31: Celková cena projektu podľa cenového prieskumu: | D31: =IFERROR(pomocny_harok!J29,"-")
B34: Identifikácia potenciálneho riešiteľa s najnižšou cenovou ponukou/oprávneného riešiteľa:
B36: Riešiteľ (R) Je/Nie je platca DPH: | C36: zvoľte
H37: P a R platca DPH | I37: P nie je platca DPH a R je platca DPH | J37: P je a R nie je platca DPH alebo P a R nie sú platcovia DPH
B38: Celková cena Inovačného projektu podľa cenového prieskumu (CCIP): | E38: =D31 | F38: =E38/1.23 -> #VALUE! | H38: =E38 | I38: =E38 | J38: =E38
B39: Hodnota Inovačnej poukážky v EUR (HIP): | E39: =IF(F39<15001,F39,15000) -> #VALUE! | F39: =E38*0.85 -> #VALUE! | H39: =IFERROR(E39,"-") -> - | I39: =IFERROR(pomocny_harok!J36,"-") -> - | J39: =IFERROR(E39,"-") -> -
B40: Výška spolufinancovania z vlastných zdrojov Prijímateľa: | E40: =pomocny_harok!$C$23 -> DPH oprávnený výdavok | F40: =1.23*F38*0.85 -> #VALUE! | H40: =IFERROR(pomocny_harok!J37,"-") -> - | I40: =IFERROR(pomocny_harok!J38,"-") -> - | J40: =IFERROR(pomocny_harok!J38,"-") -> -

Sheet pomocny_harok
C2: DPH
J3: Prispôsobenie popisku Platca/Neplatca
F4: =0.85*'Vyhodnotenie CP'!E38 -> #VALUE! | J4: =IF('Vyhodnotenie CP'!C7="Platca DPH",pomocný_hárok!A8,pomocný_hárok!A9) -> Cena služieb podliehajúcich DPH v EUR s DPH:
F5: =0.15*'Vyhodnotenie CP'!E38 -> #VALUE!
A6: ='Vyhodnotenie CP'!C9+'Vyhodnotenie CP'!C8 -> 0 | B6: =IF('Vyhodnotenie CP'!C7="Nie je platca DPH",'Vyhodnotenie CP'!C9+'Vyhodnotenie CP'!C8,'Vyhodnotenie CP'!C9*1.23+'Vyhodnotenie CP'!C8) -> 0 | C6: ='Vyhodnotenie CP'!C9*0.23 -> 0
J12: =IF('Vyhodnotenie CP'!C15="Platca DPH",pomocný_hárok!A8,pomocný_hárok!A9) -> Cena služieb podliehajúcich DPH v EUR s DPH:
A14: ='Vyhodnotenie CP'!C17+'Vyhodnotenie CP'!C16 -> 0 | B14: =IF('Vyhodnotenie CP'!C15="Nie je platca DPH",'Vyhodnotenie CP'!C17+'Vyhodnotenie CP'!C16,'Vyhodnotenie CP'!C17*1.23+'Vyhodnotenie CP'!C16) -> 0 | C14: ='Vyhodnotenie CP'!C17*0.23 -> 0
J20: =IF('Vyhodnotenie CP'!C23="Platca DPH",pomocný_hárok!A8,pomocný_hárok!A9) -> Cena služieb podliehajúcich DPH v EUR s DPH:
A22: ='Vyhodnotenie CP'!C25+'Vyhodnotenie CP'!C24 -> 0 | B22: =IF('Vyhodnotenie CP'!C23="Nie je platca DPH",'Vyhodnotenie CP'!C25+'Vyhodnotenie CP'!C24,'Vyhodnotenie CP'!C25*1.23+'Vyhodnotenie CP'!C24) -> 0 | C22: ='Vyhodnotenie CP'!C25*0.23 -> 0
A23: =SMALL(A6:A22,COUNTIF($A$6:$A$22,0)+1) -> #NUM! | B23: =SMALL(B6:B22,COUNTIF($B$6:$B$22,0)+1) -> #NUM! | C23: =IF(OR('Vyhodnotenie CP'!D31=A6),C6,IF(OR('Vyhodnotenie CP'!D31=A14),C14,IF(OR('Vyhodnotenie CP'!D31=A22),C22,"DPH oprávnený výdavok"))) -> DPH oprávnený výdavok
J28: =IF('Vyhodnotenie CP'!C29="Platca DPH",pomocny_harok!A23,pomocny_harok!B23) -> #NUM!
J29: =IF('Vyhodnotenie CP'!C29="zvoľte"," ",J28)
J36: =MIN('Vyhodnotenie CP'!E39,'Vyhodnotenie CP'!F40) -> #VALUE!
J37: =('Vyhodnotenie CP'!F39-'Vyhodnotenie CP'!E39)+(0.15*'Vyhodnotenie CP'!E38)+'Vyhodnotenie CP'!E40 -> #VALUE!
J38: =('Vyhodnotenie CP'!F39-'Vyhodnotenie CP'!E39)+(0.15*'Vyhodnotenie CP'!E38) -> #VALUE!

Sheet pomocný_hárok
A3: zvoľte
A4: Platca DPH
A5: Nie je platca DPH
A7: Cena celkom v EUR:
A8: Cena služieb podliehajúcich DPH v EUR bez DPH:
A9: Cena služieb podliehajúcich DPH v EUR s DPH:
