Workbook

Sheet Vyhodnotenie CP
D2: Prehľad cenových ponúk (uveďte údaje z predložených cenových ponúk)
B4: Dôležité: uvedená tabuľka slúži ako pomôcka pre kontrolu správnosti výpočtov.
B6: Riešiteľ č. 1: | K6: Prispôsobenie popisku Platca/Neplatca
B7: Je/Nie je platca DPH: | C7: zvoľte | K7: =IF(C7="Platca DPH",pomocný_hárok!A8,pomocný_hárok!A9) -> Cena v EUR s DPH:
B8: =IF(C7="zvoľte",pomocný_hárok!A7,'Vyhodnotenie CP'!K7) -> Cena celkom v EUR: | E8: =C8 -> 0 | F8: =IF(C7="Nie je platca DPH",C8,C8*1.23) -> 0
B9: =IF(C7="Platca DPH","Cena v EUR s DPH:"," ") | C9: =IF(C7="Platca DPH",C8*1.23," ")
B12: Riešiteľ č. 2:
B13: Je/Nie je platca DPH: | C13: zvoľte | K13: =IF(C13="Platca DPH",pomocný_hárok!A8,pomocný_hárok!A9) -> Cena v EUR s DPH:
B14: =IF(C13="zvoľte",pomocný_hárok!A7,'Vyhodnotenie CP'!K13) -> Cena celkom v EUR: | E14: =C14 -> 0 | F14: =IF(C13="Nie je platca DPH",C14,C14*1.23) -> 0
B15: =IF(C13="Platca DPH","Cena v EUR s DPH:"," ") | C15: =IF(C13="Platca DPH",C14*1.23,"")
B18: Riešiteľ č. 3:
B19: Je/Nie je platca DPH: | C19: zvoľte | K19: =IF(C19="Platca DPH",pomocný_hárok!A8,pomocný_hárok!A9) -> Cena v EUR s DPH:
B20: =IF(C19="zvoľte",pomocný_hárok!A7,K19) -> Cena celkom v EUR: | E20: =C20 -> 0 | F20: =IF(C19="Nie je platca DPH",C20,C20*1.23) -> 0
B21: =IF(C19="Platca DPH","Cena v EUR s DPH:"," ") | C21: =IF(C19="Platca DPH",C20*1.23," ") | E21: =SMALL(E8:E20,COUNTIF($E$8:$E$20,0)+1) -> #NUM! | F21: =SMALL(F8:F20,COUNTIF($F$8:$F$20,0)+1) -> #NUM!
B23: Prijímateľ (P) Je/Nie je platca DPH: | C23: zvoľte
B25: Celková cena projektu podľa cenového prieskumu: | D25: =IFERROR(K26,"-") | K25: =IF(C23="Platca DPH",E21,F21) -> #NUM!
K26: =IF(C23="zvoľte"," ",K25)
B28: Identifikácia potenciálneho riešiteľa s najnižšou cenovou ponukou/oprávneného riešiteľa:
B30: RIešiteľ (R) Je/Nie je platca DPH: | C30: zvoľte
G31: P a R platca DPH | H31: P nie je platca DPH a R je platca DPH | I31: P je a R nie je platca DPH alebo P a R nie sú platcovia DPH
B32: Celková cena Inovačného projektu podľa cenového prieskumu (CCIP): | E32: =D25 | F32: =E32/1.23 -> #VALUE! | G32: =E32 | H32: =E32 | I32: =E32
B33: Hodnota Inovačnej poukážky v EUR (HIP): | E33: =IF(F33<30001,F33,30000) -> #VALUE! | F33: =E32*0.85 -> #VALUE! | G33: =IFERROR(E33,"-") -> - | H33: =IFERROR(K33,"-") -> - | I33: =IFERROR(E33,"-") -> - | K33: =MIN(E33,F34) -> #VALUE!
B34: Výška spolufinancovania z vlastných zdrojov Prijímateľa: | F34: =1.23*F32*0.85 -> #VALUE! | G34: =IFERROR(K34,"-") -> - | H34: =IFERROR(K35,"-") -> - | I34: =IFERROR(K35,"-") -> - | K34: =(F33-E33)+(0.15*E32)+(0.23*E32) -> #VALUE!
K35: =(F33-E33)+(0.15*E32) -> #VALUE!

Sheet pomocný_hárok
A3: zvoľte
A4: Platca DPH
A5: Nie je platca DPH
A7: Cena celkom v EUR:
A8: Cena v EUR bez DPH:
A9: Cena v EUR s DPH:
