Workbook
Name Project_Number: 'Budget Table Calculator'!$G$5

Sheet Notice
F3: FINANCIAL INFORMATION FILE - NOTICE
F5: JTM - PUBLIC SECTOR LOAN FACILITY
C10: • The submission of a completed Financial Information File using this template is required as a part of your application, with the title
C11: "Financial Information File for Project Number XXXXXXXXX" using your 9 numbers eGrants project reference instead of "XXXXXXXXX".
C13: • The Financial Information File consists of this Notice, a Budget Table Calculator, 10 Input Sheets, a consolidated Financial Analysis and a Blank Calculation Sheet.
C14: For frameworks loans covering several projects or types of projects, please fill in as many Input Sheets as projects/types of projects included in your application.
C15: The Financial Analysis sheet presents the results of the financial analysis in a standardised format.
C16: In addition, you may use the Blank Calculation Sheet to insert your own calculations and comments. The contents in the sheet will not be evaluated as a part of your application.
C18: • The results in the "Financial Analysis" sheet will only appear when data is encoded in the Input Sheet(s).
C19: This template performs some consistency checks. An alert with an explanation will be triggered if an inconsistency is detected.
C21: • Next to the fields containing the inconsistency, the template will show a warning message: | N21: =IF(AND(M21>2012,ISNUMBER(M21)),"","Warning") -> Warning
C22: Just below the heading of each section, there is a summary of the various tests specifying if:
C23: all the data is in the appropriate format | I23: Ok
C24: there are mistakes that need to be corrected | I24: ="Please Correct" -> Please Correct
C26: • The template is protected. The applicant can insert values and text only in cells marked in blue of the Budget Table Calculator sheet, the Input Sheet(s) and the Financial Analysis sheet.
C28: • The project number to encode at the top of each sheet is the 9 digits number generated by eGrants that you obtain when you encode your draft application.
C30: • Please encode the year you will submit your application in the “Year of application submission” field of the Budget Table Calculator sheet. This is the basis year used in the financial analysis to discount all cash flows.
C32: • Divergences between the values included in the Simplified Business Plan template (e.g. due to the introduction of rounded values or limitations of this template) and the Financial Information File template
C33: should be explained in the 'Comments' section of the applicable Input Sheet(s).
C35: • If you encouter any difficulty in filling in this template you may send a question to:
C36: CINEA-JTM-PSLF@ec.europa.eu
C39: HOW TO FILL IN THE "INPUT SHEET"
C41: • Monetary values should be expressed in Euro. If national currencies were the basis to calculate these values, you MUST specify in the 'Comments' section which exchange rate was used.
C43: • When filling in the Input Sheet(s), absolute values should be used. In the case of avoided investment costs (Section investment costs) and costs savings (Section OPEX), please encode these savings with a negative sign.
C45: • Real (constant) values should be used in the Financial Information File and the Simplified Business Plan. However, should current (nominal) values have been used, the inflation rate considered should be specified
C46: in the 'Comments' box at the bottom of the Input Sheet(s).
... C50: • In this section, a visual presentation of the boxes to be filled in (with inputs below solely for illustration purposes !) is provided together with guidance concerning the values to be used.
D53: Financial Discount Rate (%) | H53: 0.04 | K53: Cell C21 of Financial Analysis tab | L53: Please specify the Financial Discount Rate used in the Financial Analysis sheet. This will be applied as a constant from the year following the application submission year for the whole reference period. The benchmark Discount Rate is 4%. Nevertheless, applicants may use a different rate to reflect either i) an applicable national benchmark accepted in their Member State, or ii) the interest rate applicable to the financing by the lender. In both cases, the applicant must provide a justification as to the level of the discount rate in the Simplified Business Plan (Section "Investment Costs"). Please also ensure alignment of the discount rate with the use of constant or real values in the spreadsheet (See "How to fill in the Input Sheet" above). It is not possible to insert text or negative values in this cell.
L56: Please also ensure alignment of the discount rate with the use of constant or real values in the spreadsheet (See "How to fill in the Input Sheet" above).
L58: It is not possible to insert text or negative values in this cell.
D61: Reference period (n of years) | H61: 20 | K61: Cell G11 of Input Sheet(s) | L61: Please choose a time reference from the drop-down list. The number of years should not be shorter than 5 years or longer than 50 years. For projects with a very long economic life, it is recommended to calculate a residual value that can take into consideration the potential of the years exceeding year 50.
I64: 2 | L64: The reference period to be used in this template is the economic life of the project and it should include both the development, construction and the operational phases.
L65: Note that this value will define the number of columns in both the Financial Analysis sheet and the Input Sheet(s). In particular, columns beyond the reference period (after the year encoded in Cell G13) can still be filled but will appear with a strikethrough effect showing that those values are not taken into consideration in the analysis.
F66: 2 | H66: 2
L68: It is not possible to insert text or values different from numbers between 5 and 50.
D71: First year (Submission date) | H71: 2025 | K71: Cell G12 of Input Sheet(s) | L71: The first year of the reference period is the Submission date. Please use a line for each major categories (by nature) of Capex that you may itemize. If however, for a given category of costs, some of the costs have already been disbursed at the time of application, please use 2 different lines for the relevant category and proceed as follows: In the first line, please report solely in first year (Submission date) only the costs already paid before the date of the application (“i”), then use the second line (with same heading) and report in this line year by year (including the year of Submission date if relevant) only the costs that are anticipated after the submission date. For cost referred to in "i" above , indicate in the comment box of the relevant Input sheet, WHEN those costs started.

Sheet Budget Table Calculator
BG1: -0000-XX-W-M-2X | BH1: 5
BG2: Business Plan | BH2: 6
D3: JTM - PUBLIC SECTOR LOAN FACILITY | BG3: CBA | BH3: 7
M4: Year of application submission | BG4: CBCA | BH4: 8
D5: =CONCATENATE("Project Number: ","") -> Project Number: | M5: 2026 | BG5: Form A | BH5: 9
BG6: Form D | BH6: 10
BG7: Others | BH7: 11
B8: =+COUNTIF(B9:B20,"Ok") -> 2 | E8: 1 | H8: 3 | J8: 4 | K8: 5 | L8: 6 | M8: 7 | N8: 8 | O8: 9 | P8: 10 | Q8: 11 | R8: 12 | S8: 13 | T8: 14 | U8: 15 | V8: 16 | W8: 17 | X8: 18 | Y8: 19 | Z8: 20 | AA8: 21 | AB8: 22 | AC8: 23 | AD8: 24 | AE8: 25 | AF8: 26 | AG8: 27 | AH8: 28 | AI8: 29 | AJ8: 30 | AK8: 31 | AL8: 32 | AM8: 33 | BH8: 12
B9: REQUESTED GRANT AMOUNT
B10: =IF(COUNTIF(J13,"Warning")>0,"Please Correct","Ok") -> Ok
D12: Lender | G12: EIB | I12: EIB
D13: Loan size under the Facility | I13: Financial Intermediary | J13: =IF(OR(ISTEXT(G13),G13<0),"Warning","")
D14: Grant rate (15% or 25%)
D15: Other Grant Rate
D16: Requested grant amount | G16: =G13 * IF(G14="Other",G15,G14) -> 0
B17: =IF(OR(C16<0%,C16>75%,ISTEXT(C16)),"Warning","")
B19: SOURCES OF FINANCING
B20: =IF(COUNTIF(J23:J28,"Warning")>0,"Please Correct","Ok") -> Ok
D22: =CONCATENATE(G12,"Loan size under the Facility") -> EIBLoan size under the Facility | G22: =G13 -> 0 | I22: EIB
D23: Other loans (non PSLF) | I23: Financial Intermediary | J23: =IF(OR(ISTEXT(G23),G23<0),"Warning","")
D24: Third party equity | I24: 0.15 | J24: =IF(OR(ISTEXT(G24),G24<0),"Warning","")
D25: Own resources | I25: 0.25 | J25: =IF(OR(ISTEXT(G25),G25<0),"Warning","")
D26: Requested grant amount | G26: =G16 -> 0
D27: Other grants (non PSLF)
D28: Total sources of financing | G28: =SUM(G22:H27) -> 0 | J28: =IF(G28<>K28,"Warning*","") | K28: =SUM('Input Sheet 1'!H31,'Input Sheet 2'!H31,'Input Sheet 3'!H31,'Input Sheet 4'!H31,'Input Sheet 5'!H31,'Input Sheet 6'!H31,'Input Sheet 7'!H31,'Input Sheet 8'!H31,'Input Sheet 9'!H31,'Input Sheet 10'!H31) -> 0 | L28: Total investment
B29: =IF(OR(C25<0%,C25>75%,ISTEXT(C25)),"Warning","") | J29: =IF(G28<>K28,"* Total amount of funding sources is different than the total investment costs","")
B31: APPLICANT COMMENTS
C33: Comments

Sheet Input Sheet 1
D3: JTM - PUBLIC SECTOR LOAN FACILITY
D5: =CONCATENATE("Project Number: ","") -> Project Number: | G5: =+Project_Number -> 0
B8: =+COUNTIF(B10:B108,"Ok") -> 4
B9: MAIN ASSUMPTIONS OF THE ANALYSIS
B10: =IF(COUNTIF(I11:I13,"Warning")>0,"Please Correct","Ok") -> Ok
D11: Reference period (n of years) | G11: 5 | I11: =IF(OR(G11<0,ISTEXT(G11)),"Warning","")
D12: First year (Start of Project) | G12: ='Budget Table Calculator'!$M$5 -> 2026 | I12: =IF(OR(G12<'Budget Table Calculator'!$M$5,ISTEXT(G12)),"Warning","")
D13: Last year in the reference | G13: =+G12+G11-1 -> 2030
B15: INVESTMENT COSTS
B16: =IF(COUNTIF(B20:G40,"Warning")>0,"Please Correct","Ok") -> Ok
C17: Initial investment
J18: =IF($G$13>=J19,1,0) -> 1 | K18: =IF($G$13>=K19,1,0) -> 1 | L18: =IF($G$13>=L19,1,0) -> 1 | M18: =IF($G$13>=M19,1,0) -> 1 | N18: =IF($G$13>=N19,1,0) -> 1 | O18: =IF($G$13>=O19,1,0) -> 0 | P18: =IF($G$13>=P19,1,0) -> 0 | Q18: =IF($G$13>=Q19,1,0) -> 0 | ... DE18: =IF($G$13>=DE19,1,0) -> 0
C19: Capital expenditure item/category (see Notice tab - cell L71) | H19: Total | J19: ='Budget Table Calculator'!$M$5 -> 2026 | K19: =+J19+1 -> 2027 | L19: =+K19+1 -> 2028 | M19: =+L19+1 -> 2029 | N19: =+M19+1 -> 2030 | O19: =+N19+1 -> 2031 | P19: =+O19+1 -> 2032 | Q19: =+P19+1 -> 2033 | R19: =+Q19+1 -> 2034 | ... DE19: =+DD19+1 -> 2125
G20: =IF(COUNTIFS(J$18:DE$18,1,J20:DE20,"*")>0,"Warning","") | H20: =+SUMPRODUCT(J$18:DE$18,J20:DE20) -> 0
G21: =IF(COUNTIFS(J$18:DE$18,1,J21:DE21,"*")>0,"Warning","") | H21: =+SUMPRODUCT(J$18:DE$18,J21:DE21) -> 0
G22: =IF(COUNTIFS(J$18:DE$18,1,J22:DE22,"*")>0,"Warning","") | H22: =+SUMPRODUCT(J$18:DE$18,J22:DE22) -> 0
G23: =IF(COUNTIFS(J$18:DE$18,1,J23:DE23,"*")>0,"Warning","") | H23: =+SUMPRODUCT(J$18:DE$18,J23:DE23) -> 0
G24: =IF(COUNTIFS(J$18:DE$18,1,J24:DE24,"*")>0,"Warning","") | H24: =+SUMPRODUCT(J$18:DE$18,J24:DE24) -> 0
G25: =IF(COUNTIFS(J$18:DE$18,1,J25:DE25,"*")>0,"Warning","") | H25: =+SUMPRODUCT(J$18:DE$18,J25:DE25) -> 0
G26: =IF(COUNTIFS(J$18:DE$18,1,J26:DE26,"*")>0,"Warning","") | H26: =+SUMPRODUCT(J$18:DE$18,J26:DE26) -> 0
G27: =IF(COUNTIFS(J$18:DE$18,1,J27:DE27,"*")>0,"Warning","") | H27: =+SUMPRODUCT(J$18:DE$18,J27:DE27) -> 0
G28: =IF(COUNTIFS(J$18:DE$18,1,J28:DE28,"*")>0,"Warning","") | H28: =+SUMPRODUCT(J$18:DE$18,J28:DE28) -> 0
G29: =IF(COUNTIFS(J$18:DE$18,1,J29:DE29,"*")>0,"Warning","") | H29: =+SUMPRODUCT(J$18:DE$18,J29:DE29) -> 0
H30: Total
G31: =IF(COUNTIFS(J$18:DE$18,1,J31:DE31,"*")>0,"Warning","") | H31: =+SUMPRODUCT(J$18:DE$18,J31:DE31) -> 0 | J31: =SUM(J20:J29) * J$18 -> 0 | K31: =SUM(K20:K29) * K$18 -> 0 | L31: =SUM(L20:L29) * L$18 -> 0 | M31: =SUM(M20:M29) * M$18 -> 0 | N31: =SUM(N20:N29) * N$18 -> 0 | O31: =SUM(O20:O29) * O$18 -> 0 | P31: =SUM(P20:P29) * P$18 -> 0 | Q31: =SUM(Q20:Q29) * Q$18 -> 0 | ... DE31: =SUM(DE20:DE29) * DE$18 -> 0
C33: Replacement costs
H34: Total | J34: ='Budget Table Calculator'!$M$5 -> 2026 | K34: =+J34+1 -> 2027 | L34: =+K34+1 -> 2028 | M34: =+L34+1 -> 2029 | N34: =+M34+1 -> 2030 | O34: =+N34+1 -> 2031 | P34: =+O34+1 -> 2032 | Q34: =+P34+1 -> 2033 | R34: =+Q34+1 -> 2034 | ... DE34: =+DD34+1 -> 2125
C35: Replacement costs | G35: =IF(OR(COUNTIFS(J$18:DE$18,1,J35:DE35,"<0")>0,COUNTIFS(J$18:DE$18,1,J35:DE35,"*")>0),"Warning","") | H35: =+SUMPRODUCT(J$18:DE$18,J35:DE35) -> 0
C38: Residual value
D39: Year | E39: =+G13 -> 2030
D40: Amount | G40: =IF(OR(ISTEXT(E40),E40<0),"Warning","")
B43: OPERATING EXPENSES
B44: =IF(COUNTIF(B47:H56,"Warning")>0,"Please Correct","Ok") -> Ok
C46: Service name | G46: Unit cost | I46: Unit of measure | J46: ='Budget Table Calculator'!$M$5 -> 2026 | K46: =J46+1 -> 2027 | L46: =K46+1 -> 2028 | M46: =L46+1 -> 2029 | N46: =M46+1 -> 2030 | O46: =N46+1 -> 2031 | P46: =O46+1 -> 2032 | Q46: =P46+1 -> 2033 | R46: =Q46+1 -> 2034 | ... DE46: =DD46+1 -> 2125
H47: =IF(OR(COUNTIFS(J$18:DE$18,1,J47:DE47,"<0")>0,COUNTIFS(J$18:DE$18,1,J47:DE47,"*")>0,ISNUMBER(I47),COUNTIF(G47,"*")>0,COUNTIF(G47,"*")>0,AND(COUNTIFS(J$18:DE$18,1,J47:DE47,">0"),ISBLANK(G47))),"Warning","")
H48: =IF(OR(COUNTIFS(J$18:DE$18,1,J48:DE48,"<0")>0,COUNTIFS(J$18:DE$18,1,J48:DE48,"*")>0,ISNUMBER(I48),COUNTIF(G48,"*")>0,COUNTIF(G48,"*")>0,AND(COUNTIFS(J$18:DE$18,1,J48:DE48,">0"),ISBLANK(G48))),"Warning","")
H49: =IF(OR(COUNTIFS(J$18:DE$18,1,J49:DE49,"<0")>0,COUNTIFS(J$18:DE$18,1,J49:DE49,"*")>0,ISNUMBER(I49),COUNTIF(G49,"*")>0,COUNTIF(G49,"*")>0,AND(COUNTIFS(J$18:DE$18,1,J49:DE49,">0"),ISBLANK(G49))),"Warning","")
H50: =IF(OR(COUNTIFS(J$18:DE$18,1,J50:DE50,"<0")>0,COUNTIFS(J$18:DE$18,1,J50:DE50,"*")>0,ISNUMBER(I50),COUNTIF(G50,"*")>0,COUNTIF(G50,"*")>0,AND(COUNTIFS(J$18:DE$18,1,J50:DE50,">0"),ISBLANK(G50))),"Warning","")
H51: =IF(OR(COUNTIFS(J$18:DE$18,1,J51:DE51,"<0")>0,COUNTIFS(J$18:DE$18,1,J51:DE51,"*")>0,ISNUMBER(I51),COUNTIF(G51,"*")>0,COUNTIF(G51,"*")>0,AND(COUNTIFS(J$18:DE$18,1,J51:DE51,">0"),ISBLANK(G51))),"Warning","")
H52: =IF(OR(COUNTIFS(J$18:DE$18,1,J52:DE52,"<0")>0,COUNTIFS(J$18:DE$18,1,J52:DE52,"*")>0,ISNUMBER(I52),COUNTIF(G52,"*")>0,COUNTIF(G52,"*")>0,AND(COUNTIFS(J$18:DE$18,1,J52:DE52,">0"),ISBLANK(G52))),"Warning","")
...

Sheet Input Sheet 2
D3: JTM - PUBLIC SECTOR LOAN FACILITY
D5: =CONCATENATE("Project Number: ","") -> Project Number: | G5: =+Project_Number -> 0
B8: =+COUNTIF(B10:B108,"Ok") -> 4
B9: MAIN ASSUMPTIONS OF THE ANALYSIS
B10: =IF(COUNTIF(I11:I13,"Warning")>0,"Please Correct","Ok") -> Ok
D11: Reference period (n of years) | G11: 5 | I11: =IF(OR(G11<0,ISTEXT(G11)),"Warning","")
D12: First year (Start of Project) | G12: ='Budget Table Calculator'!$M$5 -> 2026 | I12: =IF(OR(G12<'Budget Table Calculator'!$M$5,ISTEXT(G12)),"Warning","")
D13: Last year in the reference | G13: =+G12+G11-1 -> 2030
B15: INVESTMENT COSTS
B16: =IF(COUNTIF(B20:G40,"Warning")>0,"Please Correct","Ok") -> Ok
C17: Initial investment
J18: =IF($G$13>=J19,1,0) -> 1 | K18: =IF($G$13>=K19,1,0) -> 1 | L18: =IF($G$13>=L19,1,0) -> 1 | M18: =IF($G$13>=M19,1,0) -> 1 | N18: =IF($G$13>=N19,1,0) -> 1 | O18: =IF($G$13>=O19,1,0) -> 0 | P18: =IF($G$13>=P19,1,0) -> 0 | Q18: =IF($G$13>=Q19,1,0) -> 0 | ... DE18: =IF($G$13>=DE19,1,0) -> 0
C19: Capital expenditure item/category (see Notice tab - cell L71) | H19: Total | J19: ='Budget Table Calculator'!$M$5 -> 2026 | K19: =+J19+1 -> 2027 | L19: =+K19+1 -> 2028 | M19: =+L19+1 -> 2029 | N19: =+M19+1 -> 2030 | O19: =+N19+1 -> 2031 | P19: =+O19+1 -> 2032 | Q19: =+P19+1 -> 2033 | R19: =+Q19+1 -> 2034 | ... DE19: =+DD19+1 -> 2125
G20: =IF(COUNTIFS(J$18:DE$18,1,J20:DE20,"*")>0,"Warning","") | H20: =+SUMPRODUCT(J$18:DE$18,J20:DE20) -> 0
G21: =IF(COUNTIFS(J$18:DE$18,1,J21:DE21,"*")>0,"Warning","") | H21: =+SUMPRODUCT(J$18:DE$18,J21:DE21) -> 0
G22: =IF(COUNTIFS(J$18:DE$18,1,J22:DE22,"*")>0,"Warning","") | H22: =+SUMPRODUCT(J$18:DE$18,J22:DE22) -> 0
G23: =IF(COUNTIFS(J$18:DE$18,1,J23:DE23,"*")>0,"Warning","") | H23: =+SUMPRODUCT(J$18:DE$18,J23:DE23) -> 0
G24: =IF(COUNTIFS(J$18:DE$18,1,J24:DE24,"*")>0,"Warning","") | H24: =+SUMPRODUCT(J$18:DE$18,J24:DE24) -> 0
G25: =IF(COUNTIFS(J$18:DE$18,1,J25:DE25,"*")>0,"Warning","") | H25: =+SUMPRODUCT(J$18:DE$18,J25:DE25) -> 0
G26: =IF(COUNTIFS(J$18:DE$18,1,J26:DE26,"*")>0,"Warning","") | H26: =+SUMPRODUCT(J$18:DE$18,J26:DE26) -> 0
G27: =IF(COUNTIFS(J$18:DE$18,1,J27:DE27,"*")>0,"Warning","") | H27: =+SUMPRODUCT(J$18:DE$18,J27:DE27) -> 0
G28: =IF(COUNTIFS(J$18:DE$18,1,J28:DE28,"*")>0,"Warning","") | H28: =+SUMPRODUCT(J$18:DE$18,J28:DE28) -> 0
G29: =IF(COUNTIFS(J$18:DE$18,1,J29:DE29,"*")>0,"Warning","") | H29: =+SUMPRODUCT(J$18:DE$18,J29:DE29) -> 0
H30: Total
G31: =IF(COUNTIFS(J$18:DE$18,1,J31:DE31,"*")>0,"Warning","") | H31: =+SUMPRODUCT(J$18:DE$18,J31:DE31) -> 0 | J31: =SUM(J20:J29) * J$18 -> 0 | K31: =SUM(K20:K29) * K$18 -> 0 | L31: =SUM(L20:L29) * L$18 -> 0 | M31: =SUM(M20:M29) * M$18 -> 0 | N31: =SUM(N20:N29) * N$18 -> 0 | O31: =SUM(O20:O29) * O$18 -> 0 | P31: =SUM(P20:P29) * P$18 -> 0 | Q31: =SUM(Q20:Q29) * Q$18 -> 0 | ... DE31: =SUM(DE20:DE29) * DE$18 -> 0
C33: Replacement costs
H34: Total | J34: ='Budget Table Calculator'!$M$5 -> 2026 | K34: =+J34+1 -> 2027 | L34: =+K34+1 -> 2028 | M34: =+L34+1 -> 2029 | N34: =+M34+1 -> 2030 | O34: =+N34+1 -> 2031 | P34: =+O34+1 -> 2032 | Q34: =+P34+1 -> 2033 | R34: =+Q34+1 -> 2034 | ... DE34: =+DD34+1 -> 2125
C35: Replacement costs | G35: =IF(OR(COUNTIFS(J$18:DE$18,1,J35:DE35,"<0")>0,COUNTIFS(J$18:DE$18,1,J35:DE35,"*")>0),"Warning","") | H35: =+SUMPRODUCT(J$18:DE$18,J35:DE35) -> 0
C38: Residual value
D39: Year | E39: =+G13 -> 2030
D40: Amount | G40: =IF(OR(ISTEXT(E40),E40<0),"Warning","")
B43: OPERATING EXPENSES
B44: =IF(COUNTIF(B47:H56,"Warning")>0,"Please Correct","Ok") -> Ok
C46: Service name | G46: Unit cost | I46: Unit of measure | J46: ='Budget Table Calculator'!$M$5 -> 2026 | K46: =J46+1 -> 2027 | L46: =K46+1 -> 2028 | M46: =L46+1 -> 2029 | N46: =M46+1 -> 2030 | O46: =N46+1 -> 2031 | P46: =O46+1 -> 2032 | Q46: =P46+1 -> 2033 | R46: =Q46+1 -> 2034 | ... DE46: =DD46+1 -> 2125
H47: =IF(OR(COUNTIFS(J$18:DE$18,1,J47:DE47,"<0")>0,COUNTIFS(J$18:DE$18,1,J47:DE47,"*")>0,ISNUMBER(I47),COUNTIF(G47,"*")>0,COUNTIF(G47,"*")>0,AND(COUNTIFS(J$18:DE$18,1,J47:DE47,">0"),ISBLANK(G47))),"Warning","")
H48: =IF(OR(COUNTIFS(J$18:DE$18,1,J48:DE48,"<0")>0,COUNTIFS(J$18:DE$18,1,J48:DE48,"*")>0,ISNUMBER(I48),COUNTIF(G48,"*")>0,COUNTIF(G48,"*")>0,AND(COUNTIFS(J$18:DE$18,1,J48:DE48,">0"),ISBLANK(G48))),"Warning","")
H49: =IF(OR(COUNTIFS(J$18:DE$18,1,J49:DE49,"<0")>0,COUNTIFS(J$18:DE$18,1,J49:DE49,"*")>0,ISNUMBER(I49),COUNTIF(G49,"*")>0,COUNTIF(G49,"*")>0,AND(COUNTIFS(J$18:DE$18,1,J49:DE49,">0"),ISBLANK(G49))),"Warning","")
H50: =IF(OR(COUNTIFS(J$18:DE$18,1,J50:DE50,"<0")>0,COUNTIFS(J$18:DE$18,1,J50:DE50,"*")>0,ISNUMBER(I50),COUNTIF(G50,"*")>0,COUNTIF(G50,"*")>0,AND(COUNTIFS(J$18:DE$18,1,J50:DE50,">0"),ISBLANK(G50))),"Warning","")
H51: =IF(OR(COUNTIFS(J$18:DE$18,1,J51:DE51,"<0")>0,COUNTIFS(J$18:DE$18,1,J51:DE51,"*")>0,ISNUMBER(I51),COUNTIF(G51,"*")>0,COUNTIF(G51,"*")>0,AND(COUNTIFS(J$18:DE$18,1,J51:DE51,">0"),ISBLANK(G51))),"Warning","")
H52: =IF(OR(COUNTIFS(J$18:DE$18,1,J52:DE52,"<0")>0,COUNTIFS(J$18:DE$18,1,J52:DE52,"*")>0,ISNUMBER(I52),COUNTIF(G52,"*")>0,COUNTIF(G52,"*")>0,AND(COUNTIFS(J$18:DE$18,1,J52:DE52,">0"),ISBLANK(G52))),"Warning","")
...

Sheet Input Sheet 3
D3: JTM - PUBLIC SECTOR LOAN FACILITY
D5: =CONCATENATE("Project Number: ","") -> Project Number: | G5: =+Project_Number -> 0
B8: =+COUNTIF(B10:B108,"Ok") -> 4
B9: MAIN ASSUMPTIONS OF THE ANALYSIS
B10: =IF(COUNTIF(I11:I13,"Warning")>0,"Please Correct","Ok") -> Ok
D11: Reference period (n of years) | G11: 5 | I11: =IF(OR(G11<0,ISTEXT(G11)),"Warning","")
D12: First year (Start of Project) | G12: ='Budget Table Calculator'!$M$5 -> 2026 | I12: =IF(OR(G12<'Budget Table Calculator'!$M$5,ISTEXT(G12)),"Warning","")
D13: Last year in the reference | G13: =+G12+G11-1 -> 2030
B15: INVESTMENT COSTS
B16: =IF(COUNTIF(B20:G40,"Warning")>0,"Please Correct","Ok") -> Ok
C17: Initial investment
J18: =IF($G$13>=J19,1,0) -> 1 | K18: =IF($G$13>=K19,1,0) -> 1 | L18: =IF($G$13>=L19,1,0) -> 1 | M18: =IF($G$13>=M19,1,0) -> 1 | N18: =IF($G$13>=N19,1,0) -> 1 | O18: =IF($G$13>=O19,1,0) -> 0 | P18: =IF($G$13>=P19,1,0) -> 0 | Q18: =IF($G$13>=Q19,1,0) -> 0 | ... DE18: =IF($G$13>=DE19,1,0) -> 0
C19: Capital expenditure item/category (see Notice tab - cell L71) | H19: Total | J19: ='Budget Table Calculator'!$M$5 -> 2026 | K19: =+J19+1 -> 2027 | L19: =+K19+1 -> 2028 | M19: =+L19+1 -> 2029 | N19: =+M19+1 -> 2030 | O19: =+N19+1 -> 2031 | P19: =+O19+1 -> 2032 | Q19: =+P19+1 -> 2033 | R19: =+Q19+1 -> 2034 | ... DE19: =+DD19+1 -> 2125
G20: =IF(COUNTIFS(J$18:DE$18,1,J20:DE20,"*")>0,"Warning","") | H20: =+SUMPRODUCT(J$18:DE$18,J20:DE20) -> 0
G21: =IF(COUNTIFS(J$18:DE$18,1,J21:DE21,"*")>0,"Warning","") | H21: =+SUMPRODUCT(J$18:DE$18,J21:DE21) -> 0
G22: =IF(COUNTIFS(J$18:DE$18,1,J22:DE22,"*")>0,"Warning","") | H22: =+SUMPRODUCT(J$18:DE$18,J22:DE22) -> 0
G23: =IF(COUNTIFS(J$18:DE$18,1,J23:DE23,"*")>0,"Warning","") | H23: =+SUMPRODUCT(J$18:DE$18,J23:DE23) -> 0
G24: =IF(COUNTIFS(J$18:DE$18,1,J24:DE24,"*")>0,"Warning","") | H24: =+SUMPRODUCT(J$18:DE$18,J24:DE24) -> 0
G25: =IF(COUNTIFS(J$18:DE$18,1,J25:DE25,"*")>0,"Warning","") | H25: =+SUMPRODUCT(J$18:DE$18,J25:DE25) -> 0
G26: =IF(COUNTIFS(J$18:DE$18,1,J26:DE26,"*")>0,"Warning","") | H26: =+SUMPRODUCT(J$18:DE$18,J26:DE26) -> 0
G27: =IF(COUNTIFS(J$18:DE$18,1,J27:DE27,"*")>0,"Warning","") | H27: =+SUMPRODUCT(J$18:DE$18,J27:DE27) -> 0
G28: =IF(COUNTIFS(J$18:DE$18,1,J28:DE28,"*")>0,"Warning","") | H28: =+SUMPRODUCT(J$18:DE$18,J28:DE28) -> 0
G29: =IF(COUNTIFS(J$18:DE$18,1,J29:DE29,"*")>0,"Warning","") | H29: =+SUMPRODUCT(J$18:DE$18,J29:DE29) -> 0
H30: Total
G31: =IF(COUNTIFS(J$18:DE$18,1,J31:DE31,"*")>0,"Warning","") | H31: =+SUMPRODUCT(J$18:DE$18,J31:DE31) -> 0 | J31: =SUM(J20:J29) * J$18 -> 0 | K31: =SUM(K20:K29) * K$18 -> 0 | L31: =SUM(L20:L29) * L$18 -> 0 | M31: =SUM(M20:M29) * M$18 -> 0 | N31: =SUM(N20:N29) * N$18 -> 0 | O31: =SUM(O20:O29) * O$18 -> 0 | P31: =SUM(P20:P29) * P$18 -> 0 | Q31: =SUM(Q20:Q29) * Q$18 -> 0 | ... DE31: =SUM(DE20:DE29) * DE$18 -> 0
C33: Replacement costs
H34: Total | J34: ='Budget Table Calculator'!$M$5 -> 2026 | K34: =+J34+1 -> 2027 | L34: =+K34+1 -> 2028 | M34: =+L34+1 -> 2029 | N34: =+M34+1 -> 2030 | O34: =+N34+1 -> 2031 | P34: =+O34+1 -> 2032 | Q34: =+P34+1 -> 2033 | R34: =+Q34+1 -> 2034 | ... DE34: =+DD34+1 -> 2125
C35: Replacement costs | G35: =IF(OR(COUNTIFS(J$18:DE$18,1,J35:DE35,"<0")>0,COUNTIFS(J$18:DE$18,1,J35:DE35,"*")>0),"Warning","") | H35: =+SUMPRODUCT(J$18:DE$18,J35:DE35) -> 0
C38: Residual value
D39: Year | E39: =+G13 -> 2030
D40: Amount | G40: =IF(OR(ISTEXT(E40),E40<0),"Warning","")
B43: OPERATING EXPENSES
B44: =IF(COUNTIF(B47:H56,"Warning")>0,"Please Correct","Ok") -> Ok
C46: Service name | G46: Unit cost | I46: Unit of measure | J46: ='Budget Table Calculator'!$M$5 -> 2026 | K46: =J46+1 -> 2027 | L46: =K46+1 -> 2028 | M46: =L46+1 -> 2029 | N46: =M46+1 -> 2030 | O46: =N46+1 -> 2031 | P46: =O46+1 -> 2032 | Q46: =P46+1 -> 2033 | R46: =Q46+1 -> 2034 | ... DE46: =DD46+1 -> 2125
H47: =IF(OR(COUNTIFS(J$18:DE$18,1,J47:DE47,"<0")>0,COUNTIFS(J$18:DE$18,1,J47:DE47,"*")>0,ISNUMBER(I47),COUNTIF(G47,"*")>0,COUNTIF(G47,"*")>0,AND(COUNTIFS(J$18:DE$18,1,J47:DE47,">0"),ISBLANK(G47))),"Warning","")
H48: =IF(OR(COUNTIFS(J$18:DE$18,1,J48:DE48,"<0")>0,COUNTIFS(J$18:DE$18,1,J48:DE48,"*")>0,ISNUMBER(I48),COUNTIF(G48,"*")>0,COUNTIF(G48,"*")>0,AND(COUNTIFS(J$18:DE$18,1,J48:DE48,">0"),ISBLANK(G48))),"Warning","")
H49: =IF(OR(COUNTIFS(J$18:DE$18,1,J49:DE49,"<0")>0,COUNTIFS(J$18:DE$18,1,J49:DE49,"*")>0,ISNUMBER(I49),COUNTIF(G49,"*")>0,COUNTIF(G49,"*")>0,AND(COUNTIFS(J$18:DE$18,1,J49:DE49,">0"),ISBLANK(G49))),"Warning","")
H50: =IF(OR(COUNTIFS(J$18:DE$18,1,J50:DE50,"<0")>0,COUNTIFS(J$18:DE$18,1,J50:DE50,"*")>0,ISNUMBER(I50),COUNTIF(G50,"*")>0,COUNTIF(G50,"*")>0,AND(COUNTIFS(J$18:DE$18,1,J50:DE50,">0"),ISBLANK(G50))),"Warning","")
H51: =IF(OR(COUNTIFS(J$18:DE$18,1,J51:DE51,"<0")>0,COUNTIFS(J$18:DE$18,1,J51:DE51,"*")>0,ISNUMBER(I51),COUNTIF(G51,"*")>0,COUNTIF(G51,"*")>0,AND(COUNTIFS(J$18:DE$18,1,J51:DE51,">0"),ISBLANK(G51))),"Warning","")
H52: =IF(OR(COUNTIFS(J$18:DE$18,1,J52:DE52,"<0")>0,COUNTIFS(J$18:DE$18,1,J52:DE52,"*")>0,ISNUMBER(I52),COUNTIF(G52,"*")>0,COUNTIF(G52,"*")>0,AND(COUNTIFS(J$18:DE$18,1,J52:DE52,">0"),ISBLANK(G52))),"Warning","")
...

Sheet Input Sheet 4
D3: JTM - PUBLIC SECTOR LOAN FACILITY
D5: =CONCATENATE("Project Number: ","") -> Project Number: | G5: =+Project_Number -> 0
B8: =+COUNTIF(B10:B108,"Ok") -> 4
B9: MAIN ASSUMPTIONS OF THE ANALYSIS
B10: =IF(COUNTIF(I11:I13,"Warning")>0,"Please Correct","Ok") -> Ok
D11: Reference period (n of years) | G11: 5 | I11: =IF(OR(G11<0,ISTEXT(G11)),"Warning","")
D12: First year (Start of Project) | G12: ='Budget Table Calculator'!$M$5 -> 2026 | I12: =IF(OR(G12<'Budget Table Calculator'!$M$5,ISTEXT(G12)),"Warning","")
D13: Last year in the reference | G13: =+G12+G11-1 -> 2030
B15: INVESTMENT COSTS
B16: =IF(COUNTIF(B20:G40,"Warning")>0,"Please Correct","Ok") -> Ok
C17: Initial investment
J18: =IF($G$13>=J19,1,0) -> 1 | K18: =IF($G$13>=K19,1,0) -> 1 | L18: =IF($G$13>=L19,1,0) -> 1 | M18: =IF($G$13>=M19,1,0) -> 1 | N18: =IF($G$13>=N19,1,0) -> 1 | O18: =IF($G$13>=O19,1,0) -> 0 | P18: =IF($G$13>=P19,1,0) -> 0 | Q18: =IF($G$13>=Q19,1,0) -> 0 | ... DE18: =IF($G$13>=DE19,1,0) -> 0
C19: Capital expenditure item/category (see Notice tab - cell L71) | H19: Total | J19: ='Budget Table Calculator'!$M$5 -> 2026 | K19: =+J19+1 -> 2027 | L19: =+K19+1 -> 2028 | M19: =+L19+1 -> 2029 | N19: =+M19+1 -> 2030 | O19: =+N19+1 -> 2031 | P19: =+O19+1 -> 2032 | Q19: =+P19+1 -> 2033 | R19: =+Q19+1 -> 2034 | ... DE19: =+DD19+1 -> 2125
G20: =IF(COUNTIFS(J$18:DE$18,1,J20:DE20,"*")>0,"Warning","") | H20: =+SUMPRODUCT(J$18:DE$18,J20:DE20) -> 0
G21: =IF(COUNTIFS(J$18:DE$18,1,J21:DE21,"*")>0,"Warning","") | H21: =+SUMPRODUCT(J$18:DE$18,J21:DE21) -> 0
G22: =IF(COUNTIFS(J$18:DE$18,1,J22:DE22,"*")>0,"Warning","") | H22: =+SUMPRODUCT(J$18:DE$18,J22:DE22) -> 0
G23: =IF(COUNTIFS(J$18:DE$18,1,J23:DE23,"*")>0,"Warning","")
G24: =IF(COUNTIFS(J$18:DE$18,1,J24:DE24,"*")>0,"Warning","") | H24: =+SUMPRODUCT(J$18:DE$18,J24:DE24) -> 0
G25: =IF(COUNTIFS(J$18:DE$18,1,J25:DE25,"*")>0,"Warning","") | H25: =+SUMPRODUCT(J$18:DE$18,J25:DE25) -> 0
G26: =IF(COUNTIFS(J$18:DE$18,1,J26:DE26,"*")>0,"Warning","") | H26: =+SUMPRODUCT(J$18:DE$18,J26:DE26) -> 0
G27: =IF(COUNTIFS(J$18:DE$18,1,J27:DE27,"*")>0,"Warning","") | H27: =+SUMPRODUCT(J$18:DE$18,J27:DE27) -> 0
G28: =IF(COUNTIFS(J$18:DE$18,1,J28:DE28,"*")>0,"Warning","") | H28: =+SUMPRODUCT(J$18:DE$18,J28:DE28) -> 0
G29: =IF(COUNTIFS(J$18:DE$18,1,J29:DE29,"*")>0,"Warning","") | H29: =+SUMPRODUCT(J$18:DE$18,J29:DE29) -> 0
H30: Total
G31: =IF(COUNTIFS(J$18:DE$18,1,J31:DE31,"*")>0,"Warning","") | H31: =+SUMPRODUCT(J$18:DE$18,J31:DE31) -> 0 | J31: =SUM(J20:J29) * J$18 -> 0 | K31: =SUM(K20:K29) * K$18 -> 0 | L31: =SUM(L20:L29) * L$18 -> 0 | M31: =SUM(M20:M29) * M$18 -> 0 | N31: =SUM(N20:N29) * N$18 -> 0 | O31: =SUM(O20:O29) * O$18 -> 0 | P31: =SUM(P20:P29) * P$18 -> 0 | Q31: =SUM(Q20:Q29) * Q$18 -> 0 | ... DE31: =SUM(DE20:DE29) * DE$18 -> 0
C33: Replacement costs
H34: Total | J34: ='Budget Table Calculator'!$M$5 -> 2026 | K34: =+J34+1 -> 2027 | L34: =+K34+1 -> 2028 | M34: =+L34+1 -> 2029 | N34: =+M34+1 -> 2030 | O34: =+N34+1 -> 2031 | P34: =+O34+1 -> 2032 | Q34: =+P34+1 -> 2033 | R34: =+Q34+1 -> 2034 | ... DE34: =+DD34+1 -> 2125
C35: Replacement costs | G35: =IF(OR(COUNTIFS(J$18:DE$18,1,J35:DE35,"<0")>0,COUNTIFS(J$18:DE$18,1,J35:DE35,"*")>0),"Warning","") | H35: =+SUMPRODUCT(J$18:DE$18,J35:DE35) -> 0
C38: Residual value
D39: Year | E39: =+G13 -> 2030
D40: Amount | G40: =IF(OR(ISTEXT(E40),E40<0),"Warning","")
B43: OPERATING EXPENSES
B44: =IF(COUNTIF(B47:H56,"Warning")>0,"Please Correct","Ok") -> Ok
C46: Service name | G46: Unit cost | I46: Unit of measure | J46: ='Budget Table Calculator'!$M$5 -> 2026 | K46: =J46+1 -> 2027 | L46: =K46+1 -> 2028 | M46: =L46+1 -> 2029 | N46: =M46+1 -> 2030 | O46: =N46+1 -> 2031 | P46: =O46+1 -> 2032 | Q46: =P46+1 -> 2033 | R46: =Q46+1 -> 2034 | ... DE46: =DD46+1 -> 2125
H47: =IF(OR(COUNTIFS(J$18:DE$18,1,J47:DE47,"<0")>0,COUNTIFS(J$18:DE$18,1,J47:DE47,"*")>0,ISNUMBER(I47),COUNTIF(G47,"*")>0,COUNTIF(G47,"*")>0,AND(COUNTIFS(J$18:DE$18,1,J47:DE47,">0"),ISBLANK(G47))),"Warning","")
H48: =IF(OR(COUNTIFS(J$18:DE$18,1,J48:DE48,"<0")>0,COUNTIFS(J$18:DE$18,1,J48:DE48,"*")>0,ISNUMBER(I48),COUNTIF(G48,"*")>0,COUNTIF(G48,"*")>0,AND(COUNTIFS(J$18:DE$18,1,J48:DE48,">0"),ISBLANK(G48))),"Warning","")
H49: =IF(OR(COUNTIFS(J$18:DE$18,1,J49:DE49,"<0")>0,COUNTIFS(J$18:DE$18,1,J49:DE49,"*")>0,ISNUMBER(I49),COUNTIF(G49,"*")>0,COUNTIF(G49,"*")>0,AND(COUNTIFS(J$18:DE$18,1,J49:DE49,">0"),ISBLANK(G49))),"Warning","")
H50: =IF(OR(COUNTIFS(J$18:DE$18,1,J50:DE50,"<0")>0,COUNTIFS(J$18:DE$18,1,J50:DE50,"*")>0,ISNUMBER(I50),COUNTIF(G50,"*")>0,COUNTIF(G50,"*")>0,AND(COUNTIFS(J$18:DE$18,1,J50:DE50,">0"),ISBLANK(G50))),"Warning","")
H51: =IF(OR(COUNTIFS(J$18:DE$18,1,J51:DE51,"<0")>0,COUNTIFS(J$18:DE$18,1,J51:DE51,"*")>0,ISNUMBER(I51),COUNTIF(G51,"*")>0,COUNTIF(G51,"*")>0,AND(COUNTIFS(J$18:DE$18,1,J51:DE51,">0"),ISBLANK(G51))),"Warning","")
H52: =IF(OR(COUNTIFS(J$18:DE$18,1,J52:DE52,"<0")>0,COUNTIFS(J$18:DE$18,1,J52:DE52,"*")>0,ISNUMBER(I52),COUNTIF(G52,"*")>0,COUNTIF(G52,"*")>0,AND(COUNTIFS(J$18:DE$18,1,J52:DE52,">0"),ISBLANK(G52))),"Warning","")
...

Sheet Input Sheet 5
D3: JTM - PUBLIC SECTOR LOAN FACILITY
D5: =CONCATENATE("Project Number: ","") -> Project Number: | G5: =+Project_Number -> 0
B8: =+COUNTIF(B10:B108,"Ok") -> 4
B9: MAIN ASSUMPTIONS OF THE ANALYSIS
B10: =IF(COUNTIF(I11:I13,"Warning")>0,"Please Correct","Ok") -> Ok
D11: Reference period (n of years) | G11: 5 | I11: =IF(OR(G11<0,ISTEXT(G11)),"Warning","")
D12: First year (Start of Project) | G12: ='Budget Table Calculator'!$M$5 -> 2026 | I12: =IF(OR(G12<'Budget Table Calculator'!$M$5,ISTEXT(G12)),"Warning","")
D13: Last year in the reference | G13: =+G12+G11-1 -> 2030
B15: INVESTMENT COSTS
B16: =IF(COUNTIF(B20:G40,"Warning")>0,"Please Correct","Ok") -> Ok
C17: Initial investment
J18: =IF($G$13>=J19,1,0) -> 1 | K18: =IF($G$13>=K19,1,0) -> 1 | L18: =IF($G$13>=L19,1,0) -> 1 | M18: =IF($G$13>=M19,1,0) -> 1 | N18: =IF($G$13>=N19,1,0) -> 1 | O18: =IF($G$13>=O19,1,0) -> 0 | P18: =IF($G$13>=P19,1,0) -> 0 | Q18: =IF($G$13>=Q19,1,0) -> 0 | ... DE18: =IF($G$13>=DE19,1,0) -> 0
C19: Capital expenditure item/category (see Notice tab - cell L71) | H19: Total | J19: ='Budget Table Calculator'!$M$5 -> 2026 | K19: =+J19+1 -> 2027 | L19: =+K19+1 -> 2028 | M19: =+L19+1 -> 2029 | N19: =+M19+1 -> 2030 | O19: =+N19+1 -> 2031 | P19: =+O19+1 -> 2032 | Q19: =+P19+1 -> 2033 | R19: =+Q19+1 -> 2034 | ... DE19: =+DD19+1 -> 2125
G20: =IF(COUNTIFS(J$18:DE$18,1,J20:DE20,"*")>0,"Warning","") | H20: =+SUMPRODUCT(J$18:DE$18,J20:DE20) -> 0
G21: =IF(COUNTIFS(J$18:DE$18,1,J21:DE21,"*")>0,"Warning","") | H21: =+SUMPRODUCT(J$18:DE$18,J21:DE21) -> 0
G22: =IF(COUNTIFS(J$18:DE$18,1,J22:DE22,"*")>0,"Warning","") | H22: =+SUMPRODUCT(J$18:DE$18,J22:DE22) -> 0
G23: =IF(COUNTIFS(J$18:DE$18,1,J23:DE23,"*")>0,"Warning","") | H23: =+SUMPRODUCT(J$18:DE$18,J23:DE23) -> 0
G24: =IF(COUNTIFS(J$18:DE$18,1,J24:DE24,"*")>0,"Warning","") | H24: =+SUMPRODUCT(J$18:DE$18,J24:DE24) -> 0
G25: =IF(COUNTIFS(J$18:DE$18,1,J25:DE25,"*")>0,"Warning","") | H25: =+SUMPRODUCT(J$18:DE$18,J25:DE25) -> 0
G26: =IF(COUNTIFS(J$18:DE$18,1,J26:DE26,"*")>0,"Warning","") | H26: =+SUMPRODUCT(J$18:DE$18,J26:DE26) -> 0
G27: =IF(COUNTIFS(J$18:DE$18,1,J27:DE27,"*")>0,"Warning","") | H27: =+SUMPRODUCT(J$18:DE$18,J27:DE27) -> 0
G28: =IF(COUNTIFS(J$18:DE$18,1,J28:DE28,"*")>0,"Warning","") | H28: =+SUMPRODUCT(J$18:DE$18,J28:DE28) -> 0
G29: =IF(COUNTIFS(J$18:DE$18,1,J29:DE29,"*")>0,"Warning","") | H29: =+SUMPRODUCT(J$18:DE$18,J29:DE29) -> 0
H30: Total
G31: =IF(COUNTIFS(J$18:DE$18,1,J31:DE31,"*")>0,"Warning","") | H31: =+SUMPRODUCT(J$18:DE$18,J31:DE31) -> 0 | J31: =SUM(J20:J29) * J$18 -> 0 | K31: =SUM(K20:K29) * K$18 -> 0 | L31: =SUM(L20:L29) * L$18 -> 0 | M31: =SUM(M20:M29) * M$18 -> 0 | N31: =SUM(N20:N29) * N$18 -> 0 | O31: =SUM(O20:O29) * O$18 -> 0 | P31: =SUM(P20:P29) * P$18 -> 0 | Q31: =SUM(Q20:Q29) * Q$18 -> 0 | ... DE31: =SUM(DE20:DE29) * DE$18 -> 0
C33: Replacement costs
H34: Total | J34: ='Budget Table Calculator'!$M$5 -> 2026 | K34: =+J34+1 -> 2027 | L34: =+K34+1 -> 2028 | M34: =+L34+1 -> 2029 | N34: =+M34+1 -> 2030 | O34: =+N34+1 -> 2031 | P34: =+O34+1 -> 2032 | Q34: =+P34+1 -> 2033 | R34: =+Q34+1 -> 2034 | ... DE34: =+DD34+1 -> 2125
C35: Replacement costs | G35: =IF(OR(COUNTIFS(J$18:DE$18,1,J35:DE35,"<0")>0,COUNTIFS(J$18:DE$18,1,J35:DE35,"*")>0),"Warning","") | H35: =+SUMPRODUCT(J$18:DE$18,J35:DE35) -> 0
C38: Residual value
D39: Year | E39: =+G13 -> 2030
D40: Amount | G40: =IF(OR(ISTEXT(E40),E40<0),"Warning","")
B43: OPERATING EXPENSES
B44: =IF(COUNTIF(B47:H56,"Warning")>0,"Please Correct","Ok") -> Ok
C46: Service name | G46: Unit cost | I46: Unit of measure | J46: ='Budget Table Calculator'!$M$5 -> 2026 | K46: =J46+1 -> 2027 | L46: =K46+1 -> 2028 | M46: =L46+1 -> 2029 | N46: =M46+1 -> 2030 | O46: =N46+1 -> 2031 | P46: =O46+1 -> 2032 | Q46: =P46+1 -> 2033 | R46: =Q46+1 -> 2034 | ... DE46: =DD46+1 -> 2125
H47: =IF(OR(COUNTIFS(J$18:DE$18,1,J47:DE47,"<0")>0,COUNTIFS(J$18:DE$18,1,J47:DE47,"*")>0,ISNUMBER(I47),COUNTIF(G47,"*")>0,COUNTIF(G47,"*")>0,AND(COUNTIFS(J$18:DE$18,1,J47:DE47,">0"),ISBLANK(G47))),"Warning","")
H48: =IF(OR(COUNTIFS(J$18:DE$18,1,J48:DE48,"<0")>0,COUNTIFS(J$18:DE$18,1,J48:DE48,"*")>0,ISNUMBER(I48),COUNTIF(G48,"*")>0,COUNTIF(G48,"*")>0,AND(COUNTIFS(J$18:DE$18,1,J48:DE48,">0"),ISBLANK(G48))),"Warning","")
H49: =IF(OR(COUNTIFS(J$18:DE$18,1,J49:DE49,"<0")>0,COUNTIFS(J$18:DE$18,1,J49:DE49,"*")>0,ISNUMBER(I49),COUNTIF(G49,"*")>0,COUNTIF(G49,"*")>0,AND(COUNTIFS(J$18:DE$18,1,J49:DE49,">0"),ISBLANK(G49))),"Warning","")
H50: =IF(OR(COUNTIFS(J$18:DE$18,1,J50:DE50,"<0")>0,COUNTIFS(J$18:DE$18,1,J50:DE50,"*")>0,ISNUMBER(I50),COUNTIF(G50,"*")>0,COUNTIF(G50,"*")>0,AND(COUNTIFS(J$18:DE$18,1,J50:DE50,">0"),ISBLANK(G50))),"Warning","")
H51: =IF(OR(COUNTIFS(J$18:DE$18,1,J51:DE51,"<0")>0,COUNTIFS(J$18:DE$18,1,J51:DE51,"*")>0,ISNUMBER(I51),COUNTIF(G51,"*")>0,COUNTIF(G51,"*")>0,AND(COUNTIFS(J$18:DE$18,1,J51:DE51,">0"),ISBLANK(G51))),"Warning","")
H52: =IF(OR(COUNTIFS(J$18:DE$18,1,J52:DE52,"<0")>0,COUNTIFS(J$18:DE$18,1,J52:DE52,"*")>0,ISNUMBER(I52),COUNTIF(G52,"*")>0,COUNTIF(G52,"*")>0,AND(COUNTIFS(J$18:DE$18,1,J52:DE52,">0"),ISBLANK(G52))),"Warning","")
...

Sheet Input Sheet 6
D3: JTM - PUBLIC SECTOR LOAN FACILITY
D5: =CONCATENATE("Project Number: ","") -> Project Number: | G5: =+Project_Number -> 0
B8: =+COUNTIF(B10:B108,"Ok") -> 4
B9: MAIN ASSUMPTIONS OF THE ANALYSIS
B10: =IF(COUNTIF(I11:I13,"Warning")>0,"Please Correct","Ok") -> Ok
D11: Reference period (n of years) | G11: 5 | I11: =IF(OR(G11<0,ISTEXT(G11)),"Warning","")
D12: First year (Start of Project) | G12: ='Budget Table Calculator'!$M$5 -> 2026 | I12: =IF(OR(G12<'Budget Table Calculator'!$M$5,ISTEXT(G12)),"Warning","")
D13: Last year in the reference | G13: =+G12+G11-1 -> 2030
B15: INVESTMENT COSTS
B16: =IF(COUNTIF(B20:G40,"Warning")>0,"Please Correct","Ok") -> Ok
C17: Initial investment
J18: =IF($G$13>=J19,1,0) -> 1 | K18: =IF($G$13>=K19,1,0) -> 1 | L18: =IF($G$13>=L19,1,0) -> 1 | M18: =IF($G$13>=M19,1,0) -> 1 | N18: =IF($G$13>=N19,1,0) -> 1 | O18: =IF($G$13>=O19,1,0) -> 0 | P18: =IF($G$13>=P19,1,0) -> 0 | Q18: =IF($G$13>=Q19,1,0) -> 0 | ... DE18: =IF($G$13>=DE19,1,0) -> 0
C19: Capital expenditure item/category (see Notice tab -cell L71) | H19: Total | J19: ='Budget Table Calculator'!$M$5 -> 2026 | K19: =+J19+1 -> 2027 | L19: =+K19+1 -> 2028 | M19: =+L19+1 -> 2029 | N19: =+M19+1 -> 2030 | O19: =+N19+1 -> 2031 | P19: =+O19+1 -> 2032 | Q19: =+P19+1 -> 2033 | R19: =+Q19+1 -> 2034 | ... DE19: =+DD19+1 -> 2125
G20: =IF(COUNTIFS(J$18:DE$18,1,J20:DE20,"*")>0,"Warning","") | H20: =+SUMPRODUCT(J$18:DE$18,J20:DE20) -> 0
G21: =IF(COUNTIFS(J$18:DE$18,1,J21:DE21,"*")>0,"Warning","") | H21: =+SUMPRODUCT(J$18:DE$18,J21:DE21) -> 0
G22: =IF(COUNTIFS(J$18:DE$18,1,J22:DE22,"*")>0,"Warning","") | H22: =+SUMPRODUCT(J$18:DE$18,J22:DE22) -> 0
G23: =IF(COUNTIFS(J$18:DE$18,1,J23:DE23,"*")>0,"Warning","") | H23: =+SUMPRODUCT(J$18:DE$18,J23:DE23) -> 0
G24: =IF(COUNTIFS(J$18:DE$18,1,J24:DE24,"*")>0,"Warning","") | H24: =+SUMPRODUCT(J$18:DE$18,J24:DE24) -> 0
G25: =IF(COUNTIFS(J$18:DE$18,1,J25:DE25,"*")>0,"Warning","") | H25: =+SUMPRODUCT(J$18:DE$18,J25:DE25) -> 0
G26: =IF(COUNTIFS(J$18:DE$18,1,J26:DE26,"*")>0,"Warning","") | H26: =+SUMPRODUCT(J$18:DE$18,J26:DE26) -> 0
G27: =IF(COUNTIFS(J$18:DE$18,1,J27:DE27,"*")>0,"Warning","") | H27: =+SUMPRODUCT(J$18:DE$18,J27:DE27) -> 0
G28: =IF(COUNTIFS(J$18:DE$18,1,J28:DE28,"*")>0,"Warning","") | H28: =+SUMPRODUCT(J$18:DE$18,J28:DE28) -> 0
G29: =IF(COUNTIFS(J$18:DE$18,1,J29:DE29,"*")>0,"Warning","") | H29: =+SUMPRODUCT(J$18:DE$18,J29:DE29) -> 0
H30: Total
G31: =IF(COUNTIFS(J$18:DE$18,1,J31:DE31,"*")>0,"Warning","") | H31: =+SUMPRODUCT(J$18:DE$18,J31:DE31) -> 0 | J31: =SUM(J20:J29) * J$18 -> 0 | K31: =SUM(K20:K29) * K$18 -> 0 | L31: =SUM(L20:L29) * L$18 -> 0 | M31: =SUM(M20:M29) * M$18 -> 0 | N31: =SUM(N20:N29) * N$18 -> 0 | O31: =SUM(O20:O29) * O$18 -> 0 | P31: =SUM(P20:P29) * P$18 -> 0 | Q31: =SUM(Q20:Q29) * Q$18 -> 0 | ... DE31: =SUM(DE20:DE29) * DE$18 -> 0
C33: Replacement costs
H34: Total | J34: ='Budget Table Calculator'!$M$5 -> 2026 | K34: =+J34+1 -> 2027 | L34: =+K34+1 -> 2028 | M34: =+L34+1 -> 2029 | N34: =+M34+1 -> 2030 | O34: =+N34+1 -> 2031 | P34: =+O34+1 -> 2032 | Q34: =+P34+1 -> 2033 | R34: =+Q34+1 -> 2034 | ... DE34: =+DD34+1 -> 2125
C35: Replacement costs | G35: =IF(OR(COUNTIFS(J$18:DE$18,1,J35:DE35,"<0")>0,COUNTIFS(J$18:DE$18,1,J35:DE35,"*")>0),"Warning","") | H35: =+SUMPRODUCT(J$18:DE$18,J35:DE35) -> 0
C38: Residual value
D39: Year | E39: =+G13 -> 2030
D40: Amount | G40: =IF(OR(ISTEXT(E40),E40<0),"Warning","")
B43: OPERATING EXPENSES
B44: =IF(COUNTIF(B47:H56,"Warning")>0,"Please Correct","Ok") -> Ok
C46: Service name | G46: Unit cost | I46: Unit of measure | J46: ='Budget Table Calculator'!$M$5 -> 2026 | K46: =J46+1 -> 2027 | L46: =K46+1 -> 2028 | M46: =L46+1 -> 2029 | N46: =M46+1 -> 2030 | O46: =N46+1 -> 2031 | P46: =O46+1 -> 2032 | Q46: =P46+1 -> 2033 | R46: =Q46+1 -> 2034 | ... DE46: =DD46+1 -> 2125
H47: =IF(OR(COUNTIFS(J$18:DE$18,1,J47:DE47,"<0")>0,COUNTIFS(J$18:DE$18,1,J47:DE47,"*")>0,ISNUMBER(I47),COUNTIF(G47,"*")>0,COUNTIF(G47,"*")>0,AND(COUNTIFS(J$18:DE$18,1,J47:DE47,">0"),ISBLANK(G47))),"Warning","")
H48: =IF(OR(COUNTIFS(J$18:DE$18,1,J48:DE48,"<0")>0,COUNTIFS(J$18:DE$18,1,J48:DE48,"*")>0,ISNUMBER(I48),COUNTIF(G48,"*")>0,COUNTIF(G48,"*")>0,AND(COUNTIFS(J$18:DE$18,1,J48:DE48,">0"),ISBLANK(G48))),"Warning","")
H49: =IF(OR(COUNTIFS(J$18:DE$18,1,J49:DE49,"<0")>0,COUNTIFS(J$18:DE$18,1,J49:DE49,"*")>0,ISNUMBER(I49),COUNTIF(G49,"*")>0,COUNTIF(G49,"*")>0,AND(COUNTIFS(J$18:DE$18,1,J49:DE49,">0"),ISBLANK(G49))),"Warning","")
H50: =IF(OR(COUNTIFS(J$18:DE$18,1,J50:DE50,"<0")>0,COUNTIFS(J$18:DE$18,1,J50:DE50,"*")>0,ISNUMBER(I50),COUNTIF(G50,"*")>0,COUNTIF(G50,"*")>0,AND(COUNTIFS(J$18:DE$18,1,J50:DE50,">0"),ISBLANK(G50))),"Warning","")
H51: =IF(OR(COUNTIFS(J$18:DE$18,1,J51:DE51,"<0")>0,COUNTIFS(J$18:DE$18,1,J51:DE51,"*")>0,ISNUMBER(I51),COUNTIF(G51,"*")>0,COUNTIF(G51,"*")>0,AND(COUNTIFS(J$18:DE$18,1,J51:DE51,">0"),ISBLANK(G51))),"Warning","")
H52: =IF(OR(COUNTIFS(J$18:DE$18,1,J52:DE52,"<0")>0,COUNTIFS(J$18:DE$18,1,J52:DE52,"*")>0,ISNUMBER(I52),COUNTIF(G52,"*")>0,COUNTIF(G52,"*")>0,AND(COUNTIFS(J$18:DE$18,1,J52:DE52,">0"),ISBLANK(G52))),"Warning","")
...

Sheet Input Sheet 7
D3: JTM - PUBLIC SECTOR LOAN FACILITY
D5: =CONCATENATE("Project Number: ","") -> Project Number: | G5: =+Project_Number -> 0
B8: =+COUNTIF(B10:B108,"Ok") -> 4
B9: MAIN ASSUMPTIONS OF THE ANALYSIS
B10: =IF(COUNTIF(I11:I13,"Warning")>0,"Please Correct","Ok") -> Ok
D11: Reference period (n of years) | G11: 5 | I11: =IF(OR(G11<0,ISTEXT(G11)),"Warning","")
D12: First year (Start of Project) | G12: ='Budget Table Calculator'!$M$5 -> 2026 | I12: =IF(OR(G12<'Budget Table Calculator'!$M$5,ISTEXT(G12)),"Warning","")
D13: Last year in the reference | G13: =+G12+G11-1 -> 2030
B15: INVESTMENT COSTS
B16: =IF(COUNTIF(B20:G40,"Warning")>0,"Please Correct","Ok") -> Ok
C17: Initial investment
J18: =IF($G$13>=J19,1,0) -> 1 | K18: =IF($G$13>=K19,1,0) -> 1 | L18: =IF($G$13>=L19,1,0) -> 1 | M18: =IF($G$13>=M19,1,0) -> 1 | N18: =IF($G$13>=N19,1,0) -> 1 | O18: =IF($G$13>=O19,1,0) -> 0 | P18: =IF($G$13>=P19,1,0) -> 0 | Q18: =IF($G$13>=Q19,1,0) -> 0 | ... DE18: =IF($G$13>=DE19,1,0) -> 0
C19: Capital expenditure item/category (see Notice Tab -cell L71) | H19: Total | J19: ='Budget Table Calculator'!$M$5 -> 2026 | K19: =+J19+1 -> 2027 | L19: =+K19+1 -> 2028 | M19: =+L19+1 -> 2029 | N19: =+M19+1 -> 2030 | O19: =+N19+1 -> 2031 | P19: =+O19+1 -> 2032 | Q19: =+P19+1 -> 2033 | R19: =+Q19+1 -> 2034 | ... DE19: =+DD19+1 -> 2125
G20: =IF(COUNTIFS(J$18:DE$18,1,J20:DE20,"*")>0,"Warning","") | H20: =+SUMPRODUCT(J$18:DE$18,J20:DE20) -> 0
G21: =IF(COUNTIFS(J$18:DE$18,1,J21:DE21,"*")>0,"Warning","") | H21: =+SUMPRODUCT(J$18:DE$18,J21:DE21) -> 0
G22: =IF(COUNTIFS(J$18:DE$18,1,J22:DE22,"*")>0,"Warning","") | H22: =+SUMPRODUCT(J$18:DE$18,J22:DE22) -> 0
G23: =IF(COUNTIFS(J$18:DE$18,1,J23:DE23,"*")>0,"Warning","") | H23: =+SUMPRODUCT(J$18:DE$18,J23:DE23) -> 0
G24: =IF(COUNTIFS(J$18:DE$18,1,J24:DE24,"*")>0,"Warning","") | H24: =+SUMPRODUCT(J$18:DE$18,J24:DE24) -> 0
G25: =IF(COUNTIFS(J$18:DE$18,1,J25:DE25,"*")>0,"Warning","") | H25: =+SUMPRODUCT(J$18:DE$18,J25:DE25) -> 0
G26: =IF(COUNTIFS(J$18:DE$18,1,J26:DE26,"*")>0,"Warning","") | H26: =+SUMPRODUCT(J$18:DE$18,J26:DE26) -> 0
G27: =IF(COUNTIFS(J$18:DE$18,1,J27:DE27,"*")>0,"Warning","") | H27: =+SUMPRODUCT(J$18:DE$18,J27:DE27) -> 0
G28: =IF(COUNTIFS(J$18:DE$18,1,J28:DE28,"*")>0,"Warning","") | H28: =+SUMPRODUCT(J$18:DE$18,J28:DE28) -> 0
G29: =IF(COUNTIFS(J$18:DE$18,1,J29:DE29,"*")>0,"Warning","") | H29: =+SUMPRODUCT(J$18:DE$18,J29:DE29) -> 0
H30: Total
G31: =IF(COUNTIFS(J$18:DE$18,1,J31:DE31,"*")>0,"Warning","") | H31: =+SUMPRODUCT(J$18:DE$18,J31:DE31) -> 0 | J31: =SUM(J20:J29) * J$18 -> 0 | K31: =SUM(K20:K29) * K$18 -> 0 | L31: =SUM(L20:L29) * L$18 -> 0 | M31: =SUM(M20:M29) * M$18 -> 0 | N31: =SUM(N20:N29) * N$18 -> 0 | O31: =SUM(O20:O29) * O$18 -> 0 | P31: =SUM(P20:P29) * P$18 -> 0 | Q31: =SUM(Q20:Q29) * Q$18 -> 0 | ... DE31: =SUM(DE20:DE29) * DE$18 -> 0
C33: Replacement costs
H34: Total | J34: ='Budget Table Calculator'!$M$5 -> 2026 | K34: =+J34+1 -> 2027 | L34: =+K34+1 -> 2028 | M34: =+L34+1 -> 2029 | N34: =+M34+1 -> 2030 | O34: =+N34+1 -> 2031 | P34: =+O34+1 -> 2032 | Q34: =+P34+1 -> 2033 | R34: =+Q34+1 -> 2034 | ... DE34: =+DD34+1 -> 2125
C35: Replacement costs | G35: =IF(OR(COUNTIFS(J$18:DE$18,1,J35:DE35,"<0")>0,COUNTIFS(J$18:DE$18,1,J35:DE35,"*")>0),"Warning","") | H35: =+SUMPRODUCT(J$18:DE$18,J35:DE35) -> 0
C38: Residual value
D39: Year | E39: =+G13 -> 2030
D40: Amount | G40: =IF(OR(ISTEXT(E40),E40<0),"Warning","")
B43: OPERATING EXPENSES
B44: =IF(COUNTIF(B47:H56,"Warning")>0,"Please Correct","Ok") -> Ok
C46: Service name | G46: Unit cost | I46: Unit of measure | J46: ='Budget Table Calculator'!$M$5 -> 2026 | K46: =J46+1 -> 2027 | L46: =K46+1 -> 2028 | M46: =L46+1 -> 2029 | N46: =M46+1 -> 2030 | O46: =N46+1 -> 2031 | P46: =O46+1 -> 2032 | Q46: =P46+1 -> 2033 | R46: =Q46+1 -> 2034 | ... DE46: =DD46+1 -> 2125
H47: =IF(OR(COUNTIFS(J$18:DE$18,1,J47:DE47,"<0")>0,COUNTIFS(J$18:DE$18,1,J47:DE47,"*")>0,ISNUMBER(I47),COUNTIF(G47,"*")>0,COUNTIF(G47,"*")>0,AND(COUNTIFS(J$18:DE$18,1,J47:DE47,">0"),ISBLANK(G47))),"Warning","")
H48: =IF(OR(COUNTIFS(J$18:DE$18,1,J48:DE48,"<0")>0,COUNTIFS(J$18:DE$18,1,J48:DE48,"*")>0,ISNUMBER(I48),COUNTIF(G48,"*")>0,COUNTIF(G48,"*")>0,AND(COUNTIFS(J$18:DE$18,1,J48:DE48,">0"),ISBLANK(G48))),"Warning","")
H49: =IF(OR(COUNTIFS(J$18:DE$18,1,J49:DE49,"<0")>0,COUNTIFS(J$18:DE$18,1,J49:DE49,"*")>0,ISNUMBER(I49),COUNTIF(G49,"*")>0,COUNTIF(G49,"*")>0,AND(COUNTIFS(J$18:DE$18,1,J49:DE49,">0"),ISBLANK(G49))),"Warning","")
H50: =IF(OR(COUNTIFS(J$18:DE$18,1,J50:DE50,"<0")>0,COUNTIFS(J$18:DE$18,1,J50:DE50,"*")>0,ISNUMBER(I50),COUNTIF(G50,"*")>0,COUNTIF(G50,"*")>0,AND(COUNTIFS(J$18:DE$18,1,J50:DE50,">0"),ISBLANK(G50))),"Warning","")
H51: =IF(OR(COUNTIFS(J$18:DE$18,1,J51:DE51,"<0")>0,COUNTIFS(J$18:DE$18,1,J51:DE51,"*")>0,ISNUMBER(I51),COUNTIF(G51,"*")>0,COUNTIF(G51,"*")>0,AND(COUNTIFS(J$18:DE$18,1,J51:DE51,">0"),ISBLANK(G51))),"Warning","")
H52: =IF(OR(COUNTIFS(J$18:DE$18,1,J52:DE52,"<0")>0,COUNTIFS(J$18:DE$18,1,J52:DE52,"*")>0,ISNUMBER(I52),COUNTIF(G52,"*")>0,COUNTIF(G52,"*")>0,AND(COUNTIFS(J$18:DE$18,1,J52:DE52,">0"),ISBLANK(G52))),"Warning","")
...

Sheet Input Sheet 8
D3: JTM - PUBLIC SECTOR LOAN FACILITY
D5: =CONCATENATE("Project Number: ","") -> Project Number: | G5: =+Project_Number -> 0
B8: =+COUNTIF(B10:B108,"Ok") -> 4
B9: MAIN ASSUMPTIONS OF THE ANALYSIS
B10: =IF(COUNTIF(I11:I13,"Warning")>0,"Please Correct","Ok") -> Ok
D11: Reference period (n of years) | G11: 5 | I11: =IF(OR(G11<0,ISTEXT(G11)),"Warning","")
D12: First year (Start of Project) | G12: ='Budget Table Calculator'!$M$5 -> 2026 | I12: =IF(OR(G12<'Budget Table Calculator'!$M$5,ISTEXT(G12)),"Warning","")
D13: Last year in the reference | G13: =+G12+G11-1 -> 2030
B15: INVESTMENT COSTS
B16: =IF(COUNTIF(B20:G40,"Warning")>0,"Please Correct","Ok") -> Ok
C17: Initial investment
J18: =IF($G$13>=J19,1,0) -> 1 | K18: =IF($G$13>=K19,1,0) -> 1 | L18: =IF($G$13>=L19,1,0) -> 1 | M18: =IF($G$13>=M19,1,0) -> 1 | N18: =IF($G$13>=N19,1,0) -> 1 | O18: =IF($G$13>=O19,1,0) -> 0 | P18: =IF($G$13>=P19,1,0) -> 0 | Q18: =IF($G$13>=Q19,1,0) -> 0 | ... DE18: =IF($G$13>=DE19,1,0) -> 0
C19: Capital expenditure item/category (see Notice tab - cell L71) | H19: Total | J19: ='Budget Table Calculator'!$M$5 -> 2026 | K19: =+J19+1 -> 2027 | L19: =+K19+1 -> 2028 | M19: =+L19+1 -> 2029 | N19: =+M19+1 -> 2030 | O19: =+N19+1 -> 2031 | P19: =+O19+1 -> 2032 | Q19: =+P19+1 -> 2033 | R19: =+Q19+1 -> 2034 | ... DE19: =+DD19+1 -> 2125
G20: =IF(COUNTIFS(J$18:DE$18,1,J20:DE20,"*")>0,"Warning","") | H20: =+SUMPRODUCT(J$18:DE$18,J20:DE20) -> 0
G21: =IF(COUNTIFS(J$18:DE$18,1,J21:DE21,"*")>0,"Warning","") | H21: =+SUMPRODUCT(J$18:DE$18,J21:DE21) -> 0
G22: =IF(COUNTIFS(J$18:DE$18,1,J22:DE22,"*")>0,"Warning","") | H22: =+SUMPRODUCT(J$18:DE$18,J22:DE22) -> 0
G23: =IF(COUNTIFS(J$18:DE$18,1,J23:DE23,"*")>0,"Warning","") | H23: =+SUMPRODUCT(J$18:DE$18,J23:DE23) -> 0
G24: =IF(COUNTIFS(J$18:DE$18,1,J24:DE24,"*")>0,"Warning","") | H24: =+SUMPRODUCT(J$18:DE$18,J24:DE24) -> 0
G25: =IF(COUNTIFS(J$18:DE$18,1,J25:DE25,"*")>0,"Warning","") | H25: =+SUMPRODUCT(J$18:DE$18,J25:DE25) -> 0
G26: =IF(COUNTIFS(J$18:DE$18,1,J26:DE26,"*")>0,"Warning","") | H26: =+SUMPRODUCT(J$18:DE$18,J26:DE26) -> 0
G27: =IF(COUNTIFS(J$18:DE$18,1,J27:DE27,"*")>0,"Warning","") | H27: =+SUMPRODUCT(J$18:DE$18,J27:DE27) -> 0
G28: =IF(COUNTIFS(J$18:DE$18,1,J28:DE28,"*")>0,"Warning","") | H28: =+SUMPRODUCT(J$18:DE$18,J28:DE28) -> 0
G29: =IF(COUNTIFS(J$18:DE$18,1,J29:DE29,"*")>0,"Warning","") | H29: =+SUMPRODUCT(J$18:DE$18,J29:DE29) -> 0
H30: Total
G31: =IF(COUNTIFS(J$18:DE$18,1,J31:DE31,"*")>0,"Warning","") | H31: =+SUMPRODUCT(J$18:DE$18,J31:DE31) -> 0 | J31: =SUM(J20:J29) * J$18 -> 0 | K31: =SUM(K20:K29) * K$18 -> 0 | L31: =SUM(L20:L29) * L$18 -> 0 | M31: =SUM(M20:M29) * M$18 -> 0 | N31: =SUM(N20:N29) * N$18 -> 0 | O31: =SUM(O20:O29) * O$18 -> 0 | P31: =SUM(P20:P29) * P$18 -> 0 | Q31: =SUM(Q20:Q29) * Q$18 -> 0 | ... DE31: =SUM(DE20:DE29) * DE$18 -> 0
C33: Replacement costs
H34: Total | J34: ='Budget Table Calculator'!$M$5 -> 2026 | K34: =+J34+1 -> 2027 | L34: =+K34+1 -> 2028 | M34: =+L34+1 -> 2029 | N34: =+M34+1 -> 2030 | O34: =+N34+1 -> 2031 | P34: =+O34+1 -> 2032 | Q34: =+P34+1 -> 2033 | R34: =+Q34+1 -> 2034 | ... DE34: =+DD34+1 -> 2125
C35: Replacement costs | G35: =IF(OR(COUNTIFS(J$18:DE$18,1,J35:DE35,"<0")>0,COUNTIFS(J$18:DE$18,1,J35:DE35,"*")>0),"Warning","") | H35: =+SUMPRODUCT(J$18:DE$18,J35:DE35) -> 0
C38: Residual value
D39: Year | E39: =+G13 -> 2030
D40: Amount | G40: =IF(OR(ISTEXT(E40),E40<0),"Warning","")
B43: OPERATING EXPENSES
B44: =IF(COUNTIF(B47:H56,"Warning")>0,"Please Correct","Ok") -> Ok
C46: Service name | G46: Unit cost | I46: Unit of measure | J46: ='Budget Table Calculator'!$M$5 -> 2026 | K46: =J46+1 -> 2027 | L46: =K46+1 -> 2028 | M46: =L46+1 -> 2029 | N46: =M46+1 -> 2030 | O46: =N46+1 -> 2031 | P46: =O46+1 -> 2032 | Q46: =P46+1 -> 2033 | R46: =Q46+1 -> 2034 | ... DE46: =DD46+1 -> 2125
H47: =IF(OR(COUNTIFS(J$18:DE$18,1,J47:DE47,"<0")>0,COUNTIFS(J$18:DE$18,1,J47:DE47,"*")>0,ISNUMBER(I47),COUNTIF(G47,"*")>0,COUNTIF(G47,"*")>0,AND(COUNTIFS(J$18:DE$18,1,J47:DE47,">0"),ISBLANK(G47))),"Warning","")
H48: =IF(OR(COUNTIFS(J$18:DE$18,1,J48:DE48,"<0")>0,COUNTIFS(J$18:DE$18,1,J48:DE48,"*")>0,ISNUMBER(I48),COUNTIF(G48,"*")>0,COUNTIF(G48,"*")>0,AND(COUNTIFS(J$18:DE$18,1,J48:DE48,">0"),ISBLANK(G48))),"Warning","")
H49: =IF(OR(COUNTIFS(J$18:DE$18,1,J49:DE49,"<0")>0,COUNTIFS(J$18:DE$18,1,J49:DE49,"*")>0,ISNUMBER(I49),COUNTIF(G49,"*")>0,COUNTIF(G49,"*")>0,AND(COUNTIFS(J$18:DE$18,1,J49:DE49,">0"),ISBLANK(G49))),"Warning","")
H50: =IF(OR(COUNTIFS(J$18:DE$18,1,J50:DE50,"<0")>0,COUNTIFS(J$18:DE$18,1,J50:DE50,"*")>0,ISNUMBER(I50),COUNTIF(G50,"*")>0,COUNTIF(G50,"*")>0,AND(COUNTIFS(J$18:DE$18,1,J50:DE50,">0"),ISBLANK(G50))),"Warning","")
H51: =IF(OR(COUNTIFS(J$18:DE$18,1,J51:DE51,"<0")>0,COUNTIFS(J$18:DE$18,1,J51:DE51,"*")>0,ISNUMBER(I51),COUNTIF(G51,"*")>0,COUNTIF(G51,"*")>0,AND(COUNTIFS(J$18:DE$18,1,J51:DE51,">0"),ISBLANK(G51))),"Warning","")
H52: =IF(OR(COUNTIFS(J$18:DE$18,1,J52:DE52,"<0")>0,COUNTIFS(J$18:DE$18,1,J52:DE52,"*")>0,ISNUMBER(I52),COUNTIF(G52,"*")>0,COUNTIF(G52,"*")>0,AND(COUNTIFS(J$18:DE$18,1,J52:DE52,">0"),ISBLANK(G52))),"Warning","")
...

Sheet Input Sheet 9
D3: JTM - PUBLIC SECTOR LOAN FACILITY
D5: =CONCATENATE("Project Number: ","") -> Project Number: | G5: =+Project_Number -> 0
B8: =+COUNTIF(B10:B108,"Ok") -> 4
B9: MAIN ASSUMPTIONS OF THE ANALYSIS
B10: =IF(COUNTIF(I11:I13,"Warning")>0,"Please Correct","Ok") -> Ok
D11: Reference period (n of years) | G11: 5 | I11: =IF(OR(G11<0,ISTEXT(G11)),"Warning","")
D12: First year (Start of Project) | G12: ='Budget Table Calculator'!$M$5 -> 2026 | I12: =IF(OR(G12<'Budget Table Calculator'!$M$5,ISTEXT(G12)),"Warning","")
D13: Last year in the reference | G13: =+G12+G11-1 -> 2030
B15: INVESTMENT COSTS
B16: =IF(COUNTIF(B20:G40,"Warning")>0,"Please Correct","Ok") -> Ok
C17: Initial investment
J18: =IF($G$13>=J19,1,0) -> 1 | K18: =IF($G$13>=K19,1,0) -> 1 | L18: =IF($G$13>=L19,1,0) -> 1 | M18: =IF($G$13>=M19,1,0) -> 1 | N18: =IF($G$13>=N19,1,0) -> 1 | O18: =IF($G$13>=O19,1,0) -> 0 | P18: =IF($G$13>=P19,1,0) -> 0 | Q18: =IF($G$13>=Q19,1,0) -> 0 | ... DE18: =IF($G$13>=DE19,1,0) -> 0
C19: Capital expenditure item/category (see Notice tab -cell L71) | H19: Total | J19: ='Budget Table Calculator'!$M$5 -> 2026 | K19: =+J19+1 -> 2027 | L19: =+K19+1 -> 2028 | M19: =+L19+1 -> 2029 | N19: =+M19+1 -> 2030 | O19: =+N19+1 -> 2031 | P19: =+O19+1 -> 2032 | Q19: =+P19+1 -> 2033 | R19: =+Q19+1 -> 2034 | ... DE19: =+DD19+1 -> 2125
G20: =IF(COUNTIFS(J$18:DE$18,1,J20:DE20,"*")>0,"Warning","") | H20: =+SUMPRODUCT(J$18:DE$18,J20:DE20) -> 0
G21: =IF(COUNTIFS(J$18:DE$18,1,J21:DE21,"*")>0,"Warning","") | H21: =+SUMPRODUCT(J$18:DE$18,J21:DE21) -> 0
G22: =IF(COUNTIFS(J$18:DE$18,1,J22:DE22,"*")>0,"Warning","") | H22: =+SUMPRODUCT(J$18:DE$18,J22:DE22) -> 0
G23: =IF(COUNTIFS(J$18:DE$18,1,J23:DE23,"*")>0,"Warning","") | H23: =+SUMPRODUCT(J$18:DE$18,J23:DE23) -> 0
G24: =IF(COUNTIFS(J$18:DE$18,1,J24:DE24,"*")>0,"Warning","") | H24: =+SUMPRODUCT(J$18:DE$18,J24:DE24) -> 0
G25: =IF(COUNTIFS(J$18:DE$18,1,J25:DE25,"*")>0,"Warning","") | H25: =+SUMPRODUCT(J$18:DE$18,J25:DE25) -> 0
G26: =IF(COUNTIFS(J$18:DE$18,1,J26:DE26,"*")>0,"Warning","") | H26: =+SUMPRODUCT(J$18:DE$18,J26:DE26) -> 0
G27: =IF(COUNTIFS(J$18:DE$18,1,J27:DE27,"*")>0,"Warning","") | H27: =+SUMPRODUCT(J$18:DE$18,J27:DE27) -> 0
G28: =IF(COUNTIFS(J$18:DE$18,1,J28:DE28,"*")>0,"Warning","") | H28: =+SUMPRODUCT(J$18:DE$18,J28:DE28) -> 0
G29: =IF(COUNTIFS(J$18:DE$18,1,J29:DE29,"*")>0,"Warning","") | H29: =+SUMPRODUCT(J$18:DE$18,J29:DE29) -> 0
H30: Total
G31: =IF(COUNTIFS(J$18:DE$18,1,J31:DE31,"*")>0,"Warning","") | H31: =+SUMPRODUCT(J$18:DE$18,J31:DE31) -> 0 | J31: =SUM(J20:J29) * J$18 -> 0 | K31: =SUM(K20:K29) * K$18 -> 0 | L31: =SUM(L20:L29) * L$18 -> 0 | M31: =SUM(M20:M29) * M$18 -> 0 | N31: =SUM(N20:N29) * N$18 -> 0 | O31: =SUM(O20:O29) * O$18 -> 0 | P31: =SUM(P20:P29) * P$18 -> 0 | Q31: =SUM(Q20:Q29) * Q$18 -> 0 | ... DE31: =SUM(DE20:DE29) * DE$18 -> 0
C33: Replacement costs
H34: Total | J34: ='Budget Table Calculator'!$M$5 -> 2026 | K34: =+J34+1 -> 2027 | L34: =+K34+1 -> 2028 | M34: =+L34+1 -> 2029 | N34: =+M34+1 -> 2030 | O34: =+N34+1 -> 2031 | P34: =+O34+1 -> 2032 | Q34: =+P34+1 -> 2033 | R34: =+Q34+1 -> 2034 | ... DE34: =+DD34+1 -> 2125
C35: Replacement costs | G35: =IF(OR(COUNTIFS(J$18:DE$18,1,J35:DE35,"<0")>0,COUNTIFS(J$18:DE$18,1,J35:DE35,"*")>0),"Warning","") | H35: =+SUMPRODUCT(J$18:DE$18,J35:DE35) -> 0
C38: Residual value
D39: Year | E39: =+G13 -> 2030
D40: Amount | G40: =IF(OR(ISTEXT(E40),E40<0),"Warning","")
B43: OPERATING EXPENSES
B44: =IF(COUNTIF(B47:H56,"Warning")>0,"Please Correct","Ok") -> Ok
C46: Service name | G46: Unit cost | I46: Unit of measure | J46: ='Budget Table Calculator'!$M$5 -> 2026 | K46: =J46+1 -> 2027 | L46: =K46+1 -> 2028 | M46: =L46+1 -> 2029 | N46: =M46+1 -> 2030 | O46: =N46+1 -> 2031 | P46: =O46+1 -> 2032 | Q46: =P46+1 -> 2033 | R46: =Q46+1 -> 2034 | ... DE46: =DD46+1 -> 2125
H47: =IF(OR(COUNTIFS(J$18:DE$18,1,J47:DE47,"<0")>0,COUNTIFS(J$18:DE$18,1,J47:DE47,"*")>0,ISNUMBER(I47),COUNTIF(G47,"*")>0,COUNTIF(G47,"*")>0,AND(COUNTIFS(J$18:DE$18,1,J47:DE47,">0"),ISBLANK(G47))),"Warning","")
H48: =IF(OR(COUNTIFS(J$18:DE$18,1,J48:DE48,"<0")>0,COUNTIFS(J$18:DE$18,1,J48:DE48,"*")>0,ISNUMBER(I48),COUNTIF(G48,"*")>0,COUNTIF(G48,"*")>0,AND(COUNTIFS(J$18:DE$18,1,J48:DE48,">0"),ISBLANK(G48))),"Warning","")
H49: =IF(OR(COUNTIFS(J$18:DE$18,1,J49:DE49,"<0")>0,COUNTIFS(J$18:DE$18,1,J49:DE49,"*")>0,ISNUMBER(I49),COUNTIF(G49,"*")>0,COUNTIF(G49,"*")>0,AND(COUNTIFS(J$18:DE$18,1,J49:DE49,">0"),ISBLANK(G49))),"Warning","")
H50: =IF(OR(COUNTIFS(J$18:DE$18,1,J50:DE50,"<0")>0,COUNTIFS(J$18:DE$18,1,J50:DE50,"*")>0,ISNUMBER(I50),COUNTIF(G50,"*")>0,COUNTIF(G50,"*")>0,AND(COUNTIFS(J$18:DE$18,1,J50:DE50,">0"),ISBLANK(G50))),"Warning","")
H51: =IF(OR(COUNTIFS(J$18:DE$18,1,J51:DE51,"<0")>0,COUNTIFS(J$18:DE$18,1,J51:DE51,"*")>0,ISNUMBER(I51),COUNTIF(G51,"*")>0,COUNTIF(G51,"*")>0,AND(COUNTIFS(J$18:DE$18,1,J51:DE51,">0"),ISBLANK(G51))),"Warning","")
H52: =IF(OR(COUNTIFS(J$18:DE$18,1,J52:DE52,"<0")>0,COUNTIFS(J$18:DE$18,1,J52:DE52,"*")>0,ISNUMBER(I52),COUNTIF(G52,"*")>0,COUNTIF(G52,"*")>0,AND(COUNTIFS(J$18:DE$18,1,J52:DE52,">0"),ISBLANK(G52))),"Warning","")
...

Sheet Input Sheet 10
D3: JTM - PUBLIC SECTOR LOAN FACILITY
D5: =CONCATENATE("Project Number: ","") -> Project Number: | G5: =+Project_Number -> 0
B8: =+COUNTIF(B10:B108,"Ok") -> 4
B9: MAIN ASSUMPTIONS OF THE ANALYSIS
B10: =IF(COUNTIF(I11:I13,"Warning")>0,"Please Correct","Ok") -> Ok
D11: Reference period (n of years) | G11: 5 | I11: =IF(OR(G11<0,ISTEXT(G11)),"Warning","")
D12: First year (Start of Project) | G12: ='Budget Table Calculator'!$M$5 -> 2026 | I12: =IF(OR(G12<'Budget Table Calculator'!$M$5,ISTEXT(G12)),"Warning","")
D13: Last year in the reference | G13: =+G12+G11-1 -> 2030
B15: INVESTMENT COSTS
B16: =IF(COUNTIF(B20:G40,"Warning")>0,"Please Correct","Ok") -> Ok
C17: Initial investment
J18: =IF($G$13>=J19,1,0) -> 1 | K18: =IF($G$13>=K19,1,0) -> 1 | L18: =IF($G$13>=L19,1,0) -> 1 | M18: =IF($G$13>=M19,1,0) -> 1 | N18: =IF($G$13>=N19,1,0) -> 1 | O18: =IF($G$13>=O19,1,0) -> 0 | P18: =IF($G$13>=P19,1,0) -> 0 | Q18: =IF($G$13>=Q19,1,0) -> 0 | ... DE18: =IF($G$13>=DE19,1,0) -> 0
C19: Capital expenditure item/category (see Notice tab - cell L71) | H19: Total | J19: ='Budget Table Calculator'!$M$5 -> 2026 | K19: =+J19+1 -> 2027 | L19: =+K19+1 -> 2028 | M19: =+L19+1 -> 2029 | N19: =+M19+1 -> 2030 | O19: =+N19+1 -> 2031 | P19: =+O19+1 -> 2032 | Q19: =+P19+1 -> 2033 | R19: =+Q19+1 -> 2034 | ... DE19: =+DD19+1 -> 2125
G20: =IF(COUNTIFS(J$18:DE$18,1,J20:DE20,"*")>0,"Warning","") | H20: =+SUMPRODUCT(J$18:DE$18,J20:DE20) -> 0
G21: =IF(COUNTIFS(J$18:DE$18,1,J21:DE21,"*")>0,"Warning","") | H21: =+SUMPRODUCT(J$18:DE$18,J21:DE21) -> 0
G22: =IF(COUNTIFS(J$18:DE$18,1,J22:DE22,"*")>0,"Warning","") | H22: =+SUMPRODUCT(J$18:DE$18,J22:DE22) -> 0
G23: =IF(COUNTIFS(J$18:DE$18,1,J23:DE23,"*")>0,"Warning","") | H23: =+SUMPRODUCT(J$18:DE$18,J23:DE23) -> 0
G24: =IF(COUNTIFS(J$18:DE$18,1,J24:DE24,"*")>0,"Warning","") | H24: =+SUMPRODUCT(J$18:DE$18,J24:DE24) -> 0
G25: =IF(COUNTIFS(J$18:DE$18,1,J25:DE25,"*")>0,"Warning","") | H25: =+SUMPRODUCT(J$18:DE$18,J25:DE25) -> 0
G26: =IF(COUNTIFS(J$18:DE$18,1,J26:DE26,"*")>0,"Warning","") | H26: =+SUMPRODUCT(J$18:DE$18,J26:DE26) -> 0
G27: =IF(COUNTIFS(J$18:DE$18,1,J27:DE27,"*")>0,"Warning","") | H27: =+SUMPRODUCT(J$18:DE$18,J27:DE27) -> 0
G28: =IF(COUNTIFS(J$18:DE$18,1,J28:DE28,"*")>0,"Warning","") | H28: =+SUMPRODUCT(J$18:DE$18,J28:DE28) -> 0
G29: =IF(COUNTIFS(J$18:DE$18,1,J29:DE29,"*")>0,"Warning","") | H29: =+SUMPRODUCT(J$18:DE$18,J29:DE29) -> 0
H30: Total
G31: =IF(COUNTIFS(J$18:DE$18,1,J31:DE31,"*")>0,"Warning","") | H31: =+SUMPRODUCT(J$18:DE$18,J31:DE31) -> 0 | J31: =SUM(J20:J29) * J$18 -> 0 | K31: =SUM(K20:K29) * K$18 -> 0 | L31: =SUM(L20:L29) * L$18 -> 0 | M31: =SUM(M20:M29) * M$18 -> 0 | N31: =SUM(N20:N29) * N$18 -> 0 | O31: =SUM(O20:O29) * O$18 -> 0 | P31: =SUM(P20:P29) * P$18 -> 0 | Q31: =SUM(Q20:Q29) * Q$18 -> 0 | ... DE31: =SUM(DE20:DE29) * DE$18 -> 0
C33: Replacement costs
H34: Total | J34: ='Budget Table Calculator'!$M$5 -> 2026 | K34: =+J34+1 -> 2027 | L34: =+K34+1 -> 2028 | M34: =+L34+1 -> 2029 | N34: =+M34+1 -> 2030 | O34: =+N34+1 -> 2031 | P34: =+O34+1 -> 2032 | Q34: =+P34+1 -> 2033 | R34: =+Q34+1 -> 2034 | ... DE34: =+DD34+1 -> 2125
C35: Replacement costs | G35: =IF(OR(COUNTIFS(J$18:DE$18,1,J35:DE35,"<0")>0,COUNTIFS(J$18:DE$18,1,J35:DE35,"*")>0),"Warning","") | H35: =+SUMPRODUCT(J$18:DE$18,J35:DE35) -> 0
C38: Residual value
D39: Year | E39: =+G13 -> 2030
D40: Amount | G40: =IF(OR(ISTEXT(E40),E40<0),"Warning","")
B43: OPERATING EXPENSES
B44: =IF(COUNTIF(B47:H56,"Warning")>0,"Please Correct","Ok") -> Ok
C46: Service name | G46: Unit cost | I46: Unit of measure | J46: ='Budget Table Calculator'!$M$5 -> 2026 | K46: =J46+1 -> 2027 | L46: =K46+1 -> 2028 | M46: =L46+1 -> 2029 | N46: =M46+1 -> 2030 | O46: =N46+1 -> 2031 | P46: =O46+1 -> 2032 | Q46: =P46+1 -> 2033 | R46: =Q46+1 -> 2034 | ... DE46: =DD46+1 -> 2125
H47: =IF(OR(COUNTIFS(J$18:DE$18,1,J47:DE47,"<0")>0,COUNTIFS(J$18:DE$18,1,J47:DE47,"*")>0,ISNUMBER(I47),COUNTIF(G47,"*")>0,COUNTIF(G47,"*")>0,AND(COUNTIFS(J$18:DE$18,1,J47:DE47,">0"),ISBLANK(G47))),"Warning","")
H48: =IF(OR(COUNTIFS(J$18:DE$18,1,J48:DE48,"<0")>0,COUNTIFS(J$18:DE$18,1,J48:DE48,"*")>0,ISNUMBER(I48),COUNTIF(G48,"*")>0,COUNTIF(G48,"*")>0,AND(COUNTIFS(J$18:DE$18,1,J48:DE48,">0"),ISBLANK(G48))),"Warning","")
H49: =IF(OR(COUNTIFS(J$18:DE$18,1,J49:DE49,"<0")>0,COUNTIFS(J$18:DE$18,1,J49:DE49,"*")>0,ISNUMBER(I49),COUNTIF(G49,"*")>0,COUNTIF(G49,"*")>0,AND(COUNTIFS(J$18:DE$18,1,J49:DE49,">0"),ISBLANK(G49))),"Warning","")
H50: =IF(OR(COUNTIFS(J$18:DE$18,1,J50:DE50,"<0")>0,COUNTIFS(J$18:DE$18,1,J50:DE50,"*")>0,ISNUMBER(I50),COUNTIF(G50,"*")>0,COUNTIF(G50,"*")>0,AND(COUNTIFS(J$18:DE$18,1,J50:DE50,">0"),ISBLANK(G50))),"Warning","")
H51: =IF(OR(COUNTIFS(J$18:DE$18,1,J51:DE51,"<0")>0,COUNTIFS(J$18:DE$18,1,J51:DE51,"*")>0,ISNUMBER(I51),COUNTIF(G51,"*")>0,COUNTIF(G51,"*")>0,AND(COUNTIFS(J$18:DE$18,1,J51:DE51,">0"),ISBLANK(G51))),"Warning","")
H52: =IF(OR(COUNTIFS(J$18:DE$18,1,J52:DE52,"<0")>0,COUNTIFS(J$18:DE$18,1,J52:DE52,"*")>0,ISNUMBER(I52),COUNTIF(G52,"*")>0,COUNTIF(G52,"*")>0,AND(COUNTIFS(J$18:DE$18,1,J52:DE52,">0"),ISBLANK(G52))),"Warning","")
...

Sheet Input Sheet 11
D3: JTM - PUBLIC SECTOR LOAN FACILITY
D5: =CONCATENATE("Project Number: ","") -> Project Number: | G5: =+Project_Number -> 0
B8: =+COUNTIF(B10:B108,"Ok") -> 4
B9: MAIN ASSUMPTIONS OF THE ANALYSIS
B10: =IF(COUNTIF(I11:I13,"Warning")>0,"Please Correct","Ok") -> Ok
