Workbook

Sheet ŽoP
A2: ŽIADOSŤ O PLATBU - výdavky súvisiace s pracovnou pozíciou 1 (Modernizačný fond)
A3: A.1 Identifikácia Projektu (v zmysle uzatvorenej Zmluvy)
A4: Kód Výzvy | H4: MoF - 2/2024
A5: Číslo Zmluvy o poskytnutí podpory z Environmentálneho fondu formou dotácie z prostriedkov Modernizačného fondu
A6: Kód Projektu
A7: Názov Projektu
A8: Typ Aktivity | H8: Voľba
A10: A.2 Identifikácia Príjemcu (v zmysle uzatvorenej Zmluvy)
A11: Názov
A12: Sídlo
A13: IČO
A14: IBAN Dotačného účtu
A15: Kontaktná osoba (splnomocnenec) | P15: Voľba
A16: Tel. kontaktná osoba (splnomocnenec) | P16: F1
A17: E-mail kontaktná osoba (splnomocnec) | P17: F2
P18: F3
A19: A.3 Identifikácia Žiadosti o platbu | V19: Vyberte Typ žiadosti
A20: Poradové číslo | P20: Voľba | R20: Voľba | V20: Poskytnutie predfinancovania
A21: Typ žiadosti | H21: Voľba | P21: Poskytnutie predfinancovania | R21: áno | V21: Zúčtovanie predfinancovania
A22: Záverečná Žiadosť o platbu | H22: Voľba | P22: Zúčtovanie predfinancovania | R22: nie | V22: Refundácia
P23: Refundácia
A24: A.4 Zoznam deklarovaných nákladov | P24: Voľba
A25: P. č. | B25: Názov položky | F25: Č. účto. dokladu | G25: Dátum úhrady | H25: Dátum dodania | I25: Skupina nákladov | J25: Členenie nákladov podľa účtovného dokladu | L25: Suma deklarovaná Príjemcom | P25: áno
J26: Suma bez DPH (v EUR) | L26: Nežiadaná suma (v EUR) | M26: Nárokovaná suma (oprávnené náklady) (v EUR) | O26: nie | P26: nie
A27: 1
A28: 2
A29: 3
A30: n
A31: Spolu | J31: =SUM(J27:K30) -> 0 | L31: =SUM(L27:L30) -> 0 | M31: =SUM(M27:N30) -> 0
A33: A.5 Osobné výdavky (TPP /Dohoda) | Z33: Voľba
A34: P.č. | B34: Názov výdavku | F34: Skupina výdavkov | H34: Merná jednotka | J34: Počet jednotiek | K34: Jednotková cena (v EUR) | L34: Výdavky celkom (v EUR) | M34: Oprávnený výdavok (v EUR) | Z34: 112 - Zásoby
A35: 1 | F35: 521 | H35: osobohodina | L35: =J35*K35 -> 0 | Z35: 013 - Softvér
A36: 2 | F36: 521 | H36: osobohodina | L36: =J36*K36 -> 0 | Z36: 021 - Samostatné hnuteľné veci
A37: 3 | F37: 521 | H37: osobohodina | L37: =J37*K37 -> 0 | Z37: 022 - Samostatné hnuteľné veci a súbory hnuteľných vecí
A38: 4 | F38: 521 | H38: osobohodina | L38: =J38*K38 -> 0
A39: 5 | F39: 521 | H39: osobohodina | L39: =J39*K39 -> 0
A40: Spolu | J40: =SUM(J35:J39) -> 0 | K40: 0 | L40: =SUM(L35:L39) -> 0 | M40: =SUM(M35:N39) -> 0
A42: A.6 Podiel Príjemcu (spolufinancovanie)
A43: P.č. | B43: Názov výdavku | F43: Výška v % | H43: Výška v EUR
A44: 1 | B44: =B35 -> 0 | H44: =F44*M35 -> 0
A45: 2 | B45: =B36 -> 0 | H45: =F45*M36 -> 0
A46: 3 | B46: =B37 -> 0 | H46: =F46*M37 -> 0
A47: 4 | B47: =B38 -> 0 | H47: =F47*M38 -> 0
A48: 5 | B48: =B39 -> 0 | H48: =F48*M39 -> 0
A49: Spolu | F49: x | H49: =ROUND(H44+H45+H46+H47+H48,2) -> 0
Q50: Typ ÚD | T50: interný
A51: A.7 Zoznam Účtovných dokladov | T51: externý
A52: P. č. | B52: Názov dokladu | F52: Číslo Účtovného dokladu | K52: Identifikátor Dodávateľa /číslo zamestnanca | M52: Číslo zmluvy s Dodávateľom / Pracovná zmluva /Dohoda
A53: 1
A54: 2
A55: 3
A56: 4
A58: A.8 Zoznam všeobecných príloh
A59: P. č. | D59: Názov prílohy
A60: 1
A61: 2
A62: 3
A64: A.9 Čestné vyhlásenie Príjemcu
A65: Ako Príjemca čestne vyhlasujem, že: 1. nárokovaná suma zodpovedá údajom uvedeným v Účtovných dokladoch, je matematicky správna a vychádza z účtovníctva týkajúceho sa Projektu; 2. nárokované finančné prostriedky / deklarované náklady sú oprávnené a boli skutočne realizované v súlade s ustanoveniami Zmluvy; 3. k nárokovaným finančným prostriedkom/ deklarovaným nákladom existuje overiteľná podporná dokumentácia, pričom originály dokumentácie k platbe definované v zozname príloh sú v mojej držbe, podpísané a prístupné pre účely auditu a kontroly; 4. nárokované finančné prostriedky / deklarované náklady sú v súlade s právnymi predpismi EÚ a SR; 5. požiadavky na informovanie verejnosti boli dodržané v súlade s ustanoveniami Zmluvy. Som si vedomý skutočnosti, že v prípade nesplnenia podmienok Zmluvy alebo v prípade nesprávne nárokovaných finančných prostriedkov / deklarovaných nákladov v tejto Žiadosti o platbu je možné, že Dotácia nebude vyplatená, bude upravená alebo bude vyžiadané vrátenie neoprávnene vyplatených finančných prostriedkov.
A67: Meno a priezvisko štatutárneho zástupcu Príjemcu/ splnomocnená osoba:2
A70: Podpis | I70: Dátum
A71: 1 Neoddeliteľnou súčasťou Žiadosti o platbu je Priebežná monitorovacia správa zverejnená na webovom sídle Fondu 2 Nehodiace preškrtnúť

Sheet Vypocet_limity
A1: Názov Projektu: | C1: =ŽoP!H7 -> 0
A2: Kód Projektu: | C2: =ŽoP!H6 -> 0
A3: Názov Príjemcu: | C3: =ŽoP!H11 -> 0
A4: IČO: | C4: =ŽoP!H13 -> 0
A5: Číslo Zmluvy: | C5: =ŽoP!H5 -> 0
A6: Celkové oprávnené výdavky projektu | J6: Uveďťe sumu
A7: Celkové oprávnené výdavky na stavebné práce | J7: Uveďťe sumu
A9: Účel platby:
A10: Týmto žiadame o refundáciu alebo pri službách dodávateľsky možnosť aj predfinancovanie personálnych výdavkov súvisiacich s realizáciou a riadením vyššie uvedeného projektu v zmysle platných pravidiel a limitov pre oprávnené výdavky.
A14: A. Administratívny (riadiaci) personál súvisiaci s riadením projektu
A15: Funkcia | C15: Forma zmluvného vzťahu | E15: Počet hodín | F15: Hodinová sadzba (€)* | H15: Výška výdavku (€)
A16: Projektový manažér | C16: ZP (TPP+dohoda) | F16: 23 | H16: =E16*F16 -> 0
A17: Projektový manažér | C17: Dodávateľská služba | F17: 33 | H17: =E17*F17 -> 0
A18: Finančný manažér | C18: ZP (TPP+dohoda) | F18: 21 | H18: =E18*F18 -> 0
A19: Finančný manažér | C19: Dodávateľská služba | F19: 31 | H19: =E19*F19 -> 0
A20: Spolu žiadané | H20: =H16+H19+H17+H18 -> 0
A21: Nárok | B21: 0.05 | C21: =E6*0.05 -> 0 | D21: Vyčerpané | E21: =H20+H21 -> 0 | F21: Už čerpané
A22: Zostatok | B22: =C21-E21-H21 -> 0 | D22: =IF(B22<0,"žiadaná suma presahuje celkovú nárokovateľnú sumu","je možné preplatiť náklady") -> je možné preplatiť náklady
A24: B. Personál súvisiaci so stavebnými prácami
A25: Funkcia | C25: Forma zmluvného vzťahu | E25: Počet hodín | F25: Hodinová sadzba (€)* | H25: Výška výdavku (€)
A26: Stavebný dozor | C26: ZP (TPP+dohoda) | F26: 23 | H26: =F26*E26 -> 0
A27: Stavebný dozor | C27: Dodávateľská služba | H27: =E27 -> 0
A28: Spolu žiadané | H28: =H26+H27 -> 0
A29: Nárok | B29: 0.025 | C29: =E7*B29 -> 0 | D29: Vyčerpané | E29: =H28+C24 -> 0 | F29: Už čerpané
A30: Zostatok | B30: =C29-E29-H29 -> 0 | D30: =IF(B30<0,"žiadaná suma presahuje celkovú nárokovateľnú sumu","je možné preplatiť náklady") -> je možné preplatiť náklady
A32: Funkcia | C32: Forma zmluvného vzťahu | E32: Počet hodín | F32: Hodinová sadzba (€)* | H32: Výška výdavku (€)
A33: Odborný aut. dohľad | C33: ZP (TPP+dohoda) | F33: 21 | H33: =F33*E33 -> 0
A34: Odborný aut. dohľad | C34: Dodávateľská služba | H34: =E34 -> 0
A35: Spolu žiadané | H35: =H33+H34 -> 0
A36: Nárok | B36: 0.015 | C36: =E7*B36 -> 0 | D36: Vyčerpané | E36: =H35+C30 -> 0 | F36: Už čerpané
A37: Zostatok | B37: =C36-E36-H36 -> 0 | D37: =IF(B37<0,"žiadaná suma presahuje celkovú nárokovateľnú sumu","je možné preplatiť náklady") -> je možné preplatiť náklady
A38: *celkové náklady na zamestnanca vrátane odvodov za zamestnávateľa
B39: žiadateľ vypĺňa len šedé rámčeky !!!
A41: Vyhlásenie Príjemcu
A42: Týmto vyhlasujem, že všetky uvedené údaje sú pravdivé, výdavky sú oprávnené, boli preukázateľne vynaložené v súlade s pravidlami projektu a Zmluvou a zodpovedajú nastaveným limitom.
A45: Prílohy:
A46: Podľa Príručky pre Príjemcu (personálne výdavky)
A48: Skratky:
A49: ZP: | B49: Zákonník práce
A50: TPP: | B50: Trvalý pracovný pomer
A51: Dohoda: | B51: Dohoda o práci vykonanej mimo pracovného pomeru
A52: Dodávateľská služba | C52: Služby zabezpečené dodávateľským spôsobom
A54: Poznámka: všetky percentuálne limity sú v tabuľkách uvedené do ich max. výšky. V rámci interných zamestnancov je pracovný fond max. 160 hod/mesiac
A55: Poznámka: pri prvej žiadosti o platbu do riadku 21, 29, 36 pri informácií "Už čerpané" zadajte hodnotu 0

Sheet AFK ŽoP
H1: Prí | I1: Príloha k žiadosti o platbu
B4: Zoznam deklarovaných nákladov
B6: Zoznam deklarovaných nákladov | H6: AFK ŽoP
B7: P. č. | C7: Členenie nákladu podľa účtovného dokladu | F7: Suma deklarovaná Príjemcom | H7: Suma schválená Environmentálnym fondom
C8: Výška nákladu bez DPH (v EUR) | D8: DPH (v EUR) | E8: Spolu (v EUR) | F8: Suma nežiadaná na preplatenie (v EUR) | G8: Nárokovaná suma (oprávnené náklady (v EUR) | H8: Suma deklarovaných nákladov uznaná Fondom (v EUR) | I8: Dôvod krátenia Oprávneného nákladu
B9: 1 | C9: 0 | D9: 0 | E9: =SUM(C9:D9) -> 0 | F9: 0 | G9: =E9-F9 -> 0
B10: 2 | C10: 0 | D10: 0 | E10: =SUM(C10:D10) -> 0 | F10: =ŽoP!K28 -> 0 | G10: =E10-F10 -> 0
B11: 3 | C11: =ŽoP!#REF! -> #REF! | D11: =ŽoP!#REF! -> #REF! | E11: =SUM(C11:D11) -> #REF! | F11: =ŽoP!#REF! -> #REF! | G11: =E11-F11 -> #REF!
B12: 4 | C12: =ŽoP!#REF! -> #REF! | D12: =ŽoP!#REF! -> #REF! | E12: =SUM(C12:D12) -> #REF! | F12: =ŽoP!#REF! -> #REF! | G12: =E12-F12 -> #REF!
B13: 5 | C13: =ŽoP!#REF! -> #REF! | D13: =ŽoP!#REF! -> #REF! | E13: =SUM(C13:D13) -> #REF! | F13: =ŽoP!#REF! -> #REF! | G13: =E13-F13 -> #REF!
B14: Spolu | C14: =SUM(C9:C13) -> #REF! | D14: =SUM(D9:D13) -> #REF! | E14: =SUM(E9:E13) -> #REF! | F14: =SUM(F9:F13) -> #REF! | G14: =SUM(G9:G13) -> #REF! | H14: =SUM(H9:H13) -> 0

Sheet Hárok1
A4: áno
A5: nie
A7: Poskytnutie predfinancovania
A8: Zúčtovanie predfinancovania
A9: Refundácia
A11: 112 - Zásoby
A12: 013 - Softvér
A13: 021 - Stavby
A14: 022 - Samostatné hnuteľné veci a súbory hnuteľných vecí

Sheet Hárok2
