Workbook
Name _ftn1: 'Osobitná dokumentácia'!$A$26
Name _ftn2: 'Osobitná dokumentácia'!$A$27
Name _ftn3: 'Osobitná dokumentácia'!$A$28
Name _ftn4: 'Osobitná dokumentácia'!$A$29
Name _ftnref1: 'Osobitná dokumentácia'!$A$4
Name _ftnref2: 'Osobitná dokumentácia'!$A$6
Name _ftnref3: 'Osobitná dokumentácia'!$A$15
Name _ftnref4: 'Osobitná dokumentácia'!$A$17
Name _Hlk208231182: 'Osobitná dokumentácia'!$A$1
Name _Hlk208231277: 'Osobitná dokumentácia'!$A$23

Sheet ŽoP
A2: ŽIADOSŤ O PLATBU - výdavky súvisiace s pracovnou pozíciou 1 (Modernizačný fond)
A3: A.1 Identifikácia Projektu (v zmysle uzatvorenej Zmluvy)
A4: Kód Výzvy | H4: MoF-3/2025
A5: Číslo Zmluvy o poskytnutí podpory z Environmentálneho fondu formou dotácie z prostriedkov Modernizačného fondu
A6: Kód Projektu
A7: Názov Projektu
A8: Typ Aktivity
A10: A.2 Identifikácia Príjemcu (v zmysle uzatvorenej Zmluvy)
A11: Názov
A12: Sídlo
A13: IČO
A14: IBAN Dotačného účtu
A15: Kontaktná osoba (splnomocnenec) | P15: F1
A16: Tel. kontaktná osoba (splnomocnenec) | P16: F2
A17: E-mail kontaktná osoba (splnomocnec) | P17: F3
A19: A.3 Identifikácia Žiadosti o platbu | V19: Poskytnutie predfinancovania
A20: Poradové číslo | V20: Zúčtovanie predfinancovania
A21: Typ žiadosti | V21: Refundácia
A22: Záverečná Žiadosť o platbu
P23: Mimo BA
A24: A.4 Zoznam deklarovaných nákladov
A25: P. č. | B25: Názov položky | F25: Č. účto. dokladu | G25: Dátum úhrady | H25: Dátum dodania | I25: Skupina nákladov | J25: Členenie nákladov podľa účtovného dokladu | M25: Suma deklarovaná Príjemcom
J26: Suma bez DPH (v EUR) | K26: DPH (v EUR) | L26: Spolu (v EUR) | M26: Nežiadaná suma (v EUR) | N26: Nárokovaná suma (oprávnené náklady) (v EUR)
A27: 1 | B27: Projektový manažér/ stavebný dozor.. | K27: =J27*0.2 -> 0 | L27: =J27+K27 -> 0 | N27: =L27-M27 -> 0
A28: 2 | K28: =J28*0.2 -> 0 | L28: =J28+K28 -> 0 | N28: =L28-M28 -> 0
A29: 3 | K29: =J29*0.2 -> 0 | L29: =J29+K29 -> 0 | N29: =L29-M29 -> 0
A30: n | K30: =J30*0.2 -> 0 | L30: =J30+K30 -> 0 | N30: =L30-M30 -> 0
A31: Spolu | J31: =SUM(J27:J30) -> 0 | K31: =SUM(K27:K30) -> 0 | L31: =SUM(L27:L30) -> 0 | M31: =SUM(M27:M30) -> 0 | N31: =SUM(N27:N30) -> 0
A33: A.5 Osobné výdavky (TPP /Dohoda)
A34: P.č. | B34: Názov výdavku | F34: Skupina výdavkov | H34: Merná jednotka | J34: Počet jednotiek | K34: Jednotková cena | L34: Výdavky celkom | M34: Oprávnený výdavok
A35: 1 | B35: Projektový manažér/ stavebný dozor... | F35: 521 | H35: osobohodina | J35: 0 | K35: 0 | L35: =SUM(J35*K35) -> 0
A36: 2 | F36: 521 | H36: osobohodina | J36: 0 | K36: 0 | L36: =SUM(J36*K36) -> 0
A37: 3 | F37: 521 | H37: osobohodina | J37: 0 | K37: 0 | L37: =SUM(J37*K37) -> 0
A38: 4 | F38: 521 | H38: osobohodina | J38: 0 | K38: 0 | L38: =SUM(J38*K38) -> 0
A39: 5 | F39: 521 | H39: osobohodina | J39: 0 | K39: 0 | L39: =SUM(J39*K39) -> 0
A40: Spolu | J40: =SUM(J35:J39) -> 0 | K40: 0 | L40: =SUM(L35:L39) -> 0
A42: A.6 Podiel Príjemcu (spolufinancovanie) | Q42: Priložený/Uschovaný | T42: P
A43: Výška v % | D43: Výška v EUR
Q45: Typ ÚD | T45: interný
A46: A.7 Zoznam Účtovných dokladov | T46: externý
...

Sheet Vypocet_limity
A1: Názov Projektu: | C1: =ŽoP!H7 -> 0
A2: Kód Projektu: | C2: =ŽoP!H6 -> 0
A3: Názov Príjemcu: | C3: =ŽoP!H11 -> 0
A4: IČO: | C4: =ŽoP!H13 -> 0
A5: Číslo Zmluvy: | C5: =ŽoP!H5 -> 0
A6: Celkové oprávnené výdavky projektu | J6: Uveďťe sumu
A7: Celkové oprávnené výdavky na stavebné práce | J7: Uveďťe sumu
A9: Účel platby:
A10: Týmto žiadame o refundáciu alebo pri službách dodávateľsky možnosť aj predfinancovanie personálnych výdavkov súvisiacich s realizáciou a riadením vyššie uvedeného projektu v zmysle platných pravidiel a limitov pre oprávnené výdavky.
A14: A. Administratívny (riadiaci) personál súvisiaci s riadením projektu
A15: Funkcia | C15: Forma zmluvného vzťahu | E15: Počet hodín | F15: Hodinová sadzba (€)* | H15: Výška výdavku (€)
A16: Projektový manažér | C16: ZP (TPP+dohoda) | F16: 23 | H16: =E16*F16 -> 0
A17: Projektový manažér | C17: Dodávateľská služba | H17: =E17 -> 0
A18: Finančný manažér | C18: ZP (TPP+dohoda) | F18: 21 | H18: =E18*F18 -> 0
A19: Finančný manažér | C19: Dodávateľská služba | H19: =E19 -> 0
A20: Spolu žiadané | H20: =H16+H19+H17+H18 -> 0
A21: Nárok | B21: 0.05 | C21: =E6*0.05 -> 0 | D21: Vyčerpané | E21: =H20+H21 -> 0 | F21: Už čerpané
A22: Zostatok | B22: =C21-E21-H21 -> 0 | D22: =IF(B22<0,"žiadaná suma presahuje celkovú nárokovateľnú sumu","je možné preplatiť náklady") -> je možné preplatiť náklady
A24: B. Personál súvisiaci so stavebnými prácami
A25: Funkcia | C25: Forma zmluvného vzťahu | E25: Počet hodín | F25: Hodinová sadzba (€)* | H25: Výška výdavku (€)
A26: Stavebný dozor | C26: ZP (TPP+dohoda) | F26: 23 | H26: =F26*E26 -> 0
A27: Stavebný dozor | C27: Dodávateľská služba | H27: =E27 -> 0
A28: Spolu žiadané | H28: =H26+H27 -> 0
A29: Nárok | B29: 0.025 | C29: =E7*B29 -> 0 | D29: Vyčerpané | E29: =H28+C24 -> 0 | F29: Už čerpané
A30: Zostatok | B30: =C29-E29-H29 -> 0 | D30: =IF(B30<0,"žiadaná suma presahuje celkovú nárokovateľnú sumu","je možné preplatiť náklady") -> je možné preplatiť náklady
A32: Funkcia | C32: Forma zmluvného vzťahu | E32: Počet hodín | F32: Hodinová sadzba (€)* | H32: Výška výdavku (€)
A33: Odborný aut. dohľad | C33: ZP (TPP+dohoda) | F33: 21 | H33: =F33*E33 -> 0
A34: Odborný aut. dohľad | C34: Dodávateľská služba | H34: =E34 -> 0
A35: Spolu žiadané | H35: =H33+H34 -> 0
A36: Nárok | B36: 0.015 | C36: =E7*B36 -> 0 | D36: Vyčerpané | E36: =H35+C30 -> 0 | F36: Už čerpané
A37: Zostatok | B37: =C36-E36-H36 -> 0 | D37: =IF(B37<0,"žiadaná suma presahuje celkovú nárokovateľnú sumu","je možné preplatiť náklady") -> je možné preplatiť náklady
A38: *celkové náklady na zamestnanca vrátane odvodov za zamestnávateľa
B39: žiadateľ vypĺňa len šedé rámčeky !!!
A41: Vyhlásenie Príjemcu
A42: Týmto vyhlasujem, že všetky uvedené údaje sú pravdivé, výdavky sú oprávnené, boli preukázateľne vynaložené v súlade s pravidlami projektu a Zmluvou a zodpovedajú nastaveným limitom.
A49: Skratky:
A51: ZP: | B51: Zákonník práce
A52: TPP: | B52: Trvalý pracovný pomer
A53: Dohoda: | B53: Dohoda o práci vykonanej mimo pracovného pomeru
A54: Dodávateľská služba | C54: Služby zabezpečené dodávateľským spôsobom
...

Sheet Osobitná dokumentácia
A1: Osobitná dokumentácia k ŽoP na úhradu personálnych výdavkov na základe dohôd o vykonaní práce/pracovnej činnosti alebo pracovnej zmluvy:
A3: Dokumentácia k dohode o práci vykonávanej mimo pracovného pomeru (dohoda o vykonaní práce alebo dohoda o pracovnej činnosti):
A4: · dohoda o práci vykonávanej mimo pracovného pomeru (kópia) spolu s dojednaním o odmene a náplňou práce relevantnou pre Projekt, vrátane všetkých dodatkov[1] (vrátane identifikácie účtu zamestnanca, súhlasu dotknutej osoby (zamestnanca) so spracúvaním jeho osobných údajov na účely zúčtovania Oprávnených nákladov a kontroly Projektu, a to v rozsahu: meno a priezvisko, osobné číslo, číslo účtu vo formáte IBAN, zdravotná poisťovňa);
A5: · zjednodušený pracovný výkaz (vzor je zverejnený spolu s Príručkou pre Príjemcu);
A6: · výplatná páska (kópia), resp. iný relevantný doklad[2];
A7: · doklad o úhrade/výpis z bankového účtu Príjemcu potvrdzujúci úhradu odmeny
A8: a zodpovedajúcich zákonných odvodov zamestnávateľa;
A9: · minimálne prvá strana mesačného výkazu do poisťovní (kópia) vrátane ich príloh (zdravotná poisťovňa, Sociálna poisťovňa);
A10: · mesačný výkaz miezd zamestnancov (kópia) v štruktúre: osobné číslo, cena práce, výška odvodov do Sociálnej poisťovne, zdravotnej poisťovne, preddavkov na daň z príjmov fyzickej osoby (zamestnanca).
A14: Dokumentácia k pracovnej zmluve:
A15: · pracovná zmluva zamestnanca (kópia) spolu s dojednaním o mzde/plate a náplňou práce relevantnou pre Projekt, vrátane všetkých dodatkov[3] (vrátane identifikácie účtu zamestnanca; súhlasu dotknutej osoby (zamestnanca) so spracúvaním jeho osobných údajov na účely zúčtovania Oprávnených nákladov a kontroly Projektu, a to v rozsahu: meno a priezvisko, osobné číslo, číslo účtu vo formáte IBAN, zdravotná poisťovňa;
A16: · zjednodušený pracovný výkaz (vzor je zverejnený spolu s Príručky pre Príjemcu);
... A29: [4] “Interný účtovný doklad - rekapitulácia miezd“, si môže Fond dožiadať pri výkone kontroly ŽoP.

Sheet AFK ŽoP
H1: Prí | I1: Príloha k žiadosti o platbu
B4: Zoznam deklarovaných nákladov
B6: Zoznam deklarovaných nákladov | H6: AFK ŽoP
B7: P. č. | C7: Členenie nákladu podľa účtovného dokladu | F7: Suma deklarovaná Príjemcom | H7: Suma schválená Environmentálnym fondom
C8: Výška nákladu bez DPH (v EUR) | D8: DPH (v EUR) | E8: Spolu (v EUR) | F8: Suma nežiadaná na preplatenie (v EUR) | G8: Nárokovaná suma (oprávnené náklady (v EUR) | H8: Suma deklarovaných nákladov uznaná Fondom (v EUR) | I8: Dôvod krátenia Oprávneného nákladu
B9: 1 | C9: 0 | D9: 0 | E9: =SUM(C9:D9) -> 0 | F9: 0 | G9: =E9-F9 -> 0
B10: 2 | C10: 0 | D10: 0 | E10: =SUM(C10:D10) -> 0 | F10: =ŽoP!M28 -> 0 | G10: =E10-F10 -> 0
B11: 3 | C11: =ŽoP!J29 -> 0 | D11: =ŽoP!K29 -> 0 | E11: =SUM(C11:D11) -> 0 | F11: =ŽoP!M29 -> 0 | G11: =E11-F11 -> 0
B12: 4 | C12: =ŽoP!J30 -> 0 | D12: =ŽoP!K30 -> 0 | E12: =SUM(C12:D12) -> 0 | F12: =ŽoP!M30 -> 0 | G12: =E12-F12 -> 0
B13: 5 | C13: =ŽoP!J30 -> 0 | D13: =ŽoP!K30 -> 0 | E13: =SUM(C13:D13) -> 0 | F13: =ŽoP!M30 -> 0 | G13: =E13-F13 -> 0
B14: Spolu | C14: =SUM(C9:C13) -> 0 | D14: =SUM(D9:D13) -> 0 | E14: =SUM(E9:E13) -> 0 | F14: =SUM(F9:F13) -> 0 | G14: =SUM(G9:G13) -> 0 | H14: =SUM(H9:H13) -> 0

Sheet Hárok1
A4: áno
A5: nie
A7: Poskytnutie predfinancovania
A8: Zúčtovanie predfinancovania
A9: Refundácia
A11: 112 - Zásoby
A12: 013 - Softvér
A13: 021 - Stavby
A14: 022 - Samostatné hnuteľné veci a súbory hnuteľných vecí

Sheet Hárok2
