Workbook

Sheet ŽoP
A2: ŽIADOSŤ O PLATBU 1 (Modernizačný fond)
A4: A.1 Identifikácia Projektu (v zmysle uzatvorenej Zmluvy)
A5: Kód Výzvy | H5: MoF-3/2025
A6: Číslo Zmluvy o poskytnutí podpory z Environmentálneho fondu formou dotácie z prostriedkov Modernizačného fondu
A7: Kód Projektu
A8: Názov Projektu
A9: Typ Aktivity
A11: A.2 Identifikácia Príjemcu (v zmysle uzatvorenej Zmluvy)
A12: Názov
A13: Sídlo
A14: IČO
A15: IBAN Dotačného účtu
A16: Kontaktná osoba (splnomocnenec)
A17: Tel. kontaktná osoba (splnomocnenec)
A18: E-mail kontaktná osoba (splnomocnec) | P18: F1
P19: F2
A20: A.3 Identifikácia Žiadosti o platbu | P20: F3 | V20: Poskytnutie predfinancovania
A21: Poradové číslo | V21: Zúčtovanie predfinancovania
A22: Typ žiadosti | V22: Refundácia
A23: Záverečná Žiadosť o platbu
A25: A.4 Zoznam deklarovaných nákladov
A26: P. č. | B26: Názov položky | F26: Č. účto. dokladu | G26: Dátum úhrady | H26: Dátum dodania | I26: Skupina nákladov | J26: Členenie nákladov podľa účtovného dokladu | M26: Suma deklarovaná Príjemcom
J27: Suma bez DPH (v EUR) | K27: DPH (v EUR) | L27: Spolu (v EUR) | M27: Nežiadaná suma (v EUR) | N27: Nárokovaná suma (oprávnené náklady) (v EUR)
A28: 1 | L28: =SUM(J28:K28) -> 0 | N28: =L28-M28 -> 0
A29: 2 | L29: =SUM(J29:K29) -> 0 | N29: =L29-M29 -> 0
A30: 3 | L30: =SUM(J30:K30) -> 0 | N30: =L30-M30 -> 0
A31: 4 | L31: =SUM(J31:K31) -> 0 | N31: =L31-M31 -> 0
A32: 5 | L32: =SUM(J32:K32) -> 0 | N32: =L32-M32 -> 0
A33: 6 | L33: =SUM(J33:K33) -> 0 | N33: =L33-M33 -> 0
A34: 7 | L34: =SUM(J34:K34) -> 0 | N34: =L34-M34 -> 0
A35: 8 | L35: =SUM(J35:K35) -> 0 | N35: =L35-M35 -> 0
A36: 9 | L36: =SUM(J36:K36) -> 0 | N36: =L36-M36 -> 0
A37: 10 | L37: =SUM(J37:K37) -> 0 | N37: =L37-M37 -> 0
A38: 11 | L38: =SUM(J38:K38) -> 0 | N38: =L38-M38 -> 0
A39: 12 | L39: =SUM(J39:K39) -> 0 | N39: =L39-M39 -> 0
... A47: 20 | L47: =SUM(J47:K47) -> 0 | N47: =L47-M47 -> 0
A48: n | L48: =SUM(J48:K48) -> 0 | N48: =L48-M48 -> 0
A49: Spolu | J49: =SUM(J28:J48) -> 0 | K49: =SUM(K28:K48) -> 0 | L49: =SUM(L28:L48) -> 0 | M49: =SUM(M28:M48) -> 0 | N49: =SUM(N28:N48) -> 0
A51: A.5 Podiel Príjemcu (spolufinancovanie) | T51: P
A52: Výška v % | D52: Výška v EUR
D53: =ROUND(N49*A53,2) -> 0
A55: A.6 Výška poskytnutej dotácie
A56: Výška v % | D56: Výška v EUR
D57: =ROUND(N49*A57,2) -> 0
A59: A.7 Zoznam Účtovných dokladov | T59: interný
T60: externý
A61: P. č. | B61: Názov dokladu | F61: Číslo Účtovného dokladu | K61: Identifikátor Dodávateľa | M61: Číslo zmluvy s Dodávateľom / zhotoviteľom
A62: 1
A63: 2
A64: 3
A65: 4
A66: 5
A67: 6
A68: 7
A69: 8
A70: 9
A71: 10
A72: 11
A73: 13
... A75: 15
A76: n
A78: A.8 Zoznam všeobecných príloh (v zmysle článku 5 ods. 7 Zmluvy)
A79: P. č. | D79: Názov prílohy
A80: 1
A81: 2
A82: 3
A83: 4
A84: 5
A85: 6
A86: 7
A87: 8
A88: 9
A89: 10
A90: 11
A91: 12
... A94: 15
A96: A.9 Čestné vyhlásenie Príjemcu
A97: Ako Príjemca čestne vyhlasujem, že: 1. nárokovaná suma zodpovedá údajom uvedeným v Účtovných dokladoch, je matematicky správna a vychádza z účtovníctva týkajúceho sa Projektu; 2. nárokované finančné prostriedky / deklarované náklady sú oprávnené a boli skutočne realizované v súlade s ustanoveniami Zmluvy; 3. k nárokovaným finančným prostriedkom/ deklarovaným nákladom existuje overiteľná podporná dokumentácia, pričom originály dokumentácie k platbe definované v zozname príloh sú v mojej držbe, podpísané a prístupné pre účely auditu a kontroly; 4. nárokované finančné prostriedky / deklarované náklady sú v súlade s právnymi predpismi EÚ a SR; 5. požiadavky na informovanie verejnosti boli dodržané v súlade s ustanoveniami Zmluvy. Som si vedomý skutočnosti, že v prípade nesplnenia podmienok Zmluvy alebo v prípade nesprávne nárokovaných finančných prostriedkov / deklarovaných nákladov v tejto Žiadosti o platbu je možné, že Dotácia nebude vyplatená, bude upravená alebo bude vyžiadané vrátenie neoprávnene vyplatených finančných prostriedkov.
A99: Meno a priezvisko štatutárneho zástupcu Príjemcu/ splnomocnená osoba:2
A102: Podpis | I102: Dátum
A103: 1 Neoddeliteľnou súčasťou Žiadosti o platbu je Priebežná monitorovacia správa zverejnená na webovom sídle Fondu 2 Nehodiace preškrtnúť

Sheet AFK ŽoP
H1: Prí | I1: Príloha k žiadosti o platbu
B4: Zoznam deklarovaných nákladov
B6: Zoznam deklarovaných nákladov | H6: AFK ŽoP
B7: P. č. | C7: Členenie nákladu podľa účtovného dokladu | F7: Suma deklarovaná Príjemcom | H7: Suma schválená Environmentálnym fondom
C8: Výška nákladu bez DPH (v EUR) | D8: DPH (v EUR) | E8: Spolu (v EUR) | F8: Suma nežiadaná na preplatenie (v EUR) | G8: Nárokovaná suma (oprávnené náklady (v EUR) | H8: Suma deklarovaných nákladov uznaná Fondom (v EUR) | I8: Dôvod krátenia Oprávneného nákladu
B9: 1 | C9: =ŽoP!J28 -> 0 | D9: =ŽoP!K28 -> 0 | E9: =SUM(C9:D9) -> 0 | F9: =ŽoP!M28 -> 0 | G9: =E9-F9 -> 0
B10: 2 | C10: =ŽoP!J29 -> 0 | D10: =ŽoP!K29 -> 0 | E10: =SUM(C10:D10) -> 0 | F10: =ŽoP!M29 -> 0 | G10: =E10-F10 -> 0
B11: 3 | C11: =ŽoP!J30 -> 0 | D11: =ŽoP!K30 -> 0 | E11: =SUM(C11:D11) -> 0 | F11: =ŽoP!M30 -> 0 | G11: =E11-F11 -> 0
B12: 4 | C12: =ŽoP!J31 -> 0 | D12: =ŽoP!K31 -> 0 | E12: =SUM(C12:D12) -> 0 | F12: =ŽoP!M31 -> 0 | G12: =E12-F12 -> 0
B13: 5 | C13: =ŽoP!J32 -> 0 | D13: =ŽoP!K32 -> 0 | E13: =SUM(C13:D13) -> 0 | F13: =ŽoP!M32 -> 0 | G13: =E13-F13 -> 0
B14: 6 | C14: =ŽoP!J33 -> 0 | D14: =ŽoP!K33 -> 0 | E14: =SUM(C14:D14) -> 0 | F14: =ŽoP!M33 -> 0 | G14: =E14-F14 -> 0
B15: 7 | C15: =ŽoP!J34 -> 0 | D15: =ŽoP!K34 -> 0 | E15: =SUM(C15:D15) -> 0 | F15: =ŽoP!M34 -> 0 | G15: =E15-F15 -> 0
B16: 8 | C16: =ŽoP!J35 -> 0 | D16: =ŽoP!K35 -> 0 | E16: =SUM(C16:D16) -> 0 | F16: =ŽoP!M35 -> 0 | G16: =E16-F16 -> 0
B17: 9 | C17: =ŽoP!J36 -> 0 | D17: =ŽoP!K36 -> 0 | E17: =SUM(C17:D17) -> 0 | F17: =ŽoP!M36 -> 0 | G17: =E17-F17 -> 0
B18: 10 | C18: =ŽoP!J37 -> 0 | D18: =ŽoP!K37 -> 0 | E18: =SUM(C18:D18) -> 0 | F18: =ŽoP!M37 -> 0 | G18: =E18-F18 -> 0
B19: 11 | C19: =ŽoP!J38 -> 0 | D19: =ŽoP!K38 -> 0 | E19: =SUM(C19:D19) -> 0 | F19: =ŽoP!M38 -> 0 | G19: =E19-F19 -> 0
B20: 12 | C20: =ŽoP!J39 -> 0 | D20: =ŽoP!K39 -> 0 | E20: =SUM(C20:D20) -> 0 | F20: =ŽoP!M39 -> 0 | G20: =E20-F20 -> 0
... B28: 20 | C28: =ŽoP!J47 -> 0 | D28: =ŽoP!K47 -> 0 | E28: =SUM(C28:D28) -> 0 | F28: =ŽoP!M47 -> 0 | G28: =E28-F28 -> 0
B29: Spolu | C29: =SUM(C9:C28) -> 0 | D29: =SUM(D9:D28) -> 0 | E29: =SUM(E9:E28) -> 0 | F29: =SUM(F9:F28) -> 0 | G29: =SUM(G9:G28) -> 0 | H29: =SUM(H9:H28) -> 0

Sheet Hárok1
A4: áno
A5: nie
A7: Poskytnutie predfinancovania
A8: Zúčtovanie predfinancovania
A9: Refundácia
A11: 112 - Zásoby
A12: 013 - Softvér
A13: 021 - Stavby
A14: 022 - Samostatné hnuteľné veci a súbory hnuteľných vecí

Sheet Hárok2
