Workbook
Name _ftn1: 'Strana 1'!#REF!
Name _ftn1: 'Strana 2'!#REF!
Name _ftn1: 'Strana 3'!#REF!
Name _ftn1: 'Strana 4'!#REF!
Name _ftn1: 'Sumár za strany'!#REF!
Name _ftnref1: 'Strana 1'!$E$12
Name _ftnref1: 'Strana 2'!$E$8
Name _ftnref1: 'Strana 3'!$E$8
Name _ftnref1: 'Strana 4'!$E$8
Name _ftnref1: 'Sumár za strany'!$E$7

Sheet Strana 1
A2: Záverečný odpočet čerpania Príjemcu MoF
B5: Príjemca / IČO:
B6: Číslo Zmluvy o poskytnutí podpory z Environmentálneho fondu formou dotácie z prostriedkov Modernizačného fondu:
B7: Názov projektu:
B8: Kód projektu:
B9: Typ Aktivity: | E9: Vyberte zo zaznamu
B11: Číslo účtovného dokladu/ faktúry | C11: Suma účtovného dokladu/faktúry Neoprávnené náklady | D11: Suma účtovného dokladu/faktúry Oprávnené náklady | E11: Podiel príjemcu v zmysle Zmluvy | F11: Dátum uhradenia | G11: Úhrada z Environmentálneho fondu
E13: 0
C14: 0 | D14: 0 | E14: =D14*E13 -> 0 | G14: =ROUND(D14-E14,2) -> 0
C15: 0 | D15: 0 | E15: =ROUND(D15*$E$13,2) -> 0 | G15: =ROUND(D15-E15,2) -> 0
C16: 0 | D16: 0 | E16: =ROUND(D16*$E$13,2) -> 0 | G16: =ROUND(D16-E16,2) -> 0
C17: 0 | D17: 0 | E17: =ROUND(D17*$E$13,2) -> 0 | G17: =ROUND(D17-E17,2) -> 0
C18: 0 | D18: 0 | E18: =ROUND(D18*$E$13,2) -> 0 | G18: =ROUND(D18-E18,2) -> 0
C19: 0 | D19: 0 | E19: =ROUND(D19*$E$13,2) -> 0 | G19: =ROUND(D19-E19,2) -> 0
C20: 0 | D20: 0 | E20: =ROUND(D20*$E$13,2) -> 0 | G20: =ROUND(D20-E20,2) -> 0
C21: 0 | D21: 0 | E21: =ROUND(D21*$E$13,2) -> 0 | G21: =ROUND(D21-E21,2) -> 0
C22: 0 | D22: 0 | E22: =ROUND(D22*$E$13,2) -> 0 | G22: =ROUND(D22-E22,2) -> 0
C23: 0 | D23: 0 | E23: =ROUND(D23*$E$13,2) -> 0 | G23: =ROUND(D23-E23,2) -> 0
C24: 0 | D24: 0 | E24: =ROUND(D24*$E$13,2) -> 0 | G24: =ROUND(D24-E24,2) -> 0
C25: 0 | D25: 0 | E25: =ROUND(D25*$E$13,2) -> 0 | G25: =ROUND(D25-E25,2) -> 0
C26: 0 | D26: 0 | E26: =ROUND(D26*$E$13,2) -> 0 | G26: =ROUND(D26-E26,2) -> 0
... C40: 0 | D40: 0 | E40: =ROUND(D40*$E$13,2) -> 0 | G40: =ROUND(D40-E40,2) -> 0
B41: Spolu: | C41: =SUM(C14:C40) -> 0 | D41: =SUM(D14:D40) -> 0 | E41: =SUM(E14:E40) -> 0 | F41: x | G41: =SUM(G14:G40) -> 0
B43: Čestne vyhlasujem, že finančné prostriedky boli použité na úhradu vyššie uvedených účtovných dokladov/faktúr od vybraného dodávateľa.
B45: Potvrdzujem že všetky informácie obsiahnuté v tomto dokumente, v jeho prílohách a ďalších relevantných dokumentoch sú pravdivé.
B47: Požadovaná výška Dotácie v EUR (zo Zmluvy):
B48: z vlastných zdrojov v celkovej sume v EUR: | E48: =ROUND(C41+E41,2) -> 0
B49: z dotácie Environmentálneho fondu v celkovej sume v EUR: | E49: =G41 -> 0
B50: Výška nedočerpania v celkovej sume v EUR: | E50: =E47-G41 -> 0
B52: Titul, meno, priezvisko (štatutárny zástupca/ splnomocnená osoba):
B53: Funkcia:
B54: Miesto:
B55: Dátum:
B57: Podpis:
B60: Podpísaný záverečný odpočet čerpania Príjemcu MoF je potrebné doručiť v neprepisovateľnej podobe v PDF formáte a v prepisovateľnej podobe v ms excel pre potreby kontroly. Doručenie sa vykoná elektronicky na zodpovedného projektového manažéra.

Sheet Strana 2
A2: Záverečný odpočet čerpania Príjemcu MoF
B5: Typ projektu Aktivity: | E5: Vyberte zo zaznamu
B7: Číslo účtovného dokladu/ faktúry | C7: Suma účtovného dokladu/faktúry Neoprávnené náklady | D7: Suma účtovného dokladu/faktúry Oprávnené náklady | E7: Podiel príjemcu v zmysle Zmluvy | F7: Dátum uhradenia | G7: Úhrada z Environmentálneho fondu
E9: 0
C10: 0 | D10: 0 | E10: =ROUND(D10*$E$9,2) -> 0 | G10: =ROUND(D10-E10,2) -> 0
C11: 0 | D11: 0 | E11: =ROUND(D11*$E$9,2) -> 0 | G11: =ROUND(D11-E11,2) -> 0
C12: 0 | D12: 0 | E12: =ROUND(D12*$E$9,2) -> 0 | G12: =ROUND(D12-E12,2) -> 0
C13: 0 | D13: 0 | E13: =ROUND(D13*$E$9,2) -> 0 | G13: =ROUND(D13-E13,2) -> 0
C14: 0 | D14: 0 | E14: =ROUND(D14*$E$9,2) -> 0 | G14: =ROUND(D14-E14,2) -> 0
C15: 0 | D15: 0 | E15: =ROUND(D15*$E$9,2) -> 0 | G15: =ROUND(D15-E15,2) -> 0
C16: 0 | D16: 0 | E16: =ROUND(D16*$E$9,2) -> 0 | G16: =ROUND(D16-E16,2) -> 0
C17: 0 | D17: 0 | E17: =ROUND(D17*$E$9,2) -> 0 | G17: =ROUND(D17-E17,2) -> 0
C18: 0 | D18: 0 | E18: =ROUND(D18*$E$9,2) -> 0 | G18: =ROUND(D18-E18,2) -> 0
C19: 0 | D19: 0 | E19: =ROUND(D19*$E$9,2) -> 0 | G19: =ROUND(D19-E19,2) -> 0
C20: 0 | D20: 0 | E20: =ROUND(D20*$E$9,2) -> 0 | G20: =ROUND(D20-E20,2) -> 0
C21: 0 | D21: 0 | E21: =ROUND(D21*$E$9,2) -> 0 | G21: =ROUND(D21-E21,2) -> 0
... C52: 0 | D52: 0 | E52: =ROUND(D52*$E$9,2) -> 0 | G52: =ROUND(D52-E52,2) -> 0
B53: Spolu: | C53: =SUM(C10:C52) -> 0 | D53: =SUM(D10:D52) -> 0 | E53: =SUM(E10:E52) -> 0 | F53: x | G53: =SUM(G10:G52) -> 0
B55: Čestne vyhlasujem, že finančné prostriedky boli použité na úhradu vyššie uvedených účtovných dokladov/faktúr od vybraného dodávateľa.

Sheet Strana 3
A2: Záverečný odpočet čerpania Príjemcu MoF
B5: Typ projektu (Aktivity): | E5: Vyberte zo zaznamu
B7: Číslo účtovného dokladu/ faktúry | C7: Suma účtovného dokladu/faktúry Neoprávnené náklady | D7: Suma účtovného dokladu/faktúry Oprávnené náklady | E7: Podiel príjemcu v zmysle Zmluvy | F7: Dátum uhradenia | G7: Úhrada z Environmentálneho fondu
E9: 0
C10: 0 | D10: 0 | E10: =ROUND(D10*$E$9,2) -> 0 | G10: =ROUND(D10-E10,2) -> 0
C11: 0 | D11: 0 | E11: =ROUND(D11*$E$9,2) -> 0 | G11: =ROUND(D11-E11,2) -> 0
C12: 0 | D12: 0 | E12: =ROUND(D12*$E$9,2) -> 0 | G12: =ROUND(D12-E12,2) -> 0
C13: 0 | D13: 0 | E13: =ROUND(D13*$E$9,2) -> 0 | G13: =ROUND(D13-E13,2) -> 0
C14: 0 | D14: 0 | E14: =ROUND(D14*$E$9,2) -> 0 | G14: =ROUND(D14-E14,2) -> 0
C15: 0 | D15: 0 | E15: =ROUND(D15*$E$9,2) -> 0 | G15: =ROUND(D15-E15,2) -> 0
C16: 0 | D16: 0 | E16: =ROUND(D16*$E$9,2) -> 0 | G16: =ROUND(D16-E16,2) -> 0
C17: 0 | D17: 0 | E17: =ROUND(D17*$E$9,2) -> 0 | G17: =ROUND(D17-E17,2) -> 0
C18: 0 | D18: 0 | E18: =ROUND(D18*$E$9,2) -> 0 | G18: =ROUND(D18-E18,2) -> 0
C19: 0 | D19: 0 | E19: =ROUND(D19*$E$9,2) -> 0 | G19: =ROUND(D19-E19,2) -> 0
C20: 0 | D20: 0 | E20: =ROUND(D20*$E$9,2) -> 0 | G20: =ROUND(D20-E20,2) -> 0
C21: 0 | D21: 0 | E21: =ROUND(D21*$E$9,2) -> 0 | G21: =ROUND(D21-E21,2) -> 0
... C52: 0 | D52: 0 | E52: =ROUND(D52*$E$9,2) -> 0 | G52: =ROUND(D52-E52,2) -> 0
B53: Spolu: | C53: =SUM(C10:C52) -> 0 | D53: =SUM(D10:D52) -> 0 | E53: =SUM(E10:E52) -> 0 | F53: x | G53: =SUM(G10:G52) -> 0
B55: Čestne vyhlasujem, že finančné prostriedky boli použité na úhradu vyššie uvedených účtovných dokladov/faktúr od vybraného dodávateľa.

Sheet Strana 4
A2: Záverečný odpočet čerpania Príjemcu MoF
B5: Typ projektu (Aktivity): | E5: Vyberte zo zaznamu
B7: Číslo účtovného dokladu/ faktúry | C7: Suma účtovného dokladu/faktúry Neoprávnené náklady | D7: Suma účtovného dokladu/faktúry Oprávnené náklady | E7: Podiel príjemcu v zmysle Zmluvy | F7: Dátum uhradenia | G7: Úhrada z Environmentálneho fondu
E9: 0
C10: 0 | D10: 0 | E10: =ROUND(D10*$E$9,2) -> 0 | G10: =ROUND(D10-E10,2) -> 0
C11: 0 | D11: 0 | E11: =ROUND(D11*$E$9,2) -> 0 | G11: =ROUND(D11-E11,2) -> 0
C12: 0 | D12: 0 | E12: =ROUND(D12*$E$9,2) -> 0 | G12: =ROUND(D12-E12,2) -> 0
C13: 0 | D13: 0 | E13: =ROUND(D13*$E$9,2) -> 0 | G13: =ROUND(D13-E13,2) -> 0
C14: 0 | D14: 0 | E14: =ROUND(D14*$E$9,2) -> 0 | G14: =ROUND(D14-E14,2) -> 0
C15: 0 | D15: 0 | E15: =ROUND(D15*$E$9,2) -> 0 | G15: =ROUND(D15-E15,2) -> 0
C16: 0 | D16: 0 | E16: =ROUND(D16*$E$9,2) -> 0 | G16: =ROUND(D16-E16,2) -> 0
C17: 0 | D17: 0 | E17: =ROUND(D17*$E$9,2) -> 0 | G17: =ROUND(D17-E17,2) -> 0
C18: 0 | D18: 0 | E18: =ROUND(D18*$E$9,2) -> 0 | G18: =ROUND(D18-E18,2) -> 0
C19: 0 | D19: 0 | E19: =ROUND(D19*$E$9,2) -> 0 | G19: =ROUND(D19-E19,2) -> 0
C20: 0 | D20: 0 | E20: =ROUND(D20*$E$9,2) -> 0 | G20: =ROUND(D20-E20,2) -> 0
C21: 0 | D21: 0 | E21: =ROUND(D21*$E$9,2) -> 0 | G21: =ROUND(D21-E21,2) -> 0
... C52: 0 | D52: 0 | E52: =ROUND(D52*$E$9,2) -> 0 | G52: =ROUND(D52-E52,2) -> 0
B53: Spolu: | C53: =SUM(C10:C52) -> 0 | D53: =SUM(D10:D52) -> 0 | E53: =SUM(E10:E52) -> 0 | F53: x | G53: =SUM(G10:G52) -> 0
B55: Čestne vyhlasujem, že finančné prostriedky boli použité na úhradu vyššie uvedených účtovných dokladov/faktúr od vybraného dodávateľa.

Sheet Sumár za strany
A2: Záverečný odpočet čerpania Príjemcu MoF
C6: Suma účtovného dokladu/faktúry Neoprávnené náklady | D6: Suma účtovného dokladu/faktúry Oprávnené náklady | E6: Podiel príjemcu v zmysle Zmluvy | F6: Úhrada z Environmentálneho fondu
B8: Strana 1 | C8: ='Strana 1'!C41 -> 0 | D8: ='Strana 1'!D41 -> 0 | E8: ='Strana 1'!E41 -> 0 | F8: ='Strana 1'!G41 -> 0
B9: Strana 2 | C9: ='Strana 2'!C53 -> 0 | D9: ='Strana 2'!D53 -> 0 | E9: ='Strana 2'!E53 -> 0 | F9: ='Strana 2'!G53 -> 0
B10: Strana 3 | C10: ='Strana 3'!C53 -> 0 | D10: ='Strana 3'!D53 -> 0 | E10: ='Strana 3'!E53 -> 0 | F10: ='Strana 3'!G53 -> 0
B11: Strana 4 | C11: ='Strana 4'!C53 -> 0 | D11: ='Strana 4'!D53 -> 0 | E11: ='Strana 4'!E53 -> 0 | F11: ='Strana 4'!G53 -> 0
B12: Spolu: | C12: =SUM(C8:C11) -> 0 | D12: =SUM(D8:D11) -> 0 | E12: =SUM(E8:E11) -> 0 | F12: =SUM(F8:G11) -> 0
B14: Požadovaná výška Dotácie v EUR (zo Zmluvy): | G14: ='Strana 1'!$E$47 -> 0
B15: z vlastných zdrojov v celkovej sume v EUR: | E15: =ROUND(C12+E12,2) -> 0
B16: z dotácie Environmentálneho fondu v celkovej sume v EUR: | E16: =F12 -> 0
B17: Výška nedočerpania v celkovej sume v EUR: | E17: =G14-F12 -> 0
B21: Podpísaný záverečný odpočet čerpania Príjemcu MoF je potrebné doručiť v neprepisovateľnej podobe v PDF formáte a v prepisovateľnej podobe v ms excel pre potreby kontroly. Doručenie sa vykoná elektronicky na zodpovedného projektového manažéra.

Sheet data
A1: Vyberte zo zaznamu
A2: F1
A3: F1 - F2
