Workbook

Sheet Inštrukcie
A1: Krátke inštrukcie
A2: 1. Vpisujte dáta iba do označených polí.
A3: 2. Názvy polí a hárkov, tj. nadpisy sú nemenné.
A4: 3. Vyberajte iba z predvolených zoznamov v bunkách.
A5: 4. Polia s hviezdičkou sú povinné polia, polia bez hviezdičky vyplňte, ak sa vás týkajú.
A6: 5. Bunky je možné roztiahnuť a text zalomiť v prípade dlhého textu.
A7: 6. Vyplnenú žiadosť a prílohy exportujte samostatne do jednotlivých PDF s názvami podľa názvu jednotlivých hárkov. Postup: Súbor - exportovať - vytvoriť dokument PDF.
A8: 7. Polia resp. predvyplnené texty nemažte a nemeňte.
A9: 8. Tlač/export hárkov do PDF zrealizujte tak, aby boli čitateľné a vyexportované iba relevantné vyplnené časti hárku tj. neexportujte resp. netlačte prázdne strany.
A10: 9. Ak máte Macbook, odporúčame vyplniť excel cez Google Disk - Tabuľky.
A11: 10. V prípade problémov s vypĺňaním žiadosti a príloh pred odoslaním kontaktuje telefonicky/mailom zodpovedného manažéra programu +421 2 203 63 324 resp. vzdelavanie@sbagency.sk.

Sheet Formulár Žiadosti
B3: Žiadosť o poskytnutie podpory v rámci Komponentu 1 (Rozvoj podnikavosti) Schémy minimálnej pomoci na podporu podnikateľského vzdelávania
B4: Právny základ: | E4: Schéma minimálnej pomoci na podporu podnikateľského vzdelávania (DM – 53/2024)
B5: Komponent: | E5: 1 – Rozvoj podnikavosti
B6: Link: | E6: Schéma DM - 53/2024
B8: Poradové číslo: (prosíme nevypĺňať) | G8: Dátum doručenia Žiadosti: (miesto pre úradný záznam)
B10: Formulár Žiadosti je kompletný, ak sú vyplnené všetky povinné polia. Povinné polia sú označené*
B12: Názov aktivity/projektu*
B15: Obchodné meno žiadateľa/Názov*
B18: Sídlo/Miesto podnikania žiadateľa (ulica, číslo)*
B21: Obec*
B24: PSČ*
B27: Kraj*
B30: Adresa prevádzkarne, ak je zriadená
B33: Právna forma*
B35: Ak ste vyplnili Iné | H35: (napíšte aká...............)
B37: Druh podniku (podľa definície MSP)* (Pre potreby overenia, či žiadateľ spĺňa definíciu MSP (mikropodniku, malého alebo stredného podniku), je potrebné definovať, o aký typ podniku ide. Podrobná definícia typov podnikov pre potreby overenia sa nachádza v Príručke pre používateľov definície MSP dostupnej na: https://bit.ly/Definicia_MSP)
B40: IČO (právnické osoby, fyzické osoby - podnikatelia)*
B43: Číslo registrácie IČ DPH
B46: Štatutárny orgán (Meno a priezvisko štatutárneho orgánu alebo členov štatutárneho orgánu, alebo meno a priezvisko zodpovedného zástupcu, ak je ustanovený)*
B49: Štatutárny orgán (Spôsob, akým bude za prijímateľa konať)*
B52: Štatutárny orgán (Rodné číslo štatutárneho orgánu alebo členov štatutárneho orgánu)*
B55: Štatutárny orgán (trvalý pobyt štatutárneho orgánu alebo členov štatutárneho orgánu)*
B58: Kontaktná osoba (Meno, priezvisko, funkcia)*
B61: Telefón kontaktnej osoby*
B64: E-mail kontaktnej osoby*
B67: Druh priamej formy podpory a vymedzenie účelu, na ktorý sa požaduje
B70: Bankové spojenie (IBAN a SWIFT kód)*
... B95: Za žiadateľa:
B99: V: | F99: dňa:
B100: Meno a priezvisko konajúceho:
B101: Podpis konajúceho:
B153: Názov aktivity | C153: =B13 -> 0
B154: Obchodné meno * | C154: =B16 -> 0
B155: Sídlo žiadateľa | C155: =B19 -> 0
B156: Obec | C156: =B22 -> 0
B157: PSČ | C157: =B25 -> 0
B158: Kraj | C158: =B28 -> 0
B159: Prevádzka | C159: =B31 -> 0
B160: Právna forma | C160: =B34 -> 0
B161: Ine | C161: =D35 -> 0
...

Sheet Príloha 1_Projektový zámer
A1: Príloha č. 1: Projektový zámer
A2: Informácie o žiadateľovi
A3: Obchodné meno žiadateľa: | B3: ='Formulár Žiadosti'!B16 -> 0
A4: IČO žiadateľa: | B4: ='Formulár Žiadosti'!B41 -> 0
A5: IČ DPH | B5: ='Formulár Žiadosti'!B44 -> 0
A6: Meno, priezvisko štatutára: | B6: ='Formulár Žiadosti'!B47 -> 0
A7: Kontaktná osoba pre komunikáciu projektu (meno, priezvisko, e-mailový a telefonický kontakt):
A8: Informácie o projekte
A9: Predkladaný projekt je v rámci Komponentu 1 – Rozvoj podnikavosti zameraný na nasledovnú/-é aktivitu/-y¹:
A10: FALSE | B10: vzdelávacie kurzy, podujatia, projektové vyučovanie,
A11: FALSE | B11: poradenstvo, konzultácie, mentoring, coaching,
A12: FALSE | B12: exkurzie, stretnutia a/alebo
A13: FALSE | B13: metodiky, publikácie, informačné materiály.
A14: [1] Je možné vybrať jednu, ale aj viacero možností. Všetky vybrané aktivity musia byť následne obsiahnuté v opise projektu. Pri výbere metodiky, publikácie, informačné materiály sa tieto budú vyžadovať ako výstup projektu. Propagácia projektu (letáky, pozvánky a pod.) sa nepovažuje za informačný materiál.
A15: Názov projektu: | B15: ='Formulár Žiadosti'!B13 -> 0
A16: Opis projektu
A17: a) opis, cieľ a účel projektu: Uveďte a popíšte konkrétny cieľ a účel projektu, nie všeobecný popis rozvoju podnikavosti (mäkkých zručností). Popíšte, vymenujte a jasne formulujte, akú aktivitu/aktivity bude Váš projektový zámer obsahovať v max. rozsahu do 1 strany A4.
A18: b) opis aktuálneho stavu/súčasnej situácie, na ktorú projekt reaguje: Uveďte aký konkrétny problém/situáciu Váš projekt rieši v max. rozsahu do 1 strany A4.
A19: c) cieľová skupina:
A20: 1. Určte, kto je primárnou cieľovou skupinou v rámci projektu (vyberte 1 možnosť).
A23: 2. Určte, kto je sekundárnou cieľovou skupinou v rámci projektu (ak relevantné).
A25: 3. Aká je veľkosť cieľovej skupiny, pre ktorú je projekt určený? Uveďte čo najrealistickejší počet jedinečných osôb, keďže uvedené číslo podlieha kontrole na konci projektu.
A26: 4. Sú v rámci cieľovej skupiny zahrnuté aj marginalizované skupiny, konkrétne žiaci, študenti, pedagogickí a odborní pracovníci z rómskej komunity? Uveďte %.
A27: d) miesto realizácie projektu: Definujte miesto realizácie aktivity/aktivít. Definujte, či sa projekt realizuje fyzicky a/alebo online
A28: e) predpokladaný termín realizácie a časový harmonogram realizácie projektu: Podrobne opíšte proces a spôsob realizácie aktivít, postupnosť krokov a časový harmonogram realizácie. Uveďte jednotlivé etapy, vrátane termínov ich realizácie. Aktivity rozdeľte podľa jednotlivých mesiacov v max. rozsahu do 1 strany A4.
A29: f) prínos/dopad projektu: Ako konkrétne prispieva projekt k rozvoju podnikavosti? Čo sa zmení po realizácii projektu? V max. rozsahu do 1/2 strany A4.
A30: g) pokračovanie projektu: Aká je predstava o pokračovaní projektu po skončení dotácie? Vie projekt pokračovať aj bez ďalšej dotácie? Ak áno, ako? V max. rozsahu do 1/2 strany A4.
... A35: Finančná časť projektu
A36: a) Výška požadovanej podpory (zo strany SBA) na realizáciu projektu (EUR) | C36: ='Formulár Žiadosti'!B77 -> 0
A37: b) Uveďte požadovanú výšku finančnej podpory rozdelenú podľa jednotlivých nákladových položiek. Typ nákladovej položky je potrebné vybrať na základe Prílohy projektového zámeru: Pomôcka (viď nižšie)2
A38: Nákladová položka | B38: Typ nákladovej položky | C38: Zdôvodnenie nákupu jednotlivých typov nákladových položiek* | D38: Predpokladaná suma v EUR **
A39: Personálne zabezpečenie realizácie projektu
D44: =SUM(D39:D43) -> 0
A45: Lektorské a autorské zabezpečenie projektu
D50: =SUM(D45:D49) -> 0
A51: Personálne zabezpečenie realizácie aktivít (obslužné aktivity)
D56: =SUM(D51:D55) -> 0
A57: Prenájom technického vybavenia
D62: =SUM(D57:D61) -> 0
A63: Licencie/software
...

Sheet Príloha 2_Vyhlásenia žiadateľa
B1: Vyhlásenia žiadateľa o splnení podmienok poskytnutia pomoci v rámci Schémy minimálnej pomoci na podporu podnikateľského vzdelávania
B3: Žiadosť: | C3: Žiadosť o poskytnutie podpory v rámci Komponentu 1 (Rozvoj podnikavosti) Schémy minimálnej pomoci na podporu podnikateľského vzdelávania
B5: Obchodné meno/Názov žiadateľa*
B6: 0
B7: IČO*
B8: 0
B10: Príloha je kompletná, ak sú zaškrtnuté všetky povinné vyhlásenia. Povinné vyhlásenia sú označené *.
B13: V rámci vyhlásenia 1. a 2. uveďte iba 1 skutočnosť podľa aktuálneho stavu
C14: 1. Ako žiadateľ v rámci Schémy minimálnej pomoci na podporu podnikateľského vzdelávania (ďalej len „žiadateľ“) týmto vyhlasujem, že nepatrím do skupiny podnikov, ktoré tvoria jediný podnik podľa článku 2 odsek 2 nariadenia komisie (EÚ) 2023/2831 z 13. decembra 2023 o uplatňovaní článkov 107 a 108 Zmluvy o fungovaní Európskej únie na pomoc de minimis v platnom znení (ďalej len „nariadenie č. 2023/2831“).
B15: V rámci vyhlásenia 1. a 2. uveďte iba 1 skutočnosť podľa aktuálneho stavu
C16: *2. Ako žiadateľ patriaci do skupiny podnikov, ktoré tvoria jediný podnik podľa článku 2 odsek 2 nariadenia č. 2023/2831, predkladám, za účelom overenia stropu pomoci, identifikáciu subjektov, ktoré so žiadateľom tvoria jediný podnik podľa článku 2 odsek 2 nariadenia č. 2023/2831.
B18: Obchodné meno podniku | E18: Sídlo / miesto podnikania | J18: IČO
C24: *3. Ako žiadateľ týmto vyhlasujem, že pomoc nebude použitá v odvetviach hospodárstva, na ktoré sa pomoc v súlade s ustanovením článku 1 odsek 1 nariadenia č. 2023/2831 nevzťahuje, a to: a) v oblasti prvovýroby produktov rybolovu a akvakultúry; b) v oblasti spracovania a marketingu produktov rybolovu a akvakultúry, ak je výška pomoci stanovená na základe ceny alebo množstva kúpených výrobkov alebo výrobkov uvedených na trh; c) v poľnohospodárskej prvovýrobe; d) v oblasti spracovania a marketingu poľnohospodárskych výrobkov, a to v jednom z týchto prípadov: (i) ak je výška pomoci stanovená na základe ceny alebo množstva takýchto výrobkov kúpených od prvovýrobcov alebo uvedených na trh príslušnými podnikmi, (ii) ak je pomoc podmienená tým, že bude čiastočne alebo úplne postúpená prvovýrobcom; e) na činnosti súvisiace s vývozom do tretích krajín alebo členských štátov, konkrétne pomoc priamo súvisiacu s vyvážanými množstvami, pomoc na zriadenie a prevádzkovanie distribučnej sústavy alebo na iné bežné výdavky súvisiace s vývoznou činnosťou; f) v prípade pomoci, ktorá je podmienená uprednostňovaním používania domácich výrobkov a služieb pred dovážanými.
C26: *4. Ako žiadateľ týmto vyhlasujem, že pomoc bude použitá v rozsahu pôsobnosti Schémy minimálnej pomoci na podporu podnikateľského vzdelávania.
C28: *5. Ako žiadateľ týmto informujem, že v čase podania Žiadosti o poskytnutie podpory v rámci Schémy minimálnej pomoci na podporu podnikateľského vzdelávania (ďalej len „žiadosť“) žiadateľ nežiada o inú minimálnu pomoc aj od iného poskytovateľa pomoci, v rámci iných schém minimálnej pomoci, prípadne sa ako žiadateľ zaväzujem, že ak by žiadateľ takúto (inú) žiadosť predložil v čase posudzovania žiadosti, budem o tejto skutočnosti informovať vykonávateľa.
C30: *6. Ako žiadateľ týmto vyhlasujem, že žiadateľ spĺňa status mikropodniku, malého alebo stredného podniku v zmysle definície uvedenej v prílohe I. nariadenia Komisie (EÚ) č. 651/2014 zo 17. júna 2014 o vyhlásení určitých kategórií pomoci za zlučiteľné s vnútorným trhom podľa článkov 107 a 108 zmluvy v platnom znení.
C32: *7. Ako žiadateľ týmto vyhlasujem, že sa voči žiadateľovi neuplatňuje vrátenie štátnej pomoci na základe rozhodnutia Európskej komisie, v ktorom bola táto štátna pomoc označená za neoprávnenú a nezlučiteľnú s vnútorným trhom.
B33: Vyhlásenie 8. sa použije výlučne v prípade skupiny podnikov
C34: 8. Ako žiadateľ patriaci do skupiny podnikov, ktoré tvoria jediný podnik podľa článku 2 odsek 2 nariadenia č. 2023/2831 týmto vyhlasujem, že sa voči členom skupiny podnikov, ktoré so žiadateľom tvoria jediný podnik podľa článku 2 odsek 2 nariadenia č. 2023/2831 neuplatňuje vrátenie štátnej pomoci na základe rozhodnutia Európskej komisie, v ktorom bola táto štátna pomoc označená za neoprávnenú a nezlučiteľnú s vnútorným trhom.
C36: *9. Ako žiadateľ týmto vyhlasujem, že žiadateľ je podnikateľom podľa ustanovenia § 2 odsek 2 zákona č. 513/1991 Zb. Obchodný zákonník v znení neskorších predpisov, založeným a existujúcim podľa práva Slovenskej republiky, so sídlom a/alebo miestom podnikania na území Slovenskej republiky
C38: 10. Ako žiadateľ týmto vyhlasujem, že vo vzťahu k rovnakým oprávneným výdavkom v rámci Schémy minimálnej pomoci na podporu podnikateľského vzdelávania nebola žiadateľovi poskytnutá žiadna iná štátna ani minimálna pomoc.
C40: 11. Ako žiadateľ týmto čestne vyhlasujem, že žiadateľ má vysporiadané finančné vzťahy so štátnym rozpočtom v zmysle ustanovenia § 8a odsek 5 písm. a) zákona č. 523/2004 Z. z. o rozpočtových pravidlách verejnej správy a o zmene a doplnení niektorých zákonov v znení neskorších predpisov.
C42: 12. Ako žiadateľ týmto čestne vyhlasujem, že voči žiadateľovi nie je vedený výkon rozhodnutia (napr. podľa zákona č. 233/1995 Z. z. o súdnych exekútoroch a exekučnej činnosti (Exekučný poriadok) a o zmene a doplnení ďalších zákonov v znení neskorších predpisov, a/alebo zákona č. 563/2009 Z. z. o správe daní (daňový poriadok) a o zmene a doplnení niektorých zákonov v znení neskorších predpisov.
C44: 13. Ako žiadateľ týmto čestne vyhlasujem, že za účelom predchádzania konfliktu záujmov platí, že zamestnanec poskytovateľa a/alebo vykonávateľa: a) nie je štatutárnym orgánom, členom štatutárneho orgánu, prokuristom a/alebo nemá majetkovú účasť v právnickej osobe, ktorá je Žiadateľom, b) nie je fyzickou osobou (vrátane živnostníka), ktorá je Žiadateľom, c) nie je zamestnancom osoby, ktorá je Žiadateľom, d) nie je osobou blízkou osobe, ktorá je Žiadateľom.
B47: Za žiadateľa:
B48: V: | C48: 0 | F48: dňa: | G48: 0
B50: Podpis dotknutej osoby:

Sheet Príloha 3_Vyhlasenie os údaje
B1: Vyhlásenie k spracúvaniu osobných údajov v rámci Schémy minimálnej pomoci na podporu podnikateľského vzdelávania
B3: Žiadosť: | C3: Žiadosť o poskytnutie podpory v rámci Komponentu 1 (Rozvoj podnikavosti) Schémy minimálnej pomoci na podporu podnikateľského vzdelávania
B4: (Dokument predloží a podpíše na samostatnom tlačive každá dotknutá osoba, ktorej údaje sú uvedené v žiadosti a/alebo ktorá sa má zúčastňovať pomoci)
B6: Obchodné meno/Názov žiadateľa*
B8: IČO*
B12: Dolu podpísaný/á
B13: ako dotknutá osoba uvedená v Žiadosti o poskytnutie podpory v rámci Schémy minimálnej pomoci na podporu podnikateľského vzdelávania (ďalej len „žiadosť“) a/alebo v súvislosti s ňou (ďalej len „dotknutá osoba“) beriem týmto na vedomie, že Slovak Business Agency, so sídlom Karadžičova 7773/2, 811 09 Bratislava – Staré Mesto, Slovenská republika, korešpondenčná adresa: Trnavská cesta 100, 821 01 Bratislava, Slovenská republika, IČO: 30 845 301, registrácia: Záujmové združenie právnických osôb zapísané v registri vedenom Okresným úradom Bratislava, reg. č.: OVVS/467/1997-Ta (ďalej len „vykonávateľ“), je v zmysle zákona č. 290/2016 Z. z. o podpore malého a stredného podnikania a o zmene a doplnení zákona č. 71/2013 Z. z. o poskytovaní dotácií v pôsobnosti Ministerstva hospodárstva Slovenskej republiky v znení neskorších predpisov v znení neskorších predpisov (ďalej len „zákon č. 290/2016 Z. z.“) oprávnený spracúvať osobné údaje dotknutej osoby v rozsahu, v akom sú uvedené v žiadosti a/alebo v súvislosti s ňou, a to na účely: 1. posudzovania a vyhodnocovania žiadosti a/alebo 2. uzatvorenia a/alebo plnenia zmluvy o poskytnutí podpory v zmysle zákona č. 290/2016 Z. z. V prípade, ak na spracúvanie osobných údajov nie je možné použiť zákon č. 290/2016 Z. z., ako dotknutá osoba týmto beriem na vedomie, že spracúvanie osobných údajov dotknutej osoby je nevyhnutné na splnenie úlohy realizovanej vo verejnom záujme a zároveň prebieha aj na právnom základe oprávneného záujmu v zmysle príslušných ustanovení Nariadenia Európskeho parlamentu a Rady (EÚ) 2016/679 z 27. apríla 2016 o ochrane fyzických osôb pri spracúvaní osobných údajov a o voľnom pohybe takýchto údajov, ktorým sa zrušuje smernica 95/46/ES (všeobecné nariadenie o ochrane údajov) v platnom znení (ďalej len „Nariadenie“). Vyhlásenie k spracúvaniu osobných údajov sa udeľuje na dobu 10 rokov, ak všeobecne záväzné právne predpisy nestanovujú dlhšiu dobu. Ako dotknutá osoba beriem na vedomie možnosť poskytnutia osobných údajov Ministerstvu hospodárstva Slovenskej republiky. Ako dotknutá osoba svojím podpisom zároveň potvrdzujem poskytnutie informácií zo strany vykonávateľa v zmysle príslušných ustanovení Nariadenia.
B43: V: | F43: dňa:
B45: Podpis dotknutej osoby:

Sheet Informácie
B1: Informácie o podniku potrebné k overeniu oprávnenosti Žiadateľa
B2: Žiadosť: | C2: Žiadosť o poskytnutie podpory v rámci Komponentu 1 (Rozvoj podnikavosti) Schémy minimálnej pomoci na podporu podnikateľského vzdelávania
B4: Obchodné meno/Názov žiadateľa*
B5: ='Formulár Žiadosti'!B16 -> 0
B6: IČO*
B7: ='Formulár Žiadosti'!B41 -> 0
B9: Počet pracovníkov (ročná pracovná jednotka) za rok 2025 a ak ste novozaložený podnik od 1.1.2026 - uveďte kvalifikovaný odhad na obdobie roka 2026*
B10: Uveďte priemerný počet pracovníkov, ktorí pracovali vo Vašom podniku ku dňu zostavenia účtovnej závierky v predchádzajúcom období (napr. k 31. 12. 2024) na plný pracovný čas alebo čiastkový pracovný čas. Ide najmä o zamestnancov, dohodárov, vlastníkov, manažérov a pod. Ak ste ešte účtovnú závierku k danému obdobiu nezostavovali, uveďte kvalifikovaný odhad tejto hodnoty. Spôsob výpočtu ročnej pracovnej jednotky nájdete na https://bit.ly/Definicia_MSP
B13: Ročný obrat za rok 2025 a ak ste novozaložený podnik od 1.1.2026 - uveďte kvalifikovaný odhad na obdobie roka 2026*
B14: Presné informácie nájdete viď. http://www.registeruz.sk (v prípade, že zverejňujete účtovnú závierku). Uveďte výšku obratu Vášho podniku ku dňu zostavenia účtovnej závierky v predchádzajúcom období (napr. k 31. 12. 2024). Ak ste ešte účtovnú závierku za spomínané obdobie nezostavovali, uveďte kvalifikovaný odhad tejto hodnoty. Aké hodnoty je potrebné uviesť v položke obrat nájdete https://bit.ly/Definicia_MSP
B17: Celková ročná bilančná suma (aktíva) za rok 2025 a ak ste novozaložený podnik od 1.1.2026 - uveďte kvalifikovaný odhad na obdobie roka 2026*
B20: V prípade, ak v čase podania žiadosti žiadate o inú minimálnu pomoc aj od iného poskytovateľa, v rámci iných schém uveďte poskytovateľa pomoci a výšku poskytovanej pomoci
B23: Forma podpisovania dokumentácie*
B34: V: | C34: ='Formulár Žiadosti'!C99 -> 0 | F34: dňa: | G34: ='Formulár Žiadosti'!G99 -> 0
B36: Podpis dotknutej osoby:
C143: v listinnej podobe
C144: v elektronickej podobe t.j. kvalifikovaným elektronickým podpisom/zaručeným elektronickým podpisom (KEP/ZEP)
C146: Počet pracovníkov (ročná pracovná jednotka) | D146: =B11 -> 0
C147: Ročný obrat za rok 2024 a odhad 2025 | D147: =B15 -> 0
C148: Celková ročná bilančná suma(aktíva) za rok 2024 a odhad 2025 | D148: =B18 -> 0
C149: de minimis plan | D149: =B21 -> 0

Sheet zoznamy
A1: 1.Poľnohospodárstvo, lesníctvo a rybolov
A2: 2.Ťažba a dobývanie
A3: 3.Priemyselná výroba
A4: 4.Dodávka elektriny plynu, pary a studeného vzduchu
A5: 5.Dodávka vody, čistenie a odvod odpadových vôd, odpady a služby odstraňovania odpadov
A6: 6.Stavebníctvo
A7: 7.Veľkoobchod a maloobchod, oprava motorových vozidiel a motocyklov
A8: 8.Doprava a skladovanie
A9: 9.Ubytovacie a stravovacie služby
A10: 10.Informácie a komunikácia
A11: 11.Finančné a poisťovacie služby
A12: 12.Činnosť v oblasti nehnuteľností
... A56: nie

Sheet export dat
A1: ziadost: | B1: Obchodné meno * | C1: IČO* | D1: DIČ | E1: IČ DPH | F1: Sídlo žiadateľa (ulica a číslo) * | G1: Obec * | H1: PSČ* | I1: Kraj | J1: Dátum vzniku | K1: Štatutárny orgán/konajúci | L1: Spôsob konania štatutárneho orgánu v mene spoločnosti (podľa OR SR)* | M1: Právna forma - FO | N1: Právna forma - PO | O1: Ine | P1: Druh podniku -mikro | Q1: Druh podniku -malý | R1: Druh podniku -stredný | S1: SK NACE | T1: Počet pracovníkov (ročná pracovná jednotka) | U1: Ročný obrat za rok 2024 a odhad 2025 | V1: Celková ročná bilančná suma(aktíva) za rok 2024 a odhad 2025 | W1: Kontaktná osoba - meno a priezvisko | X1: Funkcia kontaktnej osoby * | Y1: Telefón kontaktnej osoby * | Z1: Email kontaktnej osoby | AA1: KEP/ZEP/list | AB1: Meno a priezvisko účastníka č. 1 | AC1: E-mail účastníka č. 1 | AD1: Meno a priezvisko účastníka č. 2 | AE1: E-mail účastníka č. 2 | AF1: Vyhlasenie prac. Pravny vztah | AG1: Názov Kurzu | AH1: Dátum
A2: Žiadosť o poskytnutie pomoci formou Skupinového poradenstva - Kurz podnikateľských zručností | B2: 0 | C2: 0 | D2: 0 | E2: neeviduje sa | F2: 0 | G2: 0 | H2: 0 | I2: 0 | J2: 0 | K2: 0 | L2: N/A | M2: TRUE | N2: TRUE | O2: TRUE | P2: TRUE | Q2: TRUE | R2: TRUE | S2: 0 | T2: 0 | U2: 0 | V2: 0 | W2: 0 | X2: 0 | Y2: 0 | Z2: 0 | AA2: 0 | AB2: 0 | AC2: 0 | AD2: 0 | AE2: 0 | AF2: 0 | AG2: 0 | AH2: 0
