Workbook

Sheet Inštrukcie
A1: Krátke inštrukcie
A3: 1. Vpisujte dáta iba do označených polí
A4: 2. Názvy polí a hárkov tj nadpisy sú nemenné.
A5: 3. Vyberajte iba z predvolených zoznamov v bunkách.
A6: 4. Polia s hviezdičkou sú povinné polia, polia bez hviezdičky vyplňte, ak sa vás týkajú.
A7: 5. Bunky je možné roztiahnuť do dĺžky v prípade dlhého textu.
A8: 6. Vyplnenú žiadosť a prílohy exportujte samostatne do jednotlivých PDF s názvami podľa nazvu jednotlivých hárkov. Postup: Súbor - Exportovať - Vytvoriť dokument PDF.
A9: 7. Pred exportom hárkov do PDF, prosím, skontrolujte polia , aby zostali texty 100% viditeľné. V prípade potreby roztiahnite polia.
A10: 8. Tlač hárkou do PDF zrealizujte tak, aby boli vyexportovane iba relevantné vyplnené časti hárkov tj neexportujte resp. netlačte prázdne strany
A11: Pred tlačou hárkov resp. exportom hárkov do PDF si skontrolujete nastavenie cez CTRL+P, aby ste tlačili iba pár strán z hárka tj vyznačte, čo presne budete tlačiť. Následne choďte cez horné menu/lištu - Rozloženie strany - Oblast tlače - Nastavit oblast tlace - a vyberte presnú oblast tlače papiera alebo pdf.
A12: 9. V prípade problémov s .xlxs súborom, kontaktujte telefonicky/mailom pred odoslaním zodpovedného manažéra programu +421 918 948 879 resp. sarp@sbagency.sk.
A13: 10. pošlite: vždy tento súbor vo formáte. xlsx a a) KEP podpísané dokumenty elektronicky emailom alebo b) listinné dokumenty fyzicky podpísané na korešpondenčnú adresu SBA
A14: 11. Všetky zásahy do polí tj úprava pôvodnych textov budú považované za nevyžiadanú/neadekvátnu zmenu Žiadosti a príloh.

Sheet ZIADOST
B3: Žiadosť o poskytnutie pomoci formou podnikateľského vouchera na podporu v oblasti rodinného podnikania
B4: Žiadosť: | E4: Žiadosť o poskytnutie pomoci formou podnikateľského vouchera na podporu v oblasti rodinného podnikania
B5: Program: | E5: Program Slovensko 2021 – 2027
B6: Priorita: | E6: 1P1 Veda, výskum a inovácie
B7: Špecifický cieľ: | E7: RSO 1.3 Posilnenie udržateľného rastu a konkurencieschopnosti MSP a tvorby pracovných miest v MSP, a to aj produktívnymi investíciami
B8: Názov projektu: | E8: Horizontálna podpora malého a stredného podnikania
B9: Kód projektu: | E9: 401101A322
B10: Aktivita: | E10: Aktivita 1
B11: Opatrenie: | E11: Podpora malého a stredného podnikania
B12: Právny základ: | E12: Schéma minimálnej pomoci na horizontálnu podporu malého a stredného podnikania v SR z prostriedkov Programu Slovensko 2021 - 2027 (DM – 19/2024)
B13: Komponent: | E13: 1 - Podnikateľský voucher
B14: Link: | E14: https://bit.ly/Schema_min_pomoci
B16: Žiadosť je kompletná, ak sú vyplnené všetky povinné polia. Povinné polia sú označené*
B17: Pri vypĺňaní Žiadosti je dôležité, aby boli všetky Vaše odpovede viditeľné celé, ak bunka nemá dostatočnú veľkosť, roztiahnite ju do dĺžky - je to dôležité z dôvodu podpisovania, musí byť jednoznačné, čo podpisujete.
B19: Základné informácie o žiadateľovi
B20: Obchodné meno/Názov*
B23: IČO*
B26: DIČ*
B29: IČ DPH Uvedie sa výlučne v prípade, ak Prijímateľ je platcom DPH (§ 4) alebo má nárok na odpočet DPH*
B32: Sídlo/Miesto podnikania (ulica a číslo)*
B35: Obec*
B38: PSČ*
B41: Kraj*
B44: Dátum vzniku, resp. prvého zápisu do OR SR, ŽR SR, iného registra oprávňujúceho na podnikanie*
... B54: Označte iba jednu odpoveď.
B56: Ak ste zvolili Iné dopíšte | H56: (napíšte aká...............)
B58: Webstránka žiadateľa/produktu, resp. služby*
B61: Informácie o podniku
B62: Druh podniku (podľa definície MSP)*
B63: Pre potreby overenia, či žiadateľ spĺňa definíciu MSP (mikropodniku, malého alebo stredného podniku), je potrebné definovať, o aký typ podniku ide. Podrobná definícia typov podnikov pre potreby overenia sa nachádza v Príručke pre používateľov definície MSP dostupnej na https://bit.ly/Definicia_MSP
B64: Označte iba jednu odpoveď.
B67: Počet pracovníkov (ročná pracovná jednotka) za rok 2024 a ak ste novozaložený podnik od 1.1.2025 - uveďte kvalifikovaný odhad na obdobie roka 2025*
B68: Uveďte priemerný počet pracovníkov, ktorí pracovali vo Vašom podniku ku dňu zostavenia účtovnej závierky v predchádzajúcom období (napr. k 31. 12. 2024) na plný pracovný čas alebo čiastkový pracovný čas. Ide najmä o zamestnancov, dohodárov, vlastníkov, manažérov a pod. Ak ste ešte účtovnú závierku k danému obdobiu nezostavovali, uveďte kvalifikovaný odhad tejto hodnoty. Spôsob výpočtu ročnej pracovnej jednotky nájdetehttps://bit.ly/Definicia_MSP
B71: Ročný obrat za rok 2024 a ak ste novozaložený podnik od 1.1.2025 - uveďte kvalifikovaný odhad na obdobie roka 2025*
B72: Presné informácie nájdete viď. http://www.registeruz.sk (v prípade, že zverejňujete účtovnú závierku). Uveďte výšku obratu Vášho podniku ku dňu zostavenia účtovnej závierky v predchádzajúcom období (napr. k 31. 12. 2024). Ak ste ešte účtovnú závierku za spomínané obdobie nezostavovali, uveďte kvalifikovaný odhad tejto hodnoty. Aké hodnoty je potrebné uviesť v položke obrat nájdete https://bit.ly/Definicia_MSP
B75: Celková ročná bilančná suma (aktíva) za rok 2024 a ak ste novozaložený podnik od 1.1.2025 - uveďte kvalifikovaný odhad na obdobie roka 2025*
B78: Ročný počet zákazníkov*
B81: V prípade, ak v čase podania žiadosti žiadate o inú minimálnu pomoc aj od iného poskytovateľa, v rámci iných schém uveďte poskytovateľa pomoci a výšku poskytovanej pomoci
... B106: KEĎ JE TEXT VIDITEĽNÝ A BUNKY ROZTIAHNUTÉ, VTEDY PODPÍŠTE ŽIADOSŤ!
B107: Za žiadateľa: | I107: Za Slovak Business Agency:
...

Sheet PRILOHA 1
B3: Projektový zámer k poskytnutiu pomoci formou podnikateľského vouchera na podporu v oblasti rodinného podnikania
B4: Žiadosť: | E4: Žiadosť o poskytnutie pomoci formou podnikateľského vouchera na podporu v oblasti rodinného podnikania
B5: Program: | E5: Program Slovensko 2021 – 2027
B6: Priorita: | E6: 1P1 Veda, výskum a inovácie
B7: Špecifický cieľ: | E7: RSO 1.3 Posilnenie udržateľného rastu a konkurencieschopnosti MSP a tvorby pracovných miest v MSP, a to aj produktívnymi investíciami
B8: Názov projektu: | E8: Horizontálna podpora malého a stredného podnikania
B9: Kód projektu: | E9: 401101A322
B10: Aktivita: | E10: Aktivita 1
B11: Opatrenie: | E11: Podpora malého a stredného podnikania
B12: Právny základ: | E12: Schéma minimálnej pomoci na horizontálnu podporu malého a stredného podnikania v SR z prostriedkov Programu Slovensko 2021 - 2027 (DM – 19/2024)
B13: Komponent: | E13: 1 - Podnikateľský voucher
B14: Link: | E14: https://bit.ly/Schema_min_pomoci
B17: Základné informácie o Žiadateľovi (roztiahnite relevantnú bunku tak, aby bol text 100% viditeľný)
B18: Obchodné meno/Názov*
B19: =ZIADOST!B21 -> 0
B20: IČO*
B21: =ZIADOST!B24 -> 0
B23: Oblasť poradenstva
B24: Strategický a/alebo rozvojový plán pre rast rodinného podniku
B27: Overenie Žiadateľa ako rodinného podniku
B29: Vysvetlenie
B30: Pri vyplnení nasledujúcej časti odporúčame žiadateľom prečítať si definíciu Rodinného podniku uvedenú vo Výzve. Uveďte členov rodiny, ktorí tvoria rodinný podnik - vzťah k rodine, meno a priezvisko, dátum narodenia, trvalý pobyt a funkciu resp. pracovnú pozíciu.
B31: Napríklad: otec, Ján Novotný, 1.1.1960, Biela 11, 800 00 Bratislava, riaditeľ a majiteľ
B33: Člen rodiny č.1 vzťah k rodine*
B36: Člen rodiny č.1 meno a priezvisko*
B39: Člen rodiny č.1 dátum narodenia a bydlisko*
B42: Člen rodiny č.1 funkcia resp.pracovná pozícia (príklad konateľ, spoločník, atď...)*
B45: Člen rodiny č.2 vzťah k rodine *
B48: Člen rodiny č. 2 meno a priezvisko*
... B73: Začiarknite všetky vyhovujúce možnosti.
C74: Pokrvné
C75: Rozhodnutím súdu alebo zákonom uznané väzby - adopcia, manželstvo
C76: Osobné a vzájomné väzby, ktorými majú v záujme vytvoriť vzájomnú závislosť, previazanosť a odkázanosť - druh, družka
C77: Iné
B79: Ktorú z nasledujúcich podmienok spĺňate?*
B80: Začiarknite všetky vyhovujúce možnosti.
C81: Jeden člen alebo viacerí vlastnia viac ako 50 % podielov, hlasov alebo akcií v podniku
C82: Jeden člen alebo viacerí vlastnia v podniku taký podiel, počet hlasov alebo akcií, že sú schopní presadiť svoju vôľu proti ostatným spoluvlastníkom - ďalej len „majú vplyv“
C83: Jeden člen alebo viacerí vykonávajú kontrolné funkcie v podniku a „majú vplyv"
C84: Jeden člen alebo viacerí vykonávajú riadiace funkcie v podniku a „majú vplyv"
...

Sheet PRILOHA 2
B3: Predpokladaný rozsah a odhad ceny na podporu v oblasti rodinného podnikania
B4: Žiadosť: | E4: Žiadosť o poskytnutie pomoci formou podnikateľského vouchera na podporu v oblasti rodinného podnikania
B5: Program: | E5: Program Slovensko 2021 – 2027
B6: Priorita: | E6: 1P1 Veda, výskum a inovácie
B7: Špecifický cieľ: | E7: RSO 1.3 Posilnenie udržateľného rastu a konkurencieschopnosti MSP a tvorby pracovných miest v MSP, a to aj produktívnymi investíciami
B8: Názov projektu: | E8: Horizontálna podpora malého a stredného podnikania
B9: Kód projektu: | E9: 401101A322
B10: Aktivita: | E10: Aktivita 1
B11: Opatrenie: | E11: Podpora malého a stredného podnikania
B12: Právny základ: | E12: Schéma minimálnej pomoci na horizontálnu podporu malého a stredného podnikania v SR z prostriedkov Programu Slovensko 2021 - 2027 (DM – 19/2024)
B13: Komponent: | E13: 1 - Podnikateľský voucher
B14: Link: | E14: https://bit.ly/Schema_min_pomoci
B16: VŠEOBECNÉ INFORMÁCIE O ŽIADATEĽOVI
B18: Obchodné meno/Názov*
B19: =ZIADOST!B21 -> 0
B20: IČO*
B21: =ZIADOST!B24 -> 0
B24: Roztiahnite relevantnú bunku tak, aby bol text 100% viditeľný.
B25: Názov predmetu zákazky: Vytvorenie strategického a/alebo rozvojového plánu (skrátene SaRP)
B26: Opis (doplňte)*
B27: Predmetom zákazky je vytvorenie SaRP v oblasti ____________________________________________________________________, ktorý bude slúžiť ako komplexný dokument na podporu dlhodobého rozvoja Žiadateľa ako rodinného podniku v danej oblasti, a to v rozsahu podľa špecifikácie, ktorá je uvedená v tabuľke nižšie a podľa požiadaviek Žiadateľa.
B28: Základné informácie o žiadateľovi (doplňte)*
B29: Žiadateľ doplní základnú štruktúru a riadenie podniku, počet zamestnancov, systém fungovania podnikania a iné dôležité informácie potrebné pre pochopenie problematiky
B31: Detailný opis problémov / výziev, ktoré majú byť formou strategického resp. rozvojového plánu riešené (doplňte)*
B32: Žiadateľ opíše aktuálnu potrebu riešenia situácie a očakávaných výsledkov.
B35: 1. Uveďte jednotlivé obsahové činnosti/aktivity služby a ich rozsah | E35: Trvanie/hod. | F35: Podklady/poznámky | K35: Cena bez DPH (doplňte)
B36: 1. (aktivita/popis aktivity)
B37: 2. (aktivita/popis aktivity)
B38: 3. (aktivita/popis aktivity)
B39: 4. (aktivita/popis aktivity)
B40: 5. (aktivita/popis aktivity)
B41: 6. (aktivita/popis aktivity)
B42: 7. (aktivita/popis aktivity)
B43: 2.Záverečný výstup z vytvorenia SaRP (Správa z podpory v oblasti rodinného podnikania, ktorej predmetom je vytvorenie SaRP ) | K43: Cena bez DPH (doplňte)
B44: Správa z podpory v oblasti rodinného podnikania t. j. záverečný písomný výstup vyhotovený Oprávneným riešiteľom s nasledovnými podmienkami: - je odovzdaná v ľubovoľnom formáte, s min. rozsahom 10 (desať) strán čistého textu (t. j. textu bez obrázkov, tabuliek, diagramov a pod.), v rozsahu zodpovedajúcom obsahovej stránke zadanej Objednávky s ohľadom na charakter Strategického a/alebo rozvojového plánu a potrebnú úroveň odbornosti, - obsahuje štruktúrovane usporiadané zistenia súčasného stavu analyzovaných skutočností, vyhodnotenia analyzovaných skutočností prostredníctvom primeraných metodík, návrh možností ďalšieho rozvoja alebo rastu rodinného podniku, príp. návrh možností novej stratégie rodinného podniku, odporúčania pre aplikáciu zistených skutočností do praxe a identifikáciu možných rizík.
B45: Celková cena v EUR bez DPH*
B46: 23% DPH v EUR*:
B47: Cena v EUR celkom:
B48: *Vyplňte ak je relevatné
B52: Za žiadateľa:
...

Sheet PRILOHA 3
B3: Vyhlásenia o splnení podmienok poskytnutia pomoci
B5: Žiadosť: | C5: Žiadosť o poskytnutie pomoci formou podnikateľského vouchera na podporu v oblasti rodinného podnikania
B7: Obchodné meno/Názov žiadateľa*
B8: =ZIADOST!B21 -> 0
B9: IČO*
B10: =ZIADOST!B24 -> 0
B12: Príloha je kompletná ak sú zaškrtnuté všetky povinné vyhlásenia. Povinné vyhlásenia sú označené. Vyberte z možností: vyhlasujem/nevyhlasujem*
C13: I.
C14: Vyhlásenia o splnení podmienok poskytnutia pomoci - VŠEOBECNÉ
B15: V rámci bodu 1 a 2 uveďte iba 1 skutočnosť podľa aktuálneho stavu
C16: *1. Ako žiadateľ týmto vyhlasujem, že nepatrím do skupiny podnikov, ktoré tvoria jediný podnik podľa článku 2 odsek 2 Nariadenia komisie (EÚ) 2023/2831 z 13. decembra 2023 o uplatňovaní článkov 107 a 108 Zmluvy o fungovaní Európskej únie na pomoc de minimis v platnom znení (ďalej len „nariadenie č. 2023/2831“).
B17: V rámci bodu 1 a 2 uveďte iba 1 skutočnosť podľa aktuálneho stavu
C18: *2. Ako žiadateľ patriaci do skupiny podnikov, ktoré tvoria jediný podnik podľa článku 2 odsek 2 nariadenia č. 2023/2831, predkladám, za účelom overenia stropu pomoci, identifikáciu subjektov, ktoré so žiadateľom tvoria jediný podnik podľa článku 2 odsek 2 nariadenia č. 2023/2831.
C20: *3. Ako žiadateľ týmto vyhlasujem, že pomoc nebude použitá v sektoroch hospodárstva, na ktoré sa pomoc v súlade s ustanovením článku 1 odsek 1 nariadenia č. 2023/2831 nevzťahuje a to: a) v oblasti prvovýroby produktov rybolovu a akvakultúry, b) v oblasti spracovania a marketingu produktov rybolovu a akvakultúry, ak je výška pomoci stanovená na základe ceny alebo množstva kúpených výrobkov alebo výrobkov uvedených na trh, c) v poľnohospodárskej prvovýrobe, d) v oblasti spracovania a marketingu poľnohospodárskych výrobkov, a to v jednom z týchto prípadov: i. ak je výška pomoci stanovená na základe ceny alebo množstva takýchto výrobkov kúpených od prvovýrobcov alebo uvedených na trh príslušnými podnikmi, ii. ak je pomoc podmienená tým, že bude čiastočne alebo úplne postúpená prvovýrobcom, e) na činnosti súvisiace s vývozom do tretích krajín alebo členských štátov, konkrétne pomoc priamo súvisiacu s vyvážanými množstvami, pomoc na zriadenie a prevádzkovanie distribučnej sústavy alebo na iné bežné výdavky súvisiace s vývoznou činnosťou, f) v prípade pomoci, ktorá je podmienená uprednostňovaním používania domácich výrobkov a služieb pred dovážanými.
C22: *4. Ako žiadateľ týmto vyhlasujem, že pomoc bude použitá v rozsahu pôsobnosti Schémy minimálnej pomoci na horizontálnu podporu malého a stredného podnikania v SR z prostriedkov Programu Slovensko 2021 - 2027 (DM – 19/2024) zverejnenej v Obchodnom vestníku 81/2024 dňa 25. 04. 2024 v úplnom znení (ďalej len „Schéma“).
C24: *5. Ako žiadateľ týmto informujem, že v čase podania žiadosti žiadateľ nežiada o inú minimálnu pomoc aj od iného poskytovateľa pomoci, v rámci iných schém minimálnej pomoci, prípadne sa ako žiadateľ zaväzujem, že ak by žiadateľ takúto (inú) žiadosť predložil v čase posudzovania žiadosti, budem o tejto skutočnosti informovať Slovak Business Agency so sídlom Karadžičova 7773/2, 811 09 Bratislava – Staré Mesto, Slovenská republika, IČO: 30 845 301 ako vykonávateľa (ďalej len „SBA“).
C26: *6. Ako žiadateľ týmto vyhlasujem, že žiadateľ spĺňa status mikropodniku, malého alebo stredného podniku v zmysle definície uvedenej v prílohe I. nariadenia Komisie (EÚ) č. 651/2014 zo 17. júna 2014 o vyhlásení určitých kategórií pomoci za zlučiteľné s vnútorným trhom podľa článkov 107 a 108 zmluvy v platnom znení.
C28: *7. Ako žiadateľ týmto vyhlasujem, že sa voči žiadateľovi neuplatňuje vrátenie štátnej pomoci na základe rozhodnutia Európskej komisie, v ktorom bola táto štátna pomoc označená za neoprávnenú a nezlučiteľnú s vnútorným trhom.
B29: Vyhlásenie 8. sa použije výlučne v prípade jediného podniku
C30: 8. Ako žiadateľ patriaci do skupiny podnikov, ktoré tvoria jediný podnik podľa článku 2 odsek 2 nariadenia č. 2023/2831 týmto vyhlasujem, že sa voči členom skupiny podnikov, ktoré so žiadateľom tvoria jediný podnik podľa článku 2 odsek 2 nariadenia č. 2023/2831
C32: *9. Ako žiadateľ týmto vyhlasujem, že žiadateľ je podnikateľom podľa ustanovenia § 2 odsek 2 zákona č. 513/1991 Zb. Obchodný zákonník v znení neskorších predpisov, založeným a existujúcim podľa práva Slovenskej republiky, so sídlom a/alebo miestom podnikania na území Slovenskej republiky.
B33: Vyhlásenie 10. sa použije výlučne v prípade PO - podnikateľa
C34: *10. Ako žiadateľ (právnická osoba oprávnená vykonávať podnikateľskú činnosť) týmto vyhlasujem, že žiadateľ nebol právoplatne odsúdený v zmysle zákona č. 91/2016 Z. z. o trestnej zodpovednosti právnických osôb a o zmene a doplnení niektorých zákonov v znení neskorších predpisov.
B35: Vyhlásenie 11. sa použije výlučne v prípade FO - podnikateľa
C36: *11. Ako žiadateľ (fyzická osoba oprávnená vykonávať podnikateľskú činnosť) týmto vyhlasujem, že žiadateľ nebol právoplatne odsúdený za trestný čin hospodársky, trestný čin proti majetku alebo iný trestný čin spáchaný úmyselne, ktorého skutková podstata, súvisí s predmetom podnikania.
C38: *12. Ako žiadateľ týmto vyhlasujem, že voči žiadateľovi nie je vyhlásený konkurz ani povolená reštrukturalizácia. Vyhlásenie sa vzťahuje aj na konania začaté a neukončené podľa zákona č. 328/1991 Zb. o konkurze a vyrovnaní v znení neskorších predpisov, ktorý bol účinný pred zákonom č. 7/2005 Z. z. o konkurze a reštrukturalizácii a o zmene a doplnení niektorých zákonov v znení neskorších predpisov. Rovnako sa vyhlásenie vzťahuje na prípady zastavenia konkurzného konania pre nedostatok majetku žiadateľa alebo zrušenia konkurzu pre nedostatok majetku žiadateľa. Ako žiadateľ týmto zároveň vyhlasujem, že žiadateľ nie je v likvidácii.
C40: *13. Ako žiadateľ týmto vyhlasujem, že vo vzťahu k rovnakým oprávneným výdavkom v rámci Schémy nebola žiadateľovi poskytnutá žiadna iná štátna ani minimálna pomoc.
C42: *14. Ako žiadateľ týmto v osobitných vyhláseniach vyhlasujem, že v čase podania žiadosti žiadateľ spĺňa iné náležitosti a požiadavky výzvy, ak z nej vyplývajú.
B44: (Výzvou sa rozumie Výzva na predkladanie Žiadostí o poskytnutie pomoci formou podnikateľského vouchera na na podporu v oblasti rodinného podnikania)
C47: II.
C48: Vyhlásenia o splnení podmienok poskytnutia pomoci – OSOBITNÉ
C50: *1. Ako žiadateľ týmto vyhlasujem, že v čase podania žiadosti žiadateľ spĺňa osobitné požiadavky na status žiadateľa, ak z výzvy vyplývajú.
C52: *2. Ako žiadateľ týmto vyhlasujem, že žiadateľ zabezpečí zákaz konfliktu záujmov na príslušných úrovniach, ak z výzvy vyplýva.
C54: *3. Ako žiadateľ týmto beriem na vedomie spracúvanie osobných údajov dotknutých osôb za žiadateľa v súlade s príslušnými ustanoveniami zákona č. 121/2022 Z. z. o príspevkoch z fondov Európskej únie a o zmene a doplnení niektorých zákonov v znení neskorších predpisov.
C56: *4. Ako žiadateľ týmto vyhlasujem a beriem na vedomie, že okrem údajov uvedených v žiadosti môže byť žiadateľ zo strany SBA vyzvaný na predloženie ďalších informácií súvisiacich s podanou žiadosťou.
C58: *5. Ako žiadateľ týmto vyhlasujem a beriem na vedomie, že žiadateľ vyplnením/podaním žiadosti nenadobúda právny nárok na poskytnutie pomoci v zmysle Schémy.
C60: *6. Ako žiadateľ týmto vyhlasujem, že všetky údaje, informácie, súhlasy a/alebo vyhlásenia v žiadosti sú pravdivé, správne a úplné, pričom ich poskytujem slobodne a dobrovoľne.
C62: 7. Ako žiadateľ týmto udeľujem SBA súhlas na zasielanie marketingových informácií a noviniek o aktivitách a/alebo službách SBA, a to prostredníctvom elektronickej pošty na e-mailovú adresu uvedenú v žiadosti, prípadne na adresu, z ktorej bola žiadosť zaslaná (ďalej len „Súhlas so zasielaním informácií“). Beriem na vedomie, že Súhlas so zasielaním informácií poskytujem dobrovoľne na dobu trvania Zmluvy o poskytnutí nenávratného finančného príspevku, reg. č.: 332/2024-2060-4237, uzatvorenej medzi Ministerstvom investícií, regionálneho rozvoja a informatizácie Slovenskej republiky v zastúpení Ministerstvom hospodárstva Slovenskej republiky a SBA dňa 22. 01. 2025 v úplnom znení. Súhlas so zasielaním informácií môžem kedykoľvek odvolať zaslaním žiadosti na emailovú adresu agency@sbagency.sk alebo zaslaním písomnej žiadosti na adresu SBA.
C64: *8. Ako žiadateľ týmto vyhlasujem, že žiadosť, v súlade so zásadou „nespôsobovať významnú škodu“, nie je zameraná na činnosti v potenciálne poškodzujúcich oblastiach v zmysle Delegovaného nariadenia Komisie (EÚ) 2021/2139 zo 4. júna 2021, ktorým sa dopĺňa nariadenie Európskeho parlamentu a Rady (EÚ) 2020/852 stanovením technických kritérií preskúmania na určenie podmienok, za ktorých sa hospodárska činnosť označuje za významne prispievajúcu k zmierneniu zmeny klímy alebo adaptácii na zmenu klímy, a na určenie toho, či daná hospodárska činnosť výrazne nenarúša plnenie niektorého z iných environmentálnych cieľov, ani činnosti vyňaté z rozsahu podpory podľa čl. 7 nariadenia Európskeho parlamentu a Rady (EÚ) 2021/1058 z 24. júna 2021 o Európskom fonde regionálneho rozvoja a Kohéznom fonde v platnom znení.
C66: *9. Ako žiadateľ týmto vyhlasujem, že v relevantných prípadoch žiadateľ nastaví postupy a pravidlá pre zadávanie zákaziek tak, aby pri zadávaní zákaziek boli primerane uplatňované environmentálne charakteristiky pri produktových skupinách, pre ktoré vláda Slovenskej republiky schválila národné metodiky pre uplatňovanie zeleného verejného obstarávania.
...

Sheet PRILOHA 4
O1: statutar
B3: Vyhlásenie a Súhlas k spracúvaniu osobných údajov
B5: Žiadosť: | C5: Žiadosť o poskytnutie pomoci formou podnikateľského vouchera na podporu v oblasti rodinného podnikania
B6: (Vyhlásenie a Súhlas k spracúvaniu osobných údajov predloží a podpíše na samostatnom tlačive každá dotknutá osoba, ktorej údaje sú uvedené v žiadosti a/alebo ktorá sa má zúčastňovať pomoci)
B8: Obchodné meno/Názov žiadateľa*
B9: =ZIADOST!B21 -> 0
B10: IČO*
B11: =ZIADOST!B24 -> 0
B13: Dolu podpísaný/á | D13: =ZIADOST!B48 -> 0
B14: ako dotknutá osoba za žiadateľa týmto beriem na vedomie, že Slovak Business Agency, so sídlom Karadžičova 7773/2, 811 09 Bratislava – Staré Mesto, Slovenská republika, IČO: 30 845 301 (ďalej len „SBA“), ako prijímateľ nenávratného finančného príspevku na základe Zmluvy o poskytnutí nenávratného finančného príspevku, reg. č.: 332/2024-2060-4237, uzatvorenej medzi Ministerstvom investícií, regionálneho rozvoja a informatizácie Slovenskej republiky v zastúpení Ministerstvom hospodárstva Slovenskej republiky a SBA dňa 22. 01. 2025 v úplnom znení (ďalej len „Zmluva o poskytnutí NFP“), spracúva v zmysle príslušných ustanovení zákona č. 121/2022 Z. z. o príspevkoch z fondov Európskej únie a o zmene a doplnení niektorých zákonov v znení neskorších predpisov (ďalej len „Zákon o príspevkoch z fondov EÚ“), na účely (i) preukázania vynakladania poskytnutého príspevku a v súvislosti s realizáciou národného projektu Horizontálna podpora malého a stredného podnikania, ITMS kód projektu 401101A322 (ďalej len „Projekt“) a (ii) výkonu práv a plnenia povinností podľa Zákona o príspevkoch z fondov EÚ a podľa Zmluvy o poskytnutí NFP, osobné údaje užívateľa, účastníka Projektu, dodávateľa a subdodávateľa v rozsahu: meno, priezvisko, titul, dátum narodenia, rodné číslo, adresu trvalého pobytu, štátne občianstvo, štát narodenia, e-mailovú adresu a ďalšie údaje v súlade s ustanovením § 46 ods. 3 Zákona o príspevkoch z fondov EÚ (ďalej len „Vyhlásenie“). V prípade, ak na spracúvanie osobných údajov nie je možné použiť Zákon o príspevkoch z fondov EÚ, týmto, ako dotknutá osoba, udeľujem súhlas na spracúvanie osobných údajov dotknutej osoby v rozsahu, v akom sú uvedené v Žiadosti o poskytnutie pomoci formou podnikateľského vouchera na podporu v oblasti rodinného podnikania a/alebo v súvislosti s ňou, a to na rovnaké účely, aké sú uvedené vo Vyhlásení (ďalej len „Súhlas“). Vyhlásenie a Súhlas sú udelené na dobu trvania Zmluvy o poskytnutí NFP, ak všeobecne záväzné právne predpisy nestanovujú dlhšiu dobu. Ako dotknutá osoba svojím podpisom zároveň potvrdzujem poskytnutie informácií zo strany SBA v zmysle príslušných ustanovení Nariadenia Európskeho parlamentu a Rady (EÚ) 2016/679 z 27. apríla 2016 o ochrane fyzických osôb pri spracúvaní osobných údajov a o voľnom pohybe takýchto údajov, ktorým sa zrušuje smernica 95/46/ES (všeobecné nariadenie o ochrane údajov) v platnom znení, ktoré sú dostupné na webovom sídle SBA v časti Ochrana osobných údajov.
B43: V: | F43: dňa:
B45: Podpis dotknutej osoby:
O48: kontakt
B51: Vyhlásenie a Súhlas k spracúvaniu osobných údajov
B52: Žiadosť: | C52: Žiadosť o poskytnutie pomoci formou podnikateľského vouchera na podporu v oblasti rodinného podnikania
B53: (Vyhlásenie a Súhlas k spracúvaniu osobných údajov predloží a podpíše na samostatnom tlačive každá dotknutá osoba, ktorej údaje sú uvedené v žiadosti a/alebo ktorá sa má zúčastňovať pomoci)
B55: Obchodné meno/Názov žiadateľa*
B56: =ZIADOST!B21 -> 0
B57: IČO
B58: =ZIADOST!B24 -> 0
B60: Dolu podpísaný/á | D60: =ZIADOST!B86 -> 0
B61: ako dotknutá osoba za žiadateľa týmto beriem na vedomie, že Slovak Business Agency, so sídlom Karadžičova 7773/2, 811 09 Bratislava – Staré Mesto, Slovenská republika, IČO: 30 845 301 (ďalej len „SBA“), ako prijímateľ nenávratného finančného príspevku na základe Zmluvy o poskytnutí nenávratného finančného príspevku, reg. č.: 332/2024-2060-4237, uzatvorenej medzi Ministerstvom investícií, regionálneho rozvoja a informatizácie Slovenskej republiky v zastúpení Ministerstvom hospodárstva Slovenskej republiky a SBA dňa 22. 01. 2025 v úplnom znení (ďalej len „Zmluva o poskytnutí NFP“), spracúva v zmysle príslušných ustanovení zákona č. 121/2022 Z. z. o príspevkoch z fondov Európskej únie a o zmene a doplnení niektorých zákonov v znení neskorších predpisov (ďalej len „Zákon o príspevkoch z fondov EÚ“), na účely (i) preukázania vynakladania poskytnutého príspevku a v súvislosti s realizáciou národného projektu Horizontálna podpora malého a stredného podnikania, ITMS kód projektu 401101A322 (ďalej len „Projekt“) a (ii) výkonu práv a plnenia povinností podľa Zákona o príspevkoch z fondov EÚ a podľa Zmluvy o poskytnutí NFP, osobné údaje užívateľa, účastníka Projektu, dodávateľa a subdodávateľa v rozsahu: meno, priezvisko, titul, dátum narodenia, rodné číslo, adresu trvalého pobytu, štátne občianstvo, štát narodenia, e-mailovú adresu a ďalšie údaje v súlade s ustanovením § 46 ods. 3 Zákona o príspevkoch z fondov EÚ (ďalej len „Vyhlásenie“). V prípade, ak na spracúvanie osobných údajov nie je možné použiť Zákon o príspevkoch z fondov EÚ, týmto, ako dotknutá osoba, udeľujem súhlas na spracúvanie osobných údajov dotknutej osoby v rozsahu, v akom sú uvedené v Žiadosti o poskytnutie pomoci formou podnikateľského vouchera na podporu v oblasti rodinného podnikania a/alebo v súvislosti s ňou, a to na rovnaké účely, aké sú uvedené vo Vyhlásení (ďalej len „Súhlas“). Vyhlásenie a Súhlas sú udelené na dobu trvania Zmluvy o poskytnutí NFP, ak všeobecne záväzné právne predpisy nestanovujú dlhšiu dobu. Ako dotknutá osoba svojím podpisom zároveň potvrdzujem poskytnutie informácií zo strany SBA v zmysle príslušných ustanovení Nariadenia Európskeho parlamentu a Rady (EÚ) 2016/679 z 27. apríla 2016 o ochrane fyzických osôb pri spracúvaní osobných údajov a o voľnom pohybe takýchto údajov, ktorým sa zrušuje smernica 95/46/ES (všeobecné nariadenie o ochrane údajov) v platnom znení, ktoré sú dostupné na webovom sídle SBA v časti Ochrana osobných údajov.
B90: V: | F90: dňa:
B92: Podpis dotknutej osoby:
O95: 1.člen
B97: Vyhlásenie a Súhlas k spracúvaniu osobných údajov
B99: Žiadosť: | C99: Žiadosť o poskytnutie pomoci formou podnikateľského vouchera na podporu v oblasti rodinného podnikania
B100: (Vyhlásenie a Súhlas k spracúvaniu osobných údajov predloží a podpíše na samostatnom tlačive každá dotknutá osoba, ktorej údaje sú uvedené v žiadosti a/alebo ktorá sa má zúčastňovať pomoci)
B102: Obchodné meno/Názov žiadateľa*
B103: =ZIADOST!B21 -> 0
B104: IČO
B105: =ZIADOST!B24 -> 0
B107: Dolu podpísaný/á | D107: ='PRILOHA 1'!B37 -> 0
B108: ako dotknutá osoba za žiadateľa týmto beriem na vedomie, že Slovak Business Agency, so sídlom Karadžičova 7773/2, 811 09 Bratislava – Staré Mesto, Slovenská republika, IČO: 30 845 301 (ďalej len „SBA“), ako prijímateľ nenávratného finančného príspevku na základe Zmluvy o poskytnutí nenávratného finančného príspevku, reg. č.: 332/2024-2060-4237, uzatvorenej medzi Ministerstvom investícií, regionálneho rozvoja a informatizácie Slovenskej republiky v zastúpení Ministerstvom hospodárstva Slovenskej republiky a SBA dňa 22. 01. 2025 v úplnom znení (ďalej len „Zmluva o poskytnutí NFP“), spracúva v zmysle príslušných ustanovení zákona č. 121/2022 Z. z. o príspevkoch z fondov Európskej únie a o zmene a doplnení niektorých zákonov v znení neskorších predpisov (ďalej len „Zákon o príspevkoch z fondov EÚ“), na účely (i) preukázania vynakladania poskytnutého príspevku a v súvislosti s realizáciou národného projektu Horizontálna podpora malého a stredného podnikania, ITMS kód projektu 401101A322 (ďalej len „Projekt“) a (ii) výkonu práv a plnenia povinností podľa Zákona o príspevkoch z fondov EÚ a podľa Zmluvy o poskytnutí NFP, osobné údaje užívateľa, účastníka Projektu, dodávateľa a subdodávateľa v rozsahu: meno, priezvisko, titul, dátum narodenia, rodné číslo, adresu trvalého pobytu, štátne občianstvo, štát narodenia, e-mailovú adresu a ďalšie údaje v súlade s ustanovením § 46 ods. 3 Zákona o príspevkoch z fondov EÚ (ďalej len „Vyhlásenie“). V prípade, ak na spracúvanie osobných údajov nie je možné použiť Zákon o príspevkoch z fondov EÚ, týmto, ako dotknutá osoba, udeľujem súhlas na spracúvanie osobných údajov dotknutej osoby v rozsahu, v akom sú uvedené v Žiadosti o poskytnutie pomoci formou podnikateľského vouchera na podporu v oblasti rodinného podnikania a/alebo v súvislosti s ňou, a to na rovnaké účely, aké sú uvedené vo Vyhlásení (ďalej len „Súhlas“). Vyhlásenie a Súhlas sú udelené na dobu trvania Zmluvy o poskytnutí NFP, ak všeobecne záväzné právne predpisy nestanovujú dlhšiu dobu. Ako dotknutá osoba svojím podpisom zároveň potvrdzujem poskytnutie informácií zo strany SBA v zmysle príslušných ustanovení Nariadenia Európskeho parlamentu a Rady (EÚ) 2016/679 z 27. apríla 2016 o ochrane fyzických osôb pri spracúvaní osobných údajov a o voľnom pohybe takýchto údajov, ktorým sa zrušuje smernica 95/46/ES (všeobecné nariadenie o ochrane údajov) v platnom znení, ktoré sú dostupné na webovom sídle SBA v časti Ochrana osobných údajov.
B137: V: | F137: dňa:
B139: Podpis dotknutej osoby:
O141: 2.člen
B144: Vyhlásenie a Súhlas k spracúvaniu osobných údajov
B146: Žiadosť: | C146: Žiadosť o poskytnutie pomoci formou podnikateľského vouchera na podporu v oblasti rodinného podnikania
B147: (Vyhlásenie a Súhlas k spracúvaniu osobných údajov predloží a podpíše na samostatnom tlačive každá dotknutá osoba, ktorej údaje sú uvedené v žiadosti a/alebo ktorá sa má zúčastňovať pomoci)
...

Sheet zoznamy
A1: Kraj
A2: Banskobystrický kraj
A3: Bratislavský kraj
A4: Košický kraj
A5: Nitriansky kraj
A6: Prešovský kraj
A7: Trenčiansky kraj
A8: Trnavský kraj
A9: Žilinský kraj
A10: podpisy
A11: v listinnej podobe
A12: v elektronickej podobe t.j. kvalifikovaným elektronickým podpisom/zaručeným elektronickým podpisom (KEP/ZEP)
... A36: Iné
