Workbook

Sheet Prehľad
B1: #VALUE! | D1: FORMULÁR PROJEKTOVÝCH KONCEPTOV
D3: FORMULÁR | E3: A | F3: ČASŤ PROJEKTU ŽIADATEĽA (PRÍLOHY ŽIADOSTI)
D4: Projekt žiadateľa | E4: A1 | F4: Identifikácia žiadateľa a projektu
E5: A2 | F5: Východisková situácia a ciele projektu
E6: A3-A5 | F6: Aktivity projektu (Plán činností projektu žiadateľa)
E7: A6 | F7: Zhrnutie - rozpočet
B9: ŽIADOSŤ O POSKYTNUTIE DOTÁCIE | D9: FORMULÁR | E9: B1 | F9: ČASŤ KOOPERAČNÉHO PROJEKTU (PRÍLOHY ŽIADOSTI)
D10: Kooperačný projekt žiadateľa | E10: B1.1 | F10: Identifikácia spoločného projektového zámeru a partnerov
B11: Základné údaje, Členské príspevky, Príjmy žiadateľa, Prehľad o poskytnutých prostredkoch | E11: B1.2 | F11: Východisková situácia a ciele projektu
E12: B1.3-B1.5 | F12: Aktivity projektu (Plán činnosti kooperačného projektu žiadateľa)
E13: B1.6 | F13: Zhrnutie - rozpočet
D15: FORMULÁR | E15: B2 | F15: ČASŤ KOOPERAČNÉHO PROJEKTU (PRÍLOHY ŽIADOSTI)
D16: Kooperačný projekt žiadateľa | E16: B2.1 | F16: Identifikácia spoločného projektového zámeru a partnerov
E17: B2.2 | F17: Východisková situácia a ciele projektu
E18: B2.3-B2.5 | F18: Aktivity projektu (Plán činnosti kooperačného projektu žiadateľa)
E19: B2.6 | F19: Zhrnutie - rozpočet
D21: FORMULÁR | E21: B3 | F21: ČASŤ KOOPERAČNÉHO PROJEKTU (PRÍLOHY ŽIADOSTI)
D22: Kooperačný projekt žiadateľa | E22: B3.1 | F22: Identifikácia spoločného projektového zámeru a partnerov
E23: B3.2 | F23: Východisková situácia a ciele projektu
E24: B3.3-B3.5 | F24: Aktivity projektu (Plán činnosti kooperačného projektu žiadateľa)
E25: B3.6 | F25: Zhrnutie - rozpočet
D27: ZHRNUTIE PROJEKTU | E27: A+B1+B2+B3 | F27: VÝSTUPY & KPI
D28: Kooperačný projekt žiadateľa | F28: Prehľad aktivít, podaktivít a k nim vopred zadefinovaných výstupov a merateľných ukazovateľov (KPI), z ktorých je možný výber pri jednotlivých účeloch vďaka pripojenému zoznamu bunky.

Sheet Žiadosť
A1: ZÁKLADNÉ ÚDAJE | D1: ČLENSKÉ PRÍSPEVKY | G1: PRÍJMY ŽIADATEĽA | J1: PREHĽAD O POSKYTNUTÝCH FINANČNÝCH PROSTRIEDKOCH ZA POSLEDNÉ TRI ROKY
A3: Štatutárny orgán žiadateľa 1 | D3: Obce (rok 2023) | G3: Členské celkom (2023) | H3: =E15 -> 0 | J3: Rok
D4: Obce (rok 2024) | G4: Členské celkom (2024) | H4: =E16 -> 0
A5: Štatutárny orgán žiadateľa 2 | J5: Číslo zmluvy
D6: Podnikateľský subjekt (2023) | G6: Príjmy z vlastnej činnosti (2023)
A7: Kontaktná osoba | D7: Podnikateľský subjekt (2024) | G7: Príjmy z vlastnej činnosti (2024) | J7: Názov projektu
A9: Telefón | D9: Spolu (2023) | E9: =E6+E3 -> 0 | G9: Ostatné príjmy (2023) | J9: Celkové náklady na projekt
D10: Spolu (2024) | E10: =E7+E4 -> 0 | G10: Ostatné príjmy (2024)
A11: Mail | J11: Požadovaná dotácia od ministerstva
D12: Ostatné subjekty (2023) | G12: Príjmy celkom (2023) | H12: =H9+H6+H3 -> 0
A13: IBAN (BV) | D13: Ostatné subjekty (2024) | G13: Príjmy celkom (2024) | H13: =H10+H7+H4 -> 0 | J13: Pridelená dotácia z ministerstva
A15: IBAN (KV) | D15: Celkom (2023) | E15: =E12+E9 -> 0 | G15: Daň z ubytovania FIN 1-12 OCR (2024) | J15: Pridelená dotácia od iných subjektov verejnej správy z prostriedkov štátneho rozpočtu, Európskej únie a ďalších zdrojov
D16: Celkom (2024) | E16: =E13+E10 -> 0
A17: Počet zamestnancov (TPP) k 31.12.2024 | G17: Daň z ubytovania FIN 1-12 ŠÚ SR(2024)
A19: Počet zamestnancov (ostatní) k 31.12.2024 | G19: Počet prenocovaní CR 1-12 OCR (2024)
A21: Počet členov (obce, VÚC) | G21: Počet prenocovaní CR 1-12 ŠÚ SR (2024) | J21: Rok
A23: Počet členov (podnikateľský subjekt) | J23: Číslo zmluvy
A25: Počet členov (ostatní) | J25: Názov projektu
J27: Celkové náklady na projekt
J29: Požadovaná dotácia od ministerstva
J31: Pridelená dotácia z ministerstva
J33: Pridelená dotácia od iných subjektov verejnej správy z prostriedkov štátneho rozpočtu, Európskej únie a ďalších zdrojov
J39: Rok
J41: Číslo zmluvy
J43: Názov projektu
J45: Celkové náklady na projekt
J47: Požadovaná dotácia od ministerstva
J49: Pridelená dotácia z ministerstva
J51: Pridelená dotácia od iných subjektov verejnej správy z prostriedkov štátneho rozpočtu, Európskej únie a ďalších zdrojov
J59: ...................................................................
J60: PODPIS

Sheet A1
A1: Typ projektu | B1: Rok | C1: IČO žiadateľa | D1: Názov žiadateľa | E1: ID žiadateľa | F1: Názov projektu žiadateľa | G1: ID_projektu žiadateľa | H1: Predpokladaná doba ukončenia | I1: Predpokladaná doba ukončenia | J1: Hlavný cieľ (zámer projektu) | K1: Nárok na dotáciu
A2: automaticky doplnené | B2: predvolené | C2: číselný údaj | D2: automaticky doplnené | E2: automaticky doplnené | F2: text: max. 100 znakov | G2: automaticky doplnené | H2: mesiac | I2: rok | J2: text: max. 500 znakov | K2: číselný údaj
A4: A | B4: 2025 | C4: prázdne | D4: =VLOOKUP(C4, 'ID číselník'!C:D, 2, 0) -> 0 | E4: =VLOOKUP(D4, 'ID číselník'!D:E, 2, 0) -> 0 | G4: =CONCATENATE(E4,"_",H4,I4,"_",A4) -> 0__A

Sheet A2
A1: A 2.1 Východisková situácia/ identifikácia problému (ak relevantné) | B1: A 2.2 Ciele projektu a očakávané výsledky | C1: A 2.3 Súlad so stratégiou rozvoja CR destinácie | D1: Názov dokumentu | E1: A 2.4 Súlad s PHSR VÚC | F1: Názov dokumentu | G1: A 2.5 Súlad s plánom rozvoja NRO (ak relevantné) | H1: Odborný garant projektu
A2: text: max. 2500 znakov | B2: text: max. 2500 znakov | C2: text: max. 500 znakov | D2: text | E2: text: max. 500 znakov | F2: text | G2: text: max. 500 znakov | H2: text

Sheet A3
A1: Aktivita | B1: Merateľný ukazovateľ (KPI) | C1: Hodnota KPI - súčasná | D1: Hodnota KPI - očakávaná | E1: Rozpočet | F1: BV | G1: KV | H1: Požadovaná dotácia | I1: Spolufinancovanie
A2: výber zo zoznamu | B2: text: KPI na úrovni aktivity len v prípade absencie KPI pri účeloch | C2: text: pre porovnanie - nepovinné | D2: text | E2: sum podaktivít | F2: sum podaktivít | G2: sum podaktivít | H2: sum podaktivít | I2: sum podaktivít
E4: =SUMIFS('A4'!D:D,'A4'!$A:$A,'A3'!$A4) -> 0 | F4: =SUMIFS('A4'!E:E,'A4'!$A:$A,'A3'!$A4) -> 0 | G4: =SUMIFS('A4'!F:F,'A4'!$A:$A,'A3'!$A4) -> 0 | H4: =SUMIFS('A4'!G:G,'A4'!$A:$A,'A3'!$A4) -> 0 | I4: =SUMIFS('A4'!H:H,'A4'!$A:$A,'A3'!$A4) -> 0
E5: =SUMIFS('A4'!D:D,'A4'!$A:$A,'A3'!$A5) -> 0 | F5: =SUMIFS('A4'!E:E,'A4'!$A:$A,'A3'!$A5) -> 0 | G5: =SUMIFS('A4'!F:F,'A4'!$A:$A,'A3'!$A5) -> 0 | H5: =SUMIFS('A4'!G:G,'A4'!$A:$A,'A3'!$A5) -> 0 | I5: =SUMIFS('A4'!H:H,'A4'!$A:$A,'A3'!$A5) -> 0
E6: =SUMIFS('A4'!D:D,'A4'!$A:$A,'A3'!$A6) -> 0 | F6: =SUMIFS('A4'!E:E,'A4'!$A:$A,'A3'!$A6) -> 0 | G6: =SUMIFS('A4'!F:F,'A4'!$A:$A,'A3'!$A6) -> 0 | H6: =SUMIFS('A4'!G:G,'A4'!$A:$A,'A3'!$A6) -> 0 | I6: =SUMIFS('A4'!H:H,'A4'!$A:$A,'A3'!$A6) -> 0
E7: =SUMIFS('A4'!D:D,'A4'!$A:$A,'A3'!$A7) -> 0 | F7: =SUMIFS('A4'!E:E,'A4'!$A:$A,'A3'!$A7) -> 0 | G7: =SUMIFS('A4'!F:F,'A4'!$A:$A,'A3'!$A7) -> 0 | H7: =SUMIFS('A4'!G:G,'A4'!$A:$A,'A3'!$A7) -> 0 | I7: =SUMIFS('A4'!H:H,'A4'!$A:$A,'A3'!$A7) -> 0
E8: =SUMIFS('A4'!D:D,'A4'!$A:$A,'A3'!$A8) -> 0 | F8: =SUMIFS('A4'!E:E,'A4'!$A:$A,'A3'!$A8) -> 0 | G8: =SUMIFS('A4'!F:F,'A4'!$A:$A,'A3'!$A8) -> 0 | H8: =SUMIFS('A4'!G:G,'A4'!$A:$A,'A3'!$A8) -> 0 | I8: =SUMIFS('A4'!H:H,'A4'!$A:$A,'A3'!$A8) -> 0
E9: =SUMIFS('A4'!D:D,'A4'!$A:$A,'A3'!$A9) -> 0 | F9: =SUMIFS('A4'!E:E,'A4'!$A:$A,'A3'!$A9) -> 0 | G9: =SUMIFS('A4'!F:F,'A4'!$A:$A,'A3'!$A9) -> 0 | H9: =SUMIFS('A4'!G:G,'A4'!$A:$A,'A3'!$A9) -> 0 | I9: =SUMIFS('A4'!H:H,'A4'!$A:$A,'A3'!$A9) -> 0
E10: =SUMIFS('A4'!D:D,'A4'!$A:$A,'A3'!$A10) -> 0 | F10: =SUMIFS('A4'!E:E,'A4'!$A:$A,'A3'!$A10) -> 0 | G10: =SUMIFS('A4'!F:F,'A4'!$A:$A,'A3'!$A10) -> 0 | H10: =SUMIFS('A4'!G:G,'A4'!$A:$A,'A3'!$A10) -> 0 | I10: =SUMIFS('A4'!H:H,'A4'!$A:$A,'A3'!$A10) -> 0
E11: =SUMIFS('A4'!D:D,'A4'!$A:$A,'A3'!$A11) -> 0 | F11: =SUMIFS('A4'!E:E,'A4'!$A:$A,'A3'!$A11) -> 0 | G11: =SUMIFS('A4'!F:F,'A4'!$A:$A,'A3'!$A11) -> 0 | H11: =SUMIFS('A4'!G:G,'A4'!$A:$A,'A3'!$A11) -> 0 | I11: =SUMIFS('A4'!H:H,'A4'!$A:$A,'A3'!$A11) -> 0
E12: =SUMIFS('A4'!D:D,'A4'!$A:$A,'A3'!$A12) -> 0 | F12: =SUMIFS('A4'!E:E,'A4'!$A:$A,'A3'!$A12) -> 0 | G12: =SUMIFS('A4'!F:F,'A4'!$A:$A,'A3'!$A12) -> 0 | H12: =SUMIFS('A4'!G:G,'A4'!$A:$A,'A3'!$A12) -> 0 | I12: =SUMIFS('A4'!H:H,'A4'!$A:$A,'A3'!$A12) -> 0
E13: =SUMIFS('A4'!D:D,'A4'!$A:$A,'A3'!$A13) -> 0 | F13: =SUMIFS('A4'!E:E,'A4'!$A:$A,'A3'!$A13) -> 0 | G13: =SUMIFS('A4'!F:F,'A4'!$A:$A,'A3'!$A13) -> 0 | H13: =SUMIFS('A4'!G:G,'A4'!$A:$A,'A3'!$A13) -> 0 | I13: =SUMIFS('A4'!H:H,'A4'!$A:$A,'A3'!$A13) -> 0

Sheet A4
A1: Aktivita | B1: Podaktivita | C1: Opis podaktivity | D1: Rozpočet | E1: BV | F1: KV | G1: Požadovaná dotácia | H1: Spolufinancovanie
A2: výber zo zoznamu | B2: výber zo zoznamu | C2: text: max. 250 znakov | D2: sum účelov | E2: sum účelov | F2: sum účelov | G2: sum účelov | H2: sum účelov
D4: =SUM(SUMIFS('A5'!L:L,'A5'!$B:$B,'A4'!$B4)+SUMIFS('A5'!M:M,'A5'!$B:$B,'A4'!$B4)) -> 0 | E4: =SUMIFS('A5'!O:O,'A5'!$B:$B,'A4'!$B4) -> 0 | F4: =SUMIFS('A5'!P:P,'A5'!$B:$B,'A4'!$B4) -> 0 | G4: =SUMIFS('A5'!L:L,'A5'!$B:$B,'A4'!$B4) -> 0 | H4: =SUMIFS('A5'!M:M,'A5'!$B:$B,'A4'!$B4) -> 0
D5: =SUM(SUMIFS('A5'!L:L,'A5'!$B:$B,'A4'!$B5)+SUMIFS('A5'!M:M,'A5'!$B:$B,'A4'!$B5)) -> 0 | E5: =SUMIFS('A5'!O:O,'A5'!$B:$B,'A4'!$B5) -> 0 | F5: =SUMIFS('A5'!P:P,'A5'!$B:$B,'A4'!$B5) -> 0 | G5: =SUMIFS('A5'!L:L,'A5'!$B:$B,'A4'!$B5) -> 0 | H5: =SUMIFS('A5'!M:M,'A5'!$B:$B,'A4'!$B5) -> 0
D6: =SUM(SUMIFS('A5'!L:L,'A5'!$B:$B,'A4'!$B6)+SUMIFS('A5'!M:M,'A5'!$B:$B,'A4'!$B6)) -> 0 | E6: =SUMIFS('A5'!O:O,'A5'!$B:$B,'A4'!$B6) -> 0 | F6: =SUMIFS('A5'!P:P,'A5'!$B:$B,'A4'!$B6) -> 0 | G6: =SUMIFS('A5'!L:L,'A5'!$B:$B,'A4'!$B6) -> 0 | H6: =SUMIFS('A5'!M:M,'A5'!$B:$B,'A4'!$B6) -> 0
D7: =SUM(SUMIFS('A5'!L:L,'A5'!$B:$B,'A4'!$B7)+SUMIFS('A5'!M:M,'A5'!$B:$B,'A4'!$B7)) -> 0 | E7: =SUMIFS('A5'!O:O,'A5'!$B:$B,'A4'!$B7) -> 0 | F7: =SUMIFS('A5'!P:P,'A5'!$B:$B,'A4'!$B7) -> 0 | G7: =SUMIFS('A5'!L:L,'A5'!$B:$B,'A4'!$B7) -> 0 | H7: =SUMIFS('A5'!M:M,'A5'!$B:$B,'A4'!$B7) -> 0
D8: =SUM(SUMIFS('A5'!L:L,'A5'!$B:$B,'A4'!$B8)+SUMIFS('A5'!M:M,'A5'!$B:$B,'A4'!$B8)) -> 0 | E8: =SUMIFS('A5'!O:O,'A5'!$B:$B,'A4'!$B8) -> 0 | F8: =SUMIFS('A5'!P:P,'A5'!$B:$B,'A4'!$B8) -> 0 | G8: =SUMIFS('A5'!L:L,'A5'!$B:$B,'A4'!$B8) -> 0 | H8: =SUMIFS('A5'!M:M,'A5'!$B:$B,'A4'!$B8) -> 0
D9: =SUM(SUMIFS('A5'!L:L,'A5'!$B:$B,'A4'!$B9)+SUMIFS('A5'!M:M,'A5'!$B:$B,'A4'!$B9)) -> 0 | E9: =SUMIFS('A5'!O:O,'A5'!$B:$B,'A4'!$B9) -> 0 | F9: =SUMIFS('A5'!P:P,'A5'!$B:$B,'A4'!$B9) -> 0 | G9: =SUMIFS('A5'!L:L,'A5'!$B:$B,'A4'!$B9) -> 0 | H9: =SUMIFS('A5'!M:M,'A5'!$B:$B,'A4'!$B9) -> 0
D10: =SUM(SUMIFS('A5'!L:L,'A5'!$B:$B,'A4'!$B10)+SUMIFS('A5'!M:M,'A5'!$B:$B,'A4'!$B10)) -> 0 | E10: =SUMIFS('A5'!O:O,'A5'!$B:$B,'A4'!$B10) -> 0 | F10: =SUMIFS('A5'!P:P,'A5'!$B:$B,'A4'!$B10) -> 0 | G10: =SUMIFS('A5'!L:L,'A5'!$B:$B,'A4'!$B10) -> 0 | H10: =SUMIFS('A5'!M:M,'A5'!$B:$B,'A4'!$B10) -> 0
D11: =SUM(SUMIFS('A5'!L:L,'A5'!$B:$B,'A4'!$B11)+SUMIFS('A5'!M:M,'A5'!$B:$B,'A4'!$B11)) -> 0 | E11: =SUMIFS('A5'!O:O,'A5'!$B:$B,'A4'!$B11) -> 0 | F11: =SUMIFS('A5'!P:P,'A5'!$B:$B,'A4'!$B11) -> 0 | G11: =SUMIFS('A5'!L:L,'A5'!$B:$B,'A4'!$B11) -> 0 | H11: =SUMIFS('A5'!M:M,'A5'!$B:$B,'A4'!$B11) -> 0
D12: =SUM(SUMIFS('A5'!L:L,'A5'!$B:$B,'A4'!$B12)+SUMIFS('A5'!M:M,'A5'!$B:$B,'A4'!$B12)) -> 0 | E12: =SUMIFS('A5'!O:O,'A5'!$B:$B,'A4'!$B12) -> 0 | F12: =SUMIFS('A5'!P:P,'A5'!$B:$B,'A4'!$B12) -> 0 | G12: =SUMIFS('A5'!L:L,'A5'!$B:$B,'A4'!$B12) -> 0 | H12: =SUMIFS('A5'!M:M,'A5'!$B:$B,'A4'!$B12) -> 0
D13: =SUM(SUMIFS('A5'!L:L,'A5'!$B:$B,'A4'!$B13)+SUMIFS('A5'!M:M,'A5'!$B:$B,'A4'!$B13)) -> 0 | E13: =SUMIFS('A5'!O:O,'A5'!$B:$B,'A4'!$B13) -> 0 | F13: =SUMIFS('A5'!P:P,'A5'!$B:$B,'A4'!$B13) -> 0 | G13: =SUMIFS('A5'!L:L,'A5'!$B:$B,'A4'!$B13) -> 0 | H13: =SUMIFS('A5'!M:M,'A5'!$B:$B,'A4'!$B13) -> 0
D14: =SUM(SUMIFS('A5'!L:L,'A5'!$B:$B,'A4'!$B14)+SUMIFS('A5'!M:M,'A5'!$B:$B,'A4'!$B14)) -> 0 | E14: =SUMIFS('A5'!O:O,'A5'!$B:$B,'A4'!$B14) -> 0 | F14: =SUMIFS('A5'!P:P,'A5'!$B:$B,'A4'!$B14) -> 0 | G14: =SUMIFS('A5'!L:L,'A5'!$B:$B,'A4'!$B14) -> 0 | H14: =SUMIFS('A5'!M:M,'A5'!$B:$B,'A4'!$B14) -> 0
D15: =SUM(SUMIFS('A5'!L:L,'A5'!$B:$B,'A4'!$B15)+SUMIFS('A5'!M:M,'A5'!$B:$B,'A4'!$B15)) -> 0 | E15: =SUMIFS('A5'!O:O,'A5'!$B:$B,'A4'!$B15) -> 0 | F15: =SUMIFS('A5'!P:P,'A5'!$B:$B,'A4'!$B15) -> 0 | G15: =SUMIFS('A5'!L:L,'A5'!$B:$B,'A4'!$B15) -> 0 | H15: =SUMIFS('A5'!M:M,'A5'!$B:$B,'A4'!$B15) -> 0
... D74: =SUM(SUMIFS('A5'!L:L,'A5'!$B:$B,'A4'!$B74)+SUMIFS('A5'!M:M,'A5'!$B:$B,'A4'!$B74)) -> 0 | E74: =SUMIFS('A5'!O:O,'A5'!$B:$B,'A4'!$B74) -> 0 | F74: =SUMIFS('A5'!P:P,'A5'!$B:$B,'A4'!$B74) -> 0 | G74: =SUMIFS('A5'!L:L,'A5'!$B:$B,'A4'!$B74) -> 0 | H74: =SUMIFS('A5'!M:M,'A5'!$B:$B,'A4'!$B74) -> 0

Sheet A5
A1: Aktivita | B1: Podaktivita | C1: Účel | D1: Cieľová skupina | E1: Motív návstevy | F1: Typ návštevníka | G1: Vek návštevníka | H1: Status návštevníka | I1: Znevýhodnené skupiny | J1: KPI | K1: Očakávaný výstup (hodnota KPI) | L1: Požadovaná dotácia | M1: Vlastné zdroje | N1: BV/KV | O1: BV | P1: KV | Q1: Miesto realizácie | R1: Predpokladaný/plánovaný termín začiatku realizácie | S1: Predpokladaný/plánovaný termín ukončenia realizácie | T1: Spôsob a časový harmonogram realizácie (len KV) | U1: Zámer
A2: výber zo zoznamu | B2: výber zo zoznamu | C2: text | D2: výber zo zoznamu | E2: výber zo zoznamu | F2: výber zo zoznamu | G2: výber zo zoznamu | H2: výber zo zoznamu | I2: výber zo zoznamu | J2: výber zo zoznamu | K2: plánovaná hodnota ukazovateľa | L2: text | M2: text | N2: výber zo zoznamu | O2: automaticky | P2: automaticky | Q2: text | R2: mesiac/rok (napr. 01/2025) -> po označení KV povinné pole | S2: mesiac/rok (napr. 01/2025) | T2: text: max. 1000 znakov | U2: text: max. 1000 znakov
O4: =IF(N4="BV", L4+M4,0) -> 0 | P4: =IF(N4="KV", L4+M4,0) -> 0
O5: =IF(N5="BV", L5+M5,0) -> 0 | P5: =IF(N5="KV", L5+M5,0) -> 0
O6: =IF(N6="BV", L6+M6,0) -> 0 | P6: =IF(N6="KV", L6+M6,0) -> 0
O7: =IF(N7="BV", L7+M7,0) -> 0 | P7: =IF(N7="KV", L7+M7,0) -> 0
O8: =IF(N8="BV", L8+M8,0) -> 0 | P8: =IF(N8="KV", L8+M8,0) -> 0
O9: =IF(N9="BV", L9+M9,0) -> 0 | P9: =IF(N9="KV", L9+M9,0) -> 0
O10: =IF(N10="BV", L10+M10,0) -> 0 | P10: =IF(N10="KV", L10+M10,0) -> 0
O11: =IF(N11="BV", L11+M11,0) -> 0 | P11: =IF(N11="KV", L11+M11,0) -> 0
O12: =IF(N12="BV", L12+M12,0) -> 0 | P12: =IF(N12="KV", L12+M12,0) -> 0
O13: =IF(N13="BV", L13+M13,0) -> 0 | P13: =IF(N13="KV", L13+M13,0) -> 0
O14: =IF(N14="BV", L14+M14,0) -> 0 | P14: =IF(N14="KV", L14+M14,0) -> 0
O15: =IF(N15="BV", L15+M15,0) -> 0 | P15: =IF(N15="KV", L15+M15,0) -> 0
... O504: =IF(N504="BV", L504+M504,0) -> 0 | P504: =IF(N504="KV", L504+M504,0) -> 0

Sheet A6
A1: Aktivita | B1: Rozpočet | E1: Žiadané | F1: Vlastné zdroje | H1: Nárok na dotáciu | I1: Poznámka
B2: Spolu | C2: BV | D2: KV
A3: 1. Marketing a propagácia | B3: =SUMIFS('A3'!E:E,'A3'!$A:$A,$A3) -> 0 | C3: =SUMIFS('A3'!F:F,'A3'!$A:$A,$A3) -> 0 | D3: =SUMIFS('A3'!G:G,'A3'!$A:$A,$A3) -> 0 | E3: =SUMIFS('A3'!H:H,'A3'!$A:$A,$A3) -> 0 | F3: =SUMIFS('A3'!I:I,'A3'!$A:$A,$A3) -> 0 | H3: ='A1'!K4 -> 0 | I3: =IF(E11>H3,"POZOR! Prekročený nárok na dotáciu!","")
A4: 2. Činnosť turistického informačného centra zriadeného organizáciou cestovného ruchu | B4: =SUMIFS('A3'!E:E,'A3'!$A:$A,$A4) -> 0 | C4: =SUMIFS('A3'!F:F,'A3'!$A:$A,$A4) -> 0 | D4: =SUMIFS('A3'!G:G,'A3'!$A:$A,$A4) -> 0 | E4: =SUMIFS('A3'!H:H,'A3'!$A:$A,$A4) -> 0 | F4: =SUMIFS('A3'!I:I,'A3'!$A:$A,$A4) -> 0 | I4: (pozn.: pri prekročení sumy sa zobrazí upozornenie)
A5: 3. Tvorba a podpora udržateľných produktov cestovného ruchu | B5: =SUMIFS('A3'!E:E,'A3'!$A:$A,$A5) -> 0 | C5: =SUMIFS('A3'!F:F,'A3'!$A:$A,$A5) -> 0 | D5: =SUMIFS('A3'!G:G,'A3'!$A:$A,$A5) -> 0 | E5: =SUMIFS('A3'!H:H,'A3'!$A:$A,$A5) -> 0 | F5: =SUMIFS('A3'!I:I,'A3'!$A:$A,$A5) -> 0
A6: 4. Podpora atrakivít danej lokality | B6: =SUMIFS('A3'!E:E,'A3'!$A:$A,$A6) -> 0 | C6: =SUMIFS('A3'!F:F,'A3'!$A:$A,$A6) -> 0 | D6: =SUMIFS('A3'!G:G,'A3'!$A:$A,$A6) -> 0 | E6: =SUMIFS('A3'!H:H,'A3'!$A:$A,$A6) -> 0 | F6: =SUMIFS('A3'!I:I,'A3'!$A:$A,$A6) -> 0
A7: 5. Infraštruktúra cestovného ruchu | B7: =SUMIFS('A3'!E:E,'A3'!$A:$A,$A7) -> 0 | C7: =SUMIFS('A3'!F:F,'A3'!$A:$A,$A7) -> 0 | D7: =SUMIFS('A3'!G:G,'A3'!$A:$A,$A7) -> 0 | E7: =SUMIFS('A3'!H:H,'A3'!$A:$A,$A7) -> 0 | F7: =SUMIFS('A3'!I:I,'A3'!$A:$A,$A7) -> 0
A8: 6. Zabezpečenie strategických, koncepčných a analytických materiálov a dokumentov, štatistík a prieskumov | B8: =SUMIFS('A3'!E:E,'A3'!$A:$A,$A8) -> 0 | C8: =SUMIFS('A3'!F:F,'A3'!$A:$A,$A8) -> 0 | D8: =SUMIFS('A3'!G:G,'A3'!$A:$A,$A8) -> 0 | E8: =SUMIFS('A3'!H:H,'A3'!$A:$A,$A8) -> 0 | F8: =SUMIFS('A3'!I:I,'A3'!$A:$A,$A8) -> 0
A9: 7. Vzdelávacie aktivity zamerané na skvalitnenie a rozvoj destinácie a cestovného ruchu v nej | B9: =SUMIFS('A3'!E:E,'A3'!$A:$A,$A9) -> 0 | C9: =SUMIFS('A3'!F:F,'A3'!$A:$A,$A9) -> 0 | D9: =SUMIFS('A3'!G:G,'A3'!$A:$A,$A9) -> 0 | E9: =SUMIFS('A3'!H:H,'A3'!$A:$A,$A9) -> 0 | F9: =SUMIFS('A3'!I:I,'A3'!$A:$A,$A9) -> 0
A11: Spolu | B11: =SUM(B3:B9) -> 0 | C11: =SUM(C3:C9) -> 0 | D11: =SUM(D3:D9) -> 0 | E11: =SUM(E3:E9) -> 0 | F11: =SUM(F3:F9) -> 0
E13: Percento spolufinancovania | F13: =IF(B11=0,0,F11/B11) -> 0

Sheet B1.1
A1: Typ projektu | B1: Rok | C1: IČO partnera 1 | D1: Názov partnera 1 | E1: ID partnera 1 | F1: IČO partnera 2 | G1: Názov partnera 2 | H1: ID partnera 2 | I1: IČO partnera 3 | J1: Názov partnera 3 | K1: ID partnera 3 | L1: IČO partnera 4 | M1: Názov partnera 4 | N1: ID partnera 4 | O1: IČO partnera 5 | P1: Názov partnera 5 | Q1: ID partnera 5 | R1: Názov spoločného projektového zámeru | S1: ID_Spoločného projektového zámeru | T1: Predpokladaná doba ukončenia | U1: Predpokladaná doba ukončenia | V1: Hlavný cieľ spoločného projektového zámeru | W1: Nárok na dotáciu
A2: automaticky doplnené | B2: predvolené | C2: výbez zo zoznamu | D2: automaticky doplnené | E2: automaticky doplnené | F2: výbez zo zoznamu | G2: automaticky doplnené | H2: automaticky doplnené | I2: výbez zo zoznamu | J2: automaticky doplnené | K2: automaticky doplnené | L2: výbez zo zoznamu | M2: automaticky doplnené | N2: automaticky doplnené | O2: výbez zo zoznamu | P2: automaticky doplnené | Q2: automaticky doplnené | R2: text: max. 100 znakov | S2: Doplniť z registračného hárku projektového zámeru | T2: mesiac | U2: rok | V2: text: max. 500 znakov | W2: automaticky doplnené
A5: B | B5: 2025 | C5: prázdne | D5: =VLOOKUP(C5, 'ID číselník'!C:D, 2, 0) -> 0 | E5: =VLOOKUP(D5, 'ID číselník'!D:E, 2, 0) -> 0 | F5: prázdne | G5: =VLOOKUP(F5, 'ID číselník'!C:D, 2, 0) -> 0 | H5: =IF(G5<>"",VLOOKUP(G5, 'ID číselník'!D:E, 2, 0),"") -> 0 | I5: prázdne | J5: =VLOOKUP(I5, 'ID číselník'!C:D, 2, 0) -> 0 | K5: =IF(J5<>"",VLOOKUP(J5, 'ID číselník'!D:E, 2, 0),"") -> 0 | L5: prázdne | M5: =VLOOKUP(L5, 'ID číselník'!C:D, 2, 0) -> 0 | N5: =IF(M5<>"",VLOOKUP(M5, 'ID číselník'!D:E, 2, 0),"") -> 0 | O5: prázdne | P5: =VLOOKUP(O5, 'ID číselník'!C:D, 2, 0) -> 0 | Q5: =IF(P5<>"",VLOOKUP(P5, 'ID číselník'!D:E, 2, 0),"") -> 0 | W5: ='A1'!K4/2 -> 0

Sheet B1.2
A1: B 1.2.1 Východisková situácia/ identifikácia problému (ak relevantné) | B1: B 1.2.2 Ciele projektu a očakávané výsledky | C1: B 1.2.3 Súlad so stratégiou rozvoja CR destinácie | D1: Názov dokumentu | E1: B 1.2.4 Súlad s PHSR VÚC | F1: Názov dokumentu | G1: B 1.2.5 Súlad s plánom rozvoja NRO (ak relevantné) | H1: Odborný garant projektu
A2: text: max. 2500 znakov | B2: text: max. 2500 znakov | C2: text: max. 500 znakov | D2: text | E2: text: max. 500 znakov | F2: text | G2: text: max. 500 znakov | H2: text

Sheet B1.3
A1: Aktivita | B1: Merateľný ukazovateľ (KPI) | C1: Hodnota KPI - súčasná | D1: Hodnota KPI - očakávaná | E1: Rozpočet | F1: BV | G1: KV | H1: Požadovaná dotácia | I1: Spolufinancovanie
A2: výber zo zoznamu | B2: text: KPI na úrovni aktivity len v prípade absencie KPI pri účeloch | C2: text: pre porovnanie - nepovinné | D2: text | E2: sum podaktivít | F2: sum podaktivít | G2: sum podaktivít | H2: sum podaktivít | I2: sum podaktivít
E4: =SUMIFS('B1.4'!D:D,'B1.4'!$A:$A,'B1.3'!$A4) -> 0 | F4: =SUMIFS('B1.4'!E:E,'B1.4'!$A:$A,'B1.3'!$A4) -> 0 | G4: =SUMIFS('B1.4'!F:F,'B1.4'!$A:$A,'B1.3'!$A4) -> 0 | H4: =SUMIFS('B1.4'!G:G,'B1.4'!$A:$A,'B1.3'!$A4) -> 0 | I4: =SUMIFS('B1.4'!H:H,'B1.4'!$A:$A,'B1.3'!$A4) -> 0
E5: =SUMIFS('B1.4'!D:D,'B1.4'!$A:$A,'B1.3'!$A5) -> 0 | F5: =SUMIFS('B1.4'!E:E,'B1.4'!$A:$A,'B1.3'!$A5) -> 0 | G5: =SUMIFS('B1.4'!F:F,'B1.4'!$A:$A,'B1.3'!$A5) -> 0 | H5: =SUMIFS('B1.4'!G:G,'B1.4'!$A:$A,'B1.3'!$A5) -> 0 | I5: =SUMIFS('B1.4'!H:H,'B1.4'!$A:$A,'B1.3'!$A5) -> 0
E6: =SUMIFS('B1.4'!D:D,'B1.4'!$A:$A,'B1.3'!$A6) -> 0 | F6: =SUMIFS('B1.4'!E:E,'B1.4'!$A:$A,'B1.3'!$A6) -> 0 | G6: =SUMIFS('B1.4'!F:F,'B1.4'!$A:$A,'B1.3'!$A6) -> 0 | H6: =SUMIFS('B1.4'!G:G,'B1.4'!$A:$A,'B1.3'!$A6) -> 0 | I6: =SUMIFS('B1.4'!H:H,'B1.4'!$A:$A,'B1.3'!$A6) -> 0
E7: =SUMIFS('B1.4'!D:D,'B1.4'!$A:$A,'B1.3'!$A7) -> 0 | F7: =SUMIFS('B1.4'!E:E,'B1.4'!$A:$A,'B1.3'!$A7) -> 0 | G7: =SUMIFS('B1.4'!F:F,'B1.4'!$A:$A,'B1.3'!$A7) -> 0 | H7: =SUMIFS('B1.4'!G:G,'B1.4'!$A:$A,'B1.3'!$A7) -> 0 | I7: =SUMIFS('B1.4'!H:H,'B1.4'!$A:$A,'B1.3'!$A7) -> 0
E8: =SUMIFS('B1.4'!D:D,'B1.4'!$A:$A,'B1.3'!$A8) -> 0 | F8: =SUMIFS('B1.4'!E:E,'B1.4'!$A:$A,'B1.3'!$A8) -> 0 | G8: =SUMIFS('B1.4'!F:F,'B1.4'!$A:$A,'B1.3'!$A8) -> 0 | H8: =SUMIFS('B1.4'!G:G,'B1.4'!$A:$A,'B1.3'!$A8) -> 0 | I8: =SUMIFS('B1.4'!H:H,'B1.4'!$A:$A,'B1.3'!$A8) -> 0
E9: =SUMIFS('B1.4'!D:D,'B1.4'!$A:$A,'B1.3'!$A9) -> 0 | F9: =SUMIFS('B1.4'!E:E,'B1.4'!$A:$A,'B1.3'!$A9) -> 0 | G9: =SUMIFS('B1.4'!F:F,'B1.4'!$A:$A,'B1.3'!$A9) -> 0 | H9: =SUMIFS('B1.4'!G:G,'B1.4'!$A:$A,'B1.3'!$A9) -> 0 | I9: =SUMIFS('B1.4'!H:H,'B1.4'!$A:$A,'B1.3'!$A9) -> 0
E10: =SUMIFS('B1.4'!D:D,'B1.4'!$A:$A,'B1.3'!$A10) -> 0 | F10: =SUMIFS('B1.4'!E:E,'B1.4'!$A:$A,'B1.3'!$A10) -> 0 | G10: =SUMIFS('B1.4'!F:F,'B1.4'!$A:$A,'B1.3'!$A10) -> 0 | H10: =SUMIFS('B1.4'!G:G,'B1.4'!$A:$A,'B1.3'!$A10) -> 0 | I10: =SUMIFS('B1.4'!H:H,'B1.4'!$A:$A,'B1.3'!$A10) -> 0
E11: =SUMIFS('B1.4'!D:D,'B1.4'!$A:$A,'B1.3'!$A11) -> 0 | F11: =SUMIFS('B1.4'!E:E,'B1.4'!$A:$A,'B1.3'!$A11) -> 0 | G11: =SUMIFS('B1.4'!F:F,'B1.4'!$A:$A,'B1.3'!$A11) -> 0 | H11: =SUMIFS('B1.4'!G:G,'B1.4'!$A:$A,'B1.3'!$A11) -> 0 | I11: =SUMIFS('B1.4'!H:H,'B1.4'!$A:$A,'B1.3'!$A11) -> 0
E12: =SUMIFS('B1.4'!D:D,'B1.4'!$A:$A,'B1.3'!$A12) -> 0 | F12: =SUMIFS('B1.4'!E:E,'B1.4'!$A:$A,'B1.3'!$A12) -> 0 | G12: =SUMIFS('B1.4'!F:F,'B1.4'!$A:$A,'B1.3'!$A12) -> 0 | H12: =SUMIFS('B1.4'!G:G,'B1.4'!$A:$A,'B1.3'!$A12) -> 0 | I12: =SUMIFS('B1.4'!H:H,'B1.4'!$A:$A,'B1.3'!$A12) -> 0
E13: =SUMIFS('B1.4'!D:D,'B1.4'!$A:$A,'B1.3'!$A13) -> 0 | F13: =SUMIFS('B1.4'!E:E,'B1.4'!$A:$A,'B1.3'!$A13) -> 0 | G13: =SUMIFS('B1.4'!F:F,'B1.4'!$A:$A,'B1.3'!$A13) -> 0 | H13: =SUMIFS('B1.4'!G:G,'B1.4'!$A:$A,'B1.3'!$A13) -> 0 | I13: =SUMIFS('B1.4'!H:H,'B1.4'!$A:$A,'B1.3'!$A13) -> 0

Sheet B1.4
A1: Aktivita | B1: Podaktivita | C1: Opis podaktivity | D1: Rozpočet | E1: BV | F1: KV | G1: Požadovaná dotácia | H1: Spolufinancovanie
A2: výber zo zoznamu | B2: výber zo zoznamu | C2: text: max. 250 znakov | D2: sum účelov | E2: sum účelov | F2: sum účelov | G2: sum účelov | H2: sum účelov
D4: =SUM(SUMIFS('B1.5'!L:L,'B1.5'!$B:$B,'B1.4'!$B4)+SUMIFS('B1.5'!M:M,'B1.5'!$B:$B,'B1.4'!$B4)) -> 0 | E4: =SUMIFS('B1.5'!O:O,'B1.5'!$B:$B,'B1.4'!$B4) -> 0 | F4: =SUMIFS('B1.5'!P:P,'B1.5'!$B:$B,'B1.4'!$B4) -> 0 | G4: =SUMIFS('B1.5'!L:L,'B1.5'!$B:$B,'B1.4'!$B4) -> 0 | H4: =SUMIFS('B1.5'!M:M,'B1.5'!$B:$B,'B1.4'!$B4) -> 0
D5: =SUM(SUMIFS('B1.5'!L:L,'B1.5'!$B:$B,'B1.4'!$B5)+SUMIFS('B1.5'!M:M,'B1.5'!$B:$B,'B1.4'!$B5)) -> 0 | E5: =SUMIFS('B1.5'!O:O,'B1.5'!$B:$B,'B1.4'!$B5) -> 0 | F5: =SUMIFS('B1.5'!P:P,'B1.5'!$B:$B,'B1.4'!$B5) -> 0 | G5: =SUMIFS('B1.5'!L:L,'B1.5'!$B:$B,'B1.4'!$B5) -> 0 | H5: =SUMIFS('B1.5'!M:M,'B1.5'!$B:$B,'B1.4'!$B5) -> 0
D6: =SUM(SUMIFS('B1.5'!L:L,'B1.5'!$B:$B,'B1.4'!$B6)+SUMIFS('B1.5'!M:M,'B1.5'!$B:$B,'B1.4'!$B6)) -> 0 | E6: =SUMIFS('B1.5'!O:O,'B1.5'!$B:$B,'B1.4'!$B6) -> 0 | F6: =SUMIFS('B1.5'!P:P,'B1.5'!$B:$B,'B1.4'!$B6) -> 0 | G6: =SUMIFS('B1.5'!L:L,'B1.5'!$B:$B,'B1.4'!$B6) -> 0 | H6: =SUMIFS('B1.5'!M:M,'B1.5'!$B:$B,'B1.4'!$B6) -> 0
D7: =SUM(SUMIFS('B1.5'!L:L,'B1.5'!$B:$B,'B1.4'!$B7)+SUMIFS('B1.5'!M:M,'B1.5'!$B:$B,'B1.4'!$B7)) -> 0 | E7: =SUMIFS('B1.5'!O:O,'B1.5'!$B:$B,'B1.4'!$B7) -> 0 | F7: =SUMIFS('B1.5'!P:P,'B1.5'!$B:$B,'B1.4'!$B7) -> 0 | G7: =SUMIFS('B1.5'!L:L,'B1.5'!$B:$B,'B1.4'!$B7) -> 0 | H7: =SUMIFS('B1.5'!M:M,'B1.5'!$B:$B,'B1.4'!$B7) -> 0
D8: =SUM(SUMIFS('B1.5'!L:L,'B1.5'!$B:$B,'B1.4'!$B8)+SUMIFS('B1.5'!M:M,'B1.5'!$B:$B,'B1.4'!$B8)) -> 0 | E8: =SUMIFS('B1.5'!O:O,'B1.5'!$B:$B,'B1.4'!$B8) -> 0 | F8: =SUMIFS('B1.5'!P:P,'B1.5'!$B:$B,'B1.4'!$B8) -> 0 | G8: =SUMIFS('B1.5'!L:L,'B1.5'!$B:$B,'B1.4'!$B8) -> 0 | H8: =SUMIFS('B1.5'!M:M,'B1.5'!$B:$B,'B1.4'!$B8) -> 0
D9: =SUM(SUMIFS('B1.5'!L:L,'B1.5'!$B:$B,'B1.4'!$B9)+SUMIFS('B1.5'!M:M,'B1.5'!$B:$B,'B1.4'!$B9)) -> 0 | E9: =SUMIFS('B1.5'!O:O,'B1.5'!$B:$B,'B1.4'!$B9) -> 0 | F9: =SUMIFS('B1.5'!P:P,'B1.5'!$B:$B,'B1.4'!$B9) -> 0 | G9: =SUMIFS('B1.5'!L:L,'B1.5'!$B:$B,'B1.4'!$B9) -> 0 | H9: =SUMIFS('B1.5'!M:M,'B1.5'!$B:$B,'B1.4'!$B9) -> 0
D10: =SUM(SUMIFS('B1.5'!L:L,'B1.5'!$B:$B,'B1.4'!$B10)+SUMIFS('B1.5'!M:M,'B1.5'!$B:$B,'B1.4'!$B10)) -> 0 | E10: =SUMIFS('B1.5'!O:O,'B1.5'!$B:$B,'B1.4'!$B10) -> 0 | F10: =SUMIFS('B1.5'!P:P,'B1.5'!$B:$B,'B1.4'!$B10) -> 0 | G10: =SUMIFS('B1.5'!L:L,'B1.5'!$B:$B,'B1.4'!$B10) -> 0 | H10: =SUMIFS('B1.5'!M:M,'B1.5'!$B:$B,'B1.4'!$B10) -> 0
D11: =SUM(SUMIFS('B1.5'!L:L,'B1.5'!$B:$B,'B1.4'!$B11)+SUMIFS('B1.5'!M:M,'B1.5'!$B:$B,'B1.4'!$B11)) -> 0 | E11: =SUMIFS('B1.5'!O:O,'B1.5'!$B:$B,'B1.4'!$B11) -> 0 | F11: =SUMIFS('B1.5'!P:P,'B1.5'!$B:$B,'B1.4'!$B11) -> 0 | G11: =SUMIFS('B1.5'!L:L,'B1.5'!$B:$B,'B1.4'!$B11) -> 0 | H11: =SUMIFS('B1.5'!M:M,'B1.5'!$B:$B,'B1.4'!$B11) -> 0
D12: =SUM(SUMIFS('B1.5'!L:L,'B1.5'!$B:$B,'B1.4'!$B12)+SUMIFS('B1.5'!M:M,'B1.5'!$B:$B,'B1.4'!$B12)) -> 0 | E12: =SUMIFS('B1.5'!O:O,'B1.5'!$B:$B,'B1.4'!$B12) -> 0 | F12: =SUMIFS('B1.5'!P:P,'B1.5'!$B:$B,'B1.4'!$B12) -> 0 | G12: =SUMIFS('B1.5'!L:L,'B1.5'!$B:$B,'B1.4'!$B12) -> 0 | H12: =SUMIFS('B1.5'!M:M,'B1.5'!$B:$B,'B1.4'!$B12) -> 0
D13: =SUM(SUMIFS('B1.5'!L:L,'B1.5'!$B:$B,'B1.4'!$B13)+SUMIFS('B1.5'!M:M,'B1.5'!$B:$B,'B1.4'!$B13)) -> 0 | E13: =SUMIFS('B1.5'!O:O,'B1.5'!$B:$B,'B1.4'!$B13) -> 0 | F13: =SUMIFS('B1.5'!P:P,'B1.5'!$B:$B,'B1.4'!$B13) -> 0 | G13: =SUMIFS('B1.5'!L:L,'B1.5'!$B:$B,'B1.4'!$B13) -> 0 | H13: =SUMIFS('B1.5'!M:M,'B1.5'!$B:$B,'B1.4'!$B13) -> 0
D14: =SUM(SUMIFS('B1.5'!L:L,'B1.5'!$B:$B,'B1.4'!$B14)+SUMIFS('B1.5'!M:M,'B1.5'!$B:$B,'B1.4'!$B14)) -> 0 | E14: =SUMIFS('B1.5'!O:O,'B1.5'!$B:$B,'B1.4'!$B14) -> 0 | F14: =SUMIFS('B1.5'!P:P,'B1.5'!$B:$B,'B1.4'!$B14) -> 0 | G14: =SUMIFS('B1.5'!L:L,'B1.5'!$B:$B,'B1.4'!$B14) -> 0 | H14: =SUMIFS('B1.5'!M:M,'B1.5'!$B:$B,'B1.4'!$B14) -> 0
D15: =SUM(SUMIFS('B1.5'!L:L,'B1.5'!$B:$B,'B1.4'!$B15)+SUMIFS('B1.5'!M:M,'B1.5'!$B:$B,'B1.4'!$B15)) -> 0 | E15: =SUMIFS('B1.5'!O:O,'B1.5'!$B:$B,'B1.4'!$B15) -> 0 | F15: =SUMIFS('B1.5'!P:P,'B1.5'!$B:$B,'B1.4'!$B15) -> 0 | G15: =SUMIFS('B1.5'!L:L,'B1.5'!$B:$B,'B1.4'!$B15) -> 0 | H15: =SUMIFS('B1.5'!M:M,'B1.5'!$B:$B,'B1.4'!$B15) -> 0
... D74: =SUM(SUMIFS('B1.5'!L:L,'B1.5'!$B:$B,'B1.4'!$B74)+SUMIFS('B1.5'!M:M,'B1.5'!$B:$B,'B1.4'!$B74)) -> 0 | E74: =SUMIFS('B1.5'!O:O,'B1.5'!$B:$B,'B1.4'!$B74) -> 0 | F74: =SUMIFS('B1.5'!P:P,'B1.5'!$B:$B,'B1.4'!$B74) -> 0 | G74: =SUMIFS('B1.5'!L:L,'B1.5'!$B:$B,'B1.4'!$B74) -> 0 | H74: =SUMIFS('B1.5'!M:M,'B1.5'!$B:$B,'B1.4'!$B74) -> 0

Sheet B1.5
A1: Aktivita | B1: Podaktivita | C1: Účel | D1: Cieľová skupina | E1: Motív návstevy | F1: Typ návštevníka | G1: Vek návštevníka | H1: Status návštevníka | I1: Znevýhodnené skupiny | J1: KPI | K1: Očakávaný výstup (hodnota KPI) | L1: Požadovaná dotácia | M1: Vlastné zdroje | N1: BV/KV | O1: BV | P1: KV | Q1: Miesto realizácie | R1: Predpokladaný/plánovaný termín začiatku realizácie | S1: Predpokladaný/plánovaný termín ukončenia realizácie | T1: Spôsob a časový harmonogram realizácie (len KV) | U1: Zámer
A2: výber zo zoznamu | B2: výber zo zoznamu | C2: text | D2: výber zo zoznamu | E2: výber zo zoznamu | F2: výber zo zoznamu | G2: výber zo zoznamu | H2: výber zo zoznamu | I2: výber zo zoznamu | J2: výber zo zoznamu | K2: plánovaná hodnota ukazovateľa | L2: text | M2: text | N2: výber zo zoznamu | O2: automaticky | P2: automaticky | Q2: text | R2: mesiac/rok (napr. 01/2025) -> po označení KV povinné pole | S2: mesiac/rok (napr. 01/2025) | T2: text: max. 1000 znakov | U2: text: max. 1000 znakov
O4: =IF(N4="BV",L4+ M4,0) -> 0 | P4: =IF(N4="KV",#REF!+ M4,0) -> 0
O5: =IF(N5="BV", L4+M5,0) -> 0 | P5: =IF(N5="KV", L4+M5,0) -> 0
O6: =IF(N6="BV", L6+M6,0) -> 0 | P6: =IF(N6="KV", L6+M6,0) -> 0
O7: =IF(N7="BV", L7+M7,0) -> 0 | P7: =IF(N7="KV", L7+M7,0) -> 0
O8: =IF(N8="BV", L8+M8,0) -> 0 | P8: =IF(N8="KV", L8+M8,0) -> 0
O9: =IF(N9="BV", L9+M9,0) -> 0 | P9: =IF(N9="KV", L9+M9,0) -> 0
O10: =IF(N10="BV", L10+M10,0) -> 0 | P10: =IF(N10="KV", L10+M10,0) -> 0
O11: =IF(N11="BV", L11+M11,0) -> 0 | P11: =IF(N11="KV", L11+M11,0) -> 0
O12: =IF(N12="BV", L12+M12,0) -> 0 | P12: =IF(N12="KV", L12+M12,0) -> 0
O13: =IF(N13="BV", L13+M13,0) -> 0 | P13: =IF(N13="KV", L13+M13,0) -> 0
O14: =IF(N14="BV", L14+M14,0) -> 0 | P14: =IF(N14="KV", L14+M14,0) -> 0
O15: =IF(N15="BV", L15+M15,0) -> 0 | P15: =IF(N15="KV", L15+M15,0) -> 0
O16: =IF(N16="BV", L16+M16,0) -> 0 | P16: =IF(N16="KV", L16+M16,0) -> 0
O17: =IF(N17="BV", L17+M17,0) -> 0 | P17: =IF(N17="KV", L17+M17,0) -> 0
... O504: =IF(N504="BV", L504+M504,0) -> 0 | P504: =IF(N504="KV", L504+M504,0) -> 0

Sheet B1.6
A1: Aktivita | B1: Rozpočet | E1: Žiadané | F1: Vlastné zdroje | H1: Nárok na dotáciu | I1: Poznámka
B2: Spolu | C2: BV | D2: KV
A3: 1. Marketing a propagácia | B3: =SUMIFS('B1.3'!E:E,'B1.3'!$A:$A,$A3) -> 0 | C3: =SUMIFS('B1.3'!F:F,'B1.3'!$A:$A,$A3) -> 0 | D3: =SUMIFS('B1.3'!G:G,'B1.3'!$A:$A,$A3) -> 0 | E3: =SUMIFS('B1.3'!H:H,'B1.3'!$A:$A,$A3) -> 0 | F3: =SUMIFS('B1.3'!I:I,'B1.3'!$A:$A,$A3) -> 0 | H3: ='B1.1'!W5 -> 0 | I3: =IF(E11>H3,"POZOR! Prekročený nárok na dotáciu!","")
A4: 2. Činnosť turistického informačného centra zriadeného organizáciou cestovného ruchu | B4: =SUMIFS('B1.3'!E:E,'B1.3'!$A:$A,$A4) -> 0 | C4: =SUMIFS('B1.3'!F:F,'B1.3'!$A:$A,$A4) -> 0 | D4: =SUMIFS('B1.3'!G:G,'B1.3'!$A:$A,$A4) -> 0 | E4: =SUMIFS('B1.3'!H:H,'B1.3'!$A:$A,$A4) -> 0 | F4: =SUMIFS('B1.3'!I:I,'B1.3'!$A:$A,$A4) -> 0 | I4: (pozn.: pri prekročení sumy sa zobrazí upozornenie)
A5: 3. Tvorba a podpora udržateľných produktov cestovného ruchu | B5: =SUMIFS('B1.3'!E:E,'B1.3'!$A:$A,$A5) -> 0 | C5: =SUMIFS('B1.3'!F:F,'B1.3'!$A:$A,$A5) -> 0 | D5: =SUMIFS('B1.3'!G:G,'B1.3'!$A:$A,$A5) -> 0 | E5: =SUMIFS('B1.3'!H:H,'B1.3'!$A:$A,$A5) -> 0 | F5: =SUMIFS('B1.3'!I:I,'B1.3'!$A:$A,$A5) -> 0
A6: 4. Podpora atrakivít danej lokality | B6: =SUMIFS('B1.3'!E:E,'B1.3'!$A:$A,$A6) -> 0 | C6: =SUMIFS('B1.3'!F:F,'B1.3'!$A:$A,$A6) -> 0 | D6: =SUMIFS('B1.3'!G:G,'B1.3'!$A:$A,$A6) -> 0 | E6: =SUMIFS('B1.3'!H:H,'B1.3'!$A:$A,$A6) -> 0 | F6: =SUMIFS('B1.3'!I:I,'B1.3'!$A:$A,$A6) -> 0
A7: 5. Infraštruktúra cestovného ruchu | B7: =SUMIFS('B1.3'!E:E,'B1.3'!$A:$A,$A7) -> 0 | C7: =SUMIFS('B1.3'!F:F,'B1.3'!$A:$A,$A7) -> 0 | D7: =SUMIFS('B1.3'!G:G,'B1.3'!$A:$A,$A7) -> 0 | E7: =SUMIFS('B1.3'!H:H,'B1.3'!$A:$A,$A7) -> 0 | F7: =SUMIFS('B1.3'!I:I,'B1.3'!$A:$A,$A7) -> 0
A8: 6. Zabezpečenie strategických, koncepčných a analytických materiálov a dokumentov, štatistík a prieskumov | B8: =SUMIFS('B1.3'!E:E,'B1.3'!$A:$A,$A8) -> 0 | C8: =SUMIFS('B1.3'!F:F,'B1.3'!$A:$A,$A8) -> 0 | D8: =SUMIFS('B1.3'!G:G,'B1.3'!$A:$A,$A8) -> 0 | E8: =SUMIFS('B1.3'!H:H,'B1.3'!$A:$A,$A8) -> 0 | F8: =SUMIFS('B1.3'!I:I,'B1.3'!$A:$A,$A8) -> 0
A9: 7. Vzdelávacie aktivity zamerané na skvalitnenie a rozvoj destinácie a cestovného ruchu v nej | B9: =SUMIFS('B1.3'!E:E,'B1.3'!$A:$A,$A9) -> 0 | C9: =SUMIFS('B1.3'!F:F,'B1.3'!$A:$A,$A9) -> 0 | D9: =SUMIFS('B1.3'!G:G,'B1.3'!$A:$A,$A9) -> 0 | E9: =SUMIFS('B1.3'!H:H,'B1.3'!$A:$A,$A9) -> 0 | F9: =SUMIFS('B1.3'!I:I,'B1.3'!$A:$A,$A9) -> 0
A11: Spolu | B11: =SUM(B3:B9) -> 0 | C11: =SUM(C3:C9) -> 0 | D11: =SUM(D3:D9) -> 0 | E11: =SUM(E3:E9) -> 0 | F11: =SUM(F3:F9) -> 0
E13: Percento spolufinancovania | F13: =IF(B11=0,0,F11/B11) -> 0

Sheet B2.1
A1: Typ projektu | B1: Rok | C1: IČO partnera 1 | D1: Názov partnera 1 | E1: ID partnera 1 | F1: IČO partnera 2 | G1: Názov partnera 2 | H1: ID partnera 2 | I1: IČO partnera 3 | J1: Názov partnera 3 | K1: ID partnera 3 | L1: IČO partnera 4 | M1: Názov partnera 4 | N1: ID partnera 4 | O1: IČO partnera 5 | P1: Názov partnera 5 | Q1: ID partnera 5 | R1: Názov spoločného projektového zámeru | S1: ID_Spoločného projektového zámeru | T1: Predpokladaná doba ukončenia | U1: Predpokladaná doba ukončenia | V1: Hlavný cieľ spoločného projektového zámeru | W1: Nárok na dotáciu
A2: automaticky doplnené | B2: predvolené | C2: výbez zo zoznamu | D2: automaticky doplnené | E2: automaticky doplnené | F2: výbez zo zoznamu | G2: automaticky doplnené | H2: automaticky doplnené | I2: výbez zo zoznamu | J2: automaticky doplnené | K2: automaticky doplnené | L2: výbez zo zoznamu | M2: automaticky doplnené | N2: automaticky doplnené | O2: výbez zo zoznamu | P2: automaticky doplnené | Q2: automaticky doplnené | R2: text: max. 100 znakov | S2: Doplniť z registračného hárku projektového zámeru | T2: mesiac | U2: rok | V2: text: max. 500 znakov | W2: automaticky doplnené
A5: B | B5: 2025 | C5: prázdne | D5: =VLOOKUP(C5, 'ID číselník'!C:D, 2, 0) -> 0 | E5: =VLOOKUP(D5, 'ID číselník'!D:E, 2, 0) -> 0 | F5: prázdne | G5: =VLOOKUP(F5, 'ID číselník'!C:D, 2, 0) -> 0 | H5: =IF(G5<>"",VLOOKUP(G5, 'ID číselník'!D:E, 2, 0),"") -> 0 | I5: prázdne | J5: =VLOOKUP(I5, 'ID číselník'!C:D, 2, 0) -> 0 | K5: =IF(J5<>"",VLOOKUP(J5, 'ID číselník'!D:E, 2, 0),"") -> 0 | L5: prázdne | M5: =VLOOKUP(L5, 'ID číselník'!C:D, 2, 0) -> 0 | N5: =IF(M5<>"",VLOOKUP(M5, 'ID číselník'!D:E, 2, 0),"") -> 0 | O5: prázdne | P5: =VLOOKUP(O5, 'ID číselník'!C:D, 2, 0) -> 0 | Q5: =IF(P5<>"",VLOOKUP(P5, 'ID číselník'!D:E, 2, 0),"") -> 0 | W5: =IF(('A1'!K4/2)-('B1.6'!E11)>0,('A1'!K4/2)-('B1.6'!E11),"0") -> 0

Sheet B2.2
A1: B 2.2.1 Východisková situácia/ identifikácia problému (ak relevantné) | B1: B 2.2.2 Ciele projektu a očakávané výsledky | C1: B 2.2.3 Súlad so stratégiou rozvoja CR destinácie | D1: Názov dokumentu | E1: B 2.2.4 Súlad s PHSR VÚC | F1: Názov dokumentu | G1: B 2.2.5 Súlad s plánom rozvoja NRO (ak relevantné) | H1: Odborný garant projektu
A2: text: max. 2500 znakov | B2: text: max. 2500 znakov | C2: text: max. 500 znakov | D2: text | E2: text: max. 500 znakov | F2: text | G2: text: max. 500 znakov | H2: text

Sheet B2.3
A1: Aktivita | B1: Merateľný ukazovateľ (KPI) | C1: Hodnota KPI - súčasná | D1: Hodnota KPI - očakávaná | E1: Rozpočet | F1: BV | G1: KV | H1: Požadovaná dotácia | I1: Spolufinancovanie
A2: výber zo zoznamu | B2: text: KPI na úrovni aktivity len v prípade absencie KPI pri účeloch | C2: text: pre porovnanie - nepovinné | D2: text | E2: sum podaktivít | F2: sum podaktivít | G2: sum podaktivít | H2: sum podaktivít | I2: sum podaktivít
E4: =SUMIFS('B2.4'!D:D,'B2.4'!$A:$A,'B2.3'!$A4) -> 0 | F4: =SUMIFS('B2.4'!E:E,'B2.4'!$A:$A,'B2.3'!$A4) -> 0 | G4: =SUMIFS('B2.4'!F:F,'B2.4'!$A:$A,'B2.3'!$A4) -> 0 | H4: =SUMIFS('B2.4'!G:G,'B2.4'!$A:$A,'B2.3'!$A4) -> 0 | I4: =SUMIFS('B2.4'!H:H,'B2.4'!$A:$A,'B2.3'!$A4) -> 0
E5: =SUMIFS('B2.4'!D:D,'B2.4'!$A:$A,'B2.3'!$A5) -> 0 | F5: =SUMIFS('B2.4'!E:E,'B2.4'!$A:$A,'B2.3'!$A5) -> 0 | G5: =SUMIFS('B2.4'!F:F,'B2.4'!$A:$A,'B2.3'!$A5) -> 0 | H5: =SUMIFS('B2.4'!G:G,'B2.4'!$A:$A,'B2.3'!$A5) -> 0 | I5: =SUMIFS('B2.4'!H:H,'B2.4'!$A:$A,'B2.3'!$A5) -> 0
E6: =SUMIFS('B2.4'!D:D,'B2.4'!$A:$A,'B2.3'!$A6) -> 0 | F6: =SUMIFS('B2.4'!E:E,'B2.4'!$A:$A,'B2.3'!$A6) -> 0 | G6: =SUMIFS('B2.4'!F:F,'B2.4'!$A:$A,'B2.3'!$A6) -> 0 | H6: =SUMIFS('B2.4'!G:G,'B2.4'!$A:$A,'B2.3'!$A6) -> 0 | I6: =SUMIFS('B2.4'!H:H,'B2.4'!$A:$A,'B2.3'!$A6) -> 0
E7: =SUMIFS('B2.4'!D:D,'B2.4'!$A:$A,'B2.3'!$A7) -> 0 | F7: =SUMIFS('B2.4'!E:E,'B2.4'!$A:$A,'B2.3'!$A7) -> 0 | G7: =SUMIFS('B2.4'!F:F,'B2.4'!$A:$A,'B2.3'!$A7) -> 0 | H7: =SUMIFS('B2.4'!G:G,'B2.4'!$A:$A,'B2.3'!$A7) -> 0 | I7: =SUMIFS('B2.4'!H:H,'B2.4'!$A:$A,'B2.3'!$A7) -> 0
E8: =SUMIFS('B2.4'!D:D,'B2.4'!$A:$A,'B2.3'!$A8) -> 0 | F8: =SUMIFS('B2.4'!E:E,'B2.4'!$A:$A,'B2.3'!$A8) -> 0 | G8: =SUMIFS('B2.4'!F:F,'B2.4'!$A:$A,'B2.3'!$A8) -> 0 | H8: =SUMIFS('B2.4'!G:G,'B2.4'!$A:$A,'B2.3'!$A8) -> 0 | I8: =SUMIFS('B2.4'!H:H,'B2.4'!$A:$A,'B2.3'!$A8) -> 0
E9: =SUMIFS('B2.4'!D:D,'B2.4'!$A:$A,'B2.3'!$A9) -> 0 | F9: =SUMIFS('B2.4'!E:E,'B2.4'!$A:$A,'B2.3'!$A9) -> 0 | G9: =SUMIFS('B2.4'!F:F,'B2.4'!$A:$A,'B2.3'!$A9) -> 0 | H9: =SUMIFS('B2.4'!G:G,'B2.4'!$A:$A,'B2.3'!$A9) -> 0 | I9: =SUMIFS('B2.4'!H:H,'B2.4'!$A:$A,'B2.3'!$A9) -> 0
E10: =SUMIFS('B2.4'!D:D,'B2.4'!$A:$A,'B2.3'!$A10) -> 0 | F10: =SUMIFS('B2.4'!E:E,'B2.4'!$A:$A,'B2.3'!$A10) -> 0 | G10: =SUMIFS('B2.4'!F:F,'B2.4'!$A:$A,'B2.3'!$A10) -> 0 | H10: =SUMIFS('B2.4'!G:G,'B2.4'!$A:$A,'B2.3'!$A10) -> 0 | I10: =SUMIFS('B2.4'!H:H,'B2.4'!$A:$A,'B2.3'!$A10) -> 0
E11: =SUMIFS('B2.4'!D:D,'B2.4'!$A:$A,'B2.3'!$A11) -> 0 | F11: =SUMIFS('B2.4'!E:E,'B2.4'!$A:$A,'B2.3'!$A11) -> 0 | G11: =SUMIFS('B2.4'!F:F,'B2.4'!$A:$A,'B2.3'!$A11) -> 0 | H11: =SUMIFS('B2.4'!G:G,'B2.4'!$A:$A,'B2.3'!$A11) -> 0 | I11: =SUMIFS('B2.4'!H:H,'B2.4'!$A:$A,'B2.3'!$A11) -> 0
E12: =SUMIFS('B2.4'!D:D,'B2.4'!$A:$A,'B2.3'!$A12) -> 0 | F12: =SUMIFS('B2.4'!E:E,'B2.4'!$A:$A,'B2.3'!$A12) -> 0 | G12: =SUMIFS('B2.4'!F:F,'B2.4'!$A:$A,'B2.3'!$A12) -> 0 | H12: =SUMIFS('B2.4'!G:G,'B2.4'!$A:$A,'B2.3'!$A12) -> 0 | I12: =SUMIFS('B2.4'!H:H,'B2.4'!$A:$A,'B2.3'!$A12) -> 0
E13: =SUMIFS('B2.4'!D:D,'B2.4'!$A:$A,'B2.3'!$A13) -> 0 | F13: =SUMIFS('B2.4'!E:E,'B2.4'!$A:$A,'B2.3'!$A13) -> 0 | G13: =SUMIFS('B2.4'!F:F,'B2.4'!$A:$A,'B2.3'!$A13) -> 0 | H13: =SUMIFS('B2.4'!G:G,'B2.4'!$A:$A,'B2.3'!$A13) -> 0 | I13: =SUMIFS('B2.4'!H:H,'B2.4'!$A:$A,'B2.3'!$A13) -> 0

Sheet B2.4
A1: Aktivita | B1: Podaktivita | C1: Opis podaktivity | D1: Rozpočet | E1: BV | F1: KV | G1: Požadovaná dotácia | H1: Spolufinancovanie
A2: výber zo zoznamu | B2: výber zo zoznamu | C2: text: max. 250 znakov | D2: sum účelov | E2: sum účelov | F2: sum účelov | G2: sum účelov | H2: sum účelov
D4: =SUM(SUMIFS('B2.5'!L:L,'B2.5'!$B:$B,'B2.4'!$B4)+SUMIFS('B2.5'!M:M,'B2.5'!$B:$B,'B2.4'!$B4)) -> 0 | E4: =SUMIFS('B2.5'!O:O,'B2.5'!$B:$B,'B2.4'!$B4) -> 0 | F4: =SUMIFS('B2.5'!P:P,'B2.5'!$B:$B,'B2.4'!$B4) -> 0 | G4: =SUMIFS('B2.5'!L:L,'B2.5'!$B:$B,'B2.4'!$B4) -> 0 | H4: =SUMIFS('B2.5'!M:M,'B2.5'!$B:$B,'B2.4'!$B4) -> 0
D5: =SUM(SUMIFS('B2.5'!L:L,'B2.5'!$B:$B,'B2.4'!$B5)+SUMIFS('B2.5'!M:M,'B2.5'!$B:$B,'B2.4'!$B5)) -> 0 | E5: =SUMIFS('B2.5'!O:O,'B2.5'!$B:$B,'B2.4'!$B5) -> 0 | F5: =SUMIFS('B2.5'!P:P,'B2.5'!$B:$B,'B2.4'!$B5) -> 0 | G5: =SUMIFS('B2.5'!L:L,'B2.5'!$B:$B,'B2.4'!$B5) -> 0 | H5: =SUMIFS('B2.5'!M:M,'B2.5'!$B:$B,'B2.4'!$B5) -> 0
D6: =SUM(SUMIFS('B2.5'!L:L,'B2.5'!$B:$B,'B2.4'!$B6)+SUMIFS('B2.5'!M:M,'B2.5'!$B:$B,'B2.4'!$B6)) -> 0 | E6: =SUMIFS('B2.5'!O:O,'B2.5'!$B:$B,'B2.4'!$B6) -> 0 | F6: =SUMIFS('B2.5'!P:P,'B2.5'!$B:$B,'B2.4'!$B6) -> 0 | G6: =SUMIFS('B2.5'!L:L,'B2.5'!$B:$B,'B2.4'!$B6) -> 0 | H6: =SUMIFS('B2.5'!M:M,'B2.5'!$B:$B,'B2.4'!$B6) -> 0
D7: =SUM(SUMIFS('B2.5'!L:L,'B2.5'!$B:$B,'B2.4'!$B7)+SUMIFS('B2.5'!M:M,'B2.5'!$B:$B,'B2.4'!$B7)) -> 0 | E7: =SUMIFS('B2.5'!O:O,'B2.5'!$B:$B,'B2.4'!$B7) -> 0 | F7: =SUMIFS('B2.5'!P:P,'B2.5'!$B:$B,'B2.4'!$B7) -> 0 | G7: =SUMIFS('B2.5'!L:L,'B2.5'!$B:$B,'B2.4'!$B7) -> 0 | H7: =SUMIFS('B2.5'!M:M,'B2.5'!$B:$B,'B2.4'!$B7) -> 0
D8: =SUM(SUMIFS('B2.5'!L:L,'B2.5'!$B:$B,'B2.4'!$B8)+SUMIFS('B2.5'!M:M,'B2.5'!$B:$B,'B2.4'!$B8)) -> 0 | E8: =SUMIFS('B2.5'!O:O,'B2.5'!$B:$B,'B2.4'!$B8) -> 0 | F8: =SUMIFS('B2.5'!P:P,'B2.5'!$B:$B,'B2.4'!$B8) -> 0 | G8: =SUMIFS('B2.5'!L:L,'B2.5'!$B:$B,'B2.4'!$B8) -> 0 | H8: =SUMIFS('B2.5'!M:M,'B2.5'!$B:$B,'B2.4'!$B8) -> 0
D9: =SUM(SUMIFS('B2.5'!L:L,'B2.5'!$B:$B,'B2.4'!$B9)+SUMIFS('B2.5'!M:M,'B2.5'!$B:$B,'B2.4'!$B9)) -> 0 | E9: =SUMIFS('B2.5'!O:O,'B2.5'!$B:$B,'B2.4'!$B9) -> 0 | F9: =SUMIFS('B2.5'!P:P,'B2.5'!$B:$B,'B2.4'!$B9) -> 0 | G9: =SUMIFS('B2.5'!L:L,'B2.5'!$B:$B,'B2.4'!$B9) -> 0 | H9: =SUMIFS('B2.5'!M:M,'B2.5'!$B:$B,'B2.4'!$B9) -> 0
D10: =SUM(SUMIFS('B2.5'!L:L,'B2.5'!$B:$B,'B2.4'!$B10)+SUMIFS('B2.5'!M:M,'B2.5'!$B:$B,'B2.4'!$B10)) -> 0 | E10: =SUMIFS('B2.5'!O:O,'B2.5'!$B:$B,'B2.4'!$B10) -> 0 | F10: =SUMIFS('B2.5'!P:P,'B2.5'!$B:$B,'B2.4'!$B10) -> 0 | G10: =SUMIFS('B2.5'!L:L,'B2.5'!$B:$B,'B2.4'!$B10) -> 0 | H10: =SUMIFS('B2.5'!M:M,'B2.5'!$B:$B,'B2.4'!$B10) -> 0
D11: =SUM(SUMIFS('B2.5'!L:L,'B2.5'!$B:$B,'B2.4'!$B11)+SUMIFS('B2.5'!M:M,'B2.5'!$B:$B,'B2.4'!$B11)) -> 0 | E11: =SUMIFS('B2.5'!O:O,'B2.5'!$B:$B,'B2.4'!$B11) -> 0 | F11: =SUMIFS('B2.5'!P:P,'B2.5'!$B:$B,'B2.4'!$B11) -> 0 | G11: =SUMIFS('B2.5'!L:L,'B2.5'!$B:$B,'B2.4'!$B11) -> 0 | H11: =SUMIFS('B2.5'!M:M,'B2.5'!$B:$B,'B2.4'!$B11) -> 0
D12: =SUM(SUMIFS('B2.5'!L:L,'B2.5'!$B:$B,'B2.4'!$B12)+SUMIFS('B2.5'!M:M,'B2.5'!$B:$B,'B2.4'!$B12)) -> 0 | E12: =SUMIFS('B2.5'!O:O,'B2.5'!$B:$B,'B2.4'!$B12) -> 0 | F12: =SUMIFS('B2.5'!P:P,'B2.5'!$B:$B,'B2.4'!$B12) -> 0 | G12: =SUMIFS('B2.5'!L:L,'B2.5'!$B:$B,'B2.4'!$B12) -> 0 | H12: =SUMIFS('B2.5'!M:M,'B2.5'!$B:$B,'B2.4'!$B12) -> 0
D13: =SUM(SUMIFS('B2.5'!L:L,'B2.5'!$B:$B,'B2.4'!$B13)+SUMIFS('B2.5'!M:M,'B2.5'!$B:$B,'B2.4'!$B13)) -> 0 | E13: =SUMIFS('B2.5'!O:O,'B2.5'!$B:$B,'B2.4'!$B13) -> 0 | F13: =SUMIFS('B2.5'!P:P,'B2.5'!$B:$B,'B2.4'!$B13) -> 0 | G13: =SUMIFS('B2.5'!L:L,'B2.5'!$B:$B,'B2.4'!$B13) -> 0 | H13: =SUMIFS('B2.5'!M:M,'B2.5'!$B:$B,'B2.4'!$B13) -> 0
D14: =SUM(SUMIFS('B2.5'!L:L,'B2.5'!$B:$B,'B2.4'!$B14)+SUMIFS('B2.5'!M:M,'B2.5'!$B:$B,'B2.4'!$B14)) -> 0 | E14: =SUMIFS('B2.5'!O:O,'B2.5'!$B:$B,'B2.4'!$B14) -> 0 | F14: =SUMIFS('B2.5'!P:P,'B2.5'!$B:$B,'B2.4'!$B14) -> 0 | G14: =SUMIFS('B2.5'!L:L,'B2.5'!$B:$B,'B2.4'!$B14) -> 0 | H14: =SUMIFS('B2.5'!M:M,'B2.5'!$B:$B,'B2.4'!$B14) -> 0
D15: =SUM(SUMIFS('B2.5'!L:L,'B2.5'!$B:$B,'B2.4'!$B15)+SUMIFS('B2.5'!M:M,'B2.5'!$B:$B,'B2.4'!$B15)) -> 0 | E15: =SUMIFS('B2.5'!O:O,'B2.5'!$B:$B,'B2.4'!$B15) -> 0 | F15: =SUMIFS('B2.5'!P:P,'B2.5'!$B:$B,'B2.4'!$B15) -> 0 | G15: =SUMIFS('B2.5'!L:L,'B2.5'!$B:$B,'B2.4'!$B15) -> 0 | H15: =SUMIFS('B2.5'!M:M,'B2.5'!$B:$B,'B2.4'!$B15) -> 0
... D74: =SUM(SUMIFS('B2.5'!L:L,'B2.5'!$B:$B,'B2.4'!$B74)+SUMIFS('B2.5'!M:M,'B2.5'!$B:$B,'B2.4'!$B74)) -> 0 | E74: =SUMIFS('B2.5'!O:O,'B2.5'!$B:$B,'B2.4'!$B74) -> 0 | F74: =SUMIFS('B2.5'!P:P,'B2.5'!$B:$B,'B2.4'!$B74) -> 0 | G74: =SUMIFS('B2.5'!L:L,'B2.5'!$B:$B,'B2.4'!$B74) -> 0 | H74: =SUMIFS('B2.5'!M:M,'B2.5'!$B:$B,'B2.4'!$B74) -> 0

Sheet B2.5
A1: Aktivita | B1: Podaktivita | C1: Účel | D1: Cieľová skupina | E1: Motív návstevy | F1: Typ návštevníka | G1: Vek návštevníka | H1: Status návštevníka | I1: Znevýhodnené skupiny | J1: KPI | K1: Očakávaný výstup (hodnota KPI) | L1: Požadovaná dotácia | M1: Vlastné zdroje | N1: BV/KV | O1: BV | P1: KV | Q1: Miesto realizácie | R1: Predpokladaný/plánovaný termín začiatku realizácie | S1: Predpokladaný/plánovaný termín ukončenia realizácie | T1: Spôsob a časový harmonogram realizácie (len KV) | U1: Zámer
A2: výber zo zoznamu | B2: výber zo zoznamu | C2: text | D2: výber zo zoznamu | E2: výber zo zoznamu | F2: výber zo zoznamu | G2: výber zo zoznamu | H2: výber zo zoznamu | I2: výber zo zoznamu | J2: výber zo zoznamu | K2: plánovaná hodnota ukazovateľa | L2: text | M2: text | N2: výber zo zoznamu | O2: automaticky | P2: automaticky | Q2: text | R2: mesiac/rok (napr. 01/2025) -> po označení KV povinné pole | S2: mesiac/rok (napr. 01/2025) | T2: text: max. 1000 znakov | U2: text: max. 1000 znakov
O4: =IF(N4="BV", L4+M4,0) -> 0 | P4: =IF(N4="KV", L4+M4,0) -> 0
O5: =IF(N5="BV", L5+M5,0) -> 0 | P5: =IF(N5="KV", L5+M5,0) -> 0
O6: =IF(N6="BV", L6+M6,0) -> 0 | P6: =IF(N6="KV", L6+M6,0) -> 0
O7: =IF(N7="BV", L7+M7,0) -> 0 | P7: =IF(N7="KV", L7+M7,0) -> 0
O8: =IF(N8="BV", L8+M8,0) -> 0 | P8: =IF(N8="KV", L8+M8,0) -> 0
O9: =IF(N9="BV", L9+M9,0) -> 0 | P9: =IF(N9="KV", L9+M9,0) -> 0
O10: =IF(N10="BV", L10+M10,0) -> 0 | P10: =IF(N10="KV", L10+M10,0) -> 0
O11: =IF(N11="BV", L11+M11,0) -> 0 | P11: =IF(N11="KV", L11+M11,0) -> 0
O12: =IF(N12="BV", L12+M12,0) -> 0 | P12: =IF(N12="KV", L12+M12,0) -> 0
O13: =IF(N13="BV", L13+M13,0) -> 0 | P13: =IF(N13="KV", L13+M13,0) -> 0
O14: =IF(N14="BV", L14+M14,0) -> 0 | P14: =IF(N14="KV", L14+M14,0) -> 0
O15: =IF(N15="BV", L15+M15,0) -> 0 | P15: =IF(N15="KV", L15+M15,0) -> 0
... O504: =IF(N504="BV", L504+M504,0) -> 0 | P504: =IF(N504="KV", L504+M504,0) -> 0

Sheet B2.6
A1: Aktivita | B1: Rozpočet | E1: Žiadané | F1: Vlastné zdroje | H1: Nárok na dotáciu | I1: Poznámka
B2: Spolu | C2: BV | D2: KV
A3: 1. Marketing a propagácia | B3: =SUMIFS('B2.3'!E:E,'B2.3'!$A:$A,$A3) -> 0 | C3: =SUMIFS('B2.3'!F:F,'B2.3'!$A:$A,$A3) -> 0 | D3: =SUMIFS('B2.3'!G:G,'B2.3'!$A:$A,$A3) -> 0 | E3: =SUMIFS('B2.3'!H:H,'B2.3'!$A:$A,$A3) -> 0 | F3: =SUMIFS('B2.3'!I:I,'B2.3'!$A:$A,$A3) -> 0 | H3: ='B2.1'!W5 -> 0 | I3: =IF(E11>H3,"POZOR! Prekročený nárok na dotáciu!","")
A4: 2. Činnosť turistického informačného centra zriadeného organizáciou cestovného ruchu | B4: =SUMIFS('B2.3'!E:E,'B2.3'!$A:$A,$A4) -> 0 | C4: =SUMIFS('B2.3'!F:F,'B2.3'!$A:$A,$A4) -> 0 | D4: =SUMIFS('B2.3'!G:G,'B2.3'!$A:$A,$A4) -> 0 | E4: =SUMIFS('B2.3'!H:H,'B2.3'!$A:$A,$A4) -> 0 | F4: =SUMIFS('B2.3'!I:I,'B2.3'!$A:$A,$A4) -> 0 | I4: (pozn.: pri prekročení sumy sa zobrazí upozornenie)
A5: 3. Tvorba a podpora udržateľných produktov cestovného ruchu | B5: =SUMIFS('B2.3'!E:E,'B2.3'!$A:$A,$A5) -> 0 | C5: =SUMIFS('B2.3'!F:F,'B2.3'!$A:$A,$A5) -> 0 | D5: =SUMIFS('B2.3'!G:G,'B2.3'!$A:$A,$A5) -> 0 | E5: =SUMIFS('B2.3'!H:H,'B2.3'!$A:$A,$A5) -> 0 | F5: =SUMIFS('B2.3'!I:I,'B2.3'!$A:$A,$A5) -> 0
A6: 4. Podpora atrakivít danej lokality | B6: =SUMIFS('B2.3'!E:E,'B2.3'!$A:$A,$A6) -> 0 | C6: =SUMIFS('B2.3'!F:F,'B2.3'!$A:$A,$A6) -> 0 | D6: =SUMIFS('B2.3'!G:G,'B2.3'!$A:$A,$A6) -> 0 | E6: =SUMIFS('B2.3'!H:H,'B2.3'!$A:$A,$A6) -> 0 | F6: =SUMIFS('B2.3'!I:I,'B2.3'!$A:$A,$A6) -> 0
A7: 5. Infraštruktúra cestovného ruchu | B7: =SUMIFS('B2.3'!E:E,'B2.3'!$A:$A,$A7) -> 0 | C7: =SUMIFS('B2.3'!F:F,'B2.3'!$A:$A,$A7) -> 0 | D7: =SUMIFS('B2.3'!G:G,'B2.3'!$A:$A,$A7) -> 0 | E7: =SUMIFS('B2.3'!H:H,'B2.3'!$A:$A,$A7) -> 0 | F7: =SUMIFS('B2.3'!I:I,'B2.3'!$A:$A,$A7) -> 0
A8: 6. Zabezpečenie strategických, koncepčných a analytických materiálov a dokumentov, štatistík a prieskumov | B8: =SUMIFS('B2.3'!E:E,'B2.3'!$A:$A,$A8) -> 0 | C8: =SUMIFS('B2.3'!F:F,'B2.3'!$A:$A,$A8) -> 0 | D8: =SUMIFS('B2.3'!G:G,'B2.3'!$A:$A,$A8) -> 0 | E8: =SUMIFS('B2.3'!H:H,'B2.3'!$A:$A,$A8) -> 0 | F8: =SUMIFS('B2.3'!I:I,'B2.3'!$A:$A,$A8) -> 0
A9: 7. Vzdelávacie aktivity zamerané na skvalitnenie a rozvoj destinácie a cestovného ruchu v nej | B9: =SUMIFS('B2.3'!E:E,'B2.3'!$A:$A,$A9) -> 0 | C9: =SUMIFS('B2.3'!F:F,'B2.3'!$A:$A,$A9) -> 0 | D9: =SUMIFS('B2.3'!G:G,'B2.3'!$A:$A,$A9) -> 0 | E9: =SUMIFS('B2.3'!H:H,'B2.3'!$A:$A,$A9) -> 0 | F9: =SUMIFS('B2.3'!I:I,'B2.3'!$A:$A,$A9) -> 0
A11: Spolu | B11: =SUM(B3:B9) -> 0 | C11: =SUM(C3:C9) -> 0 | D11: =SUM(D3:D9) -> 0 | E11: =SUM(E3:E9) -> 0 | F11: =SUM(F3:F9) -> 0
E13: Percento spolufinancovania | F13: =IF(B11=0,0,F11/B11) -> 0

Sheet B3.1
A1: Typ projektu | B1: Rok | C1: IČO partnera 1 | D1: Názov partnera 1 | E1: ID partnera 1 | F1: IČO partnera 2 | G1: Názov partnera 2 | H1: ID partnera 2 | I1: IČO partnera 3 | J1: Názov partnera 3 | K1: ID partnera 3 | L1: IČO partnera 4 | M1: Názov partnera 4 | N1: ID partnera 4 | O1: IČO partnera 4 | P1: Názov partnera 4 | Q1: ID partnera 4 | R1: Názov spoločného projektového zámeru | S1: ID_Spoločného projektového zámeru | T1: Predpokladaná doba ukončenia | U1: Predpokladaná doba ukončenia | V1: Hlavný cieľ spoločného projektového zámeru | W1: Nárok na dotáciu
A2: automaticky doplnené | B2: predvolené | C2: výbez zo zoznamu | D2: automaticky doplnené | E2: automaticky doplnené | F2: výbez zo zoznamu | G2: automaticky doplnené | H2: automaticky doplnené | I2: výbez zo zoznamu | J2: automaticky doplnené | K2: automaticky doplnené | L2: výbez zo zoznamu | M2: automaticky doplnené | N2: automaticky doplnené | O2: výbez zo zoznamu | P2: automaticky doplnené | Q2: automaticky doplnené | R2: text: max. 100 znakov | S2: Doplniť z registračného hárku projektového zámeru | T2: mesiac | U2: rok | V2: text: max. 500 znakov | W2: automaticky doplnené
A5: B | B5: 2025 | C5: prázdne | D5: =VLOOKUP(C5, 'ID číselník'!C:D, 2, 0) -> 0 | E5: =VLOOKUP(D5, 'ID číselník'!D:E, 2, 0) -> 0 | F5: prázdne | G5: =VLOOKUP(F5, 'ID číselník'!C:D, 2, 0) -> 0 | H5: =IF(G5<>"",VLOOKUP(G5, 'ID číselník'!D:E, 2, 0),"") -> 0 | I5: prázdne | J5: =VLOOKUP(I5, 'ID číselník'!C:D, 2, 0) -> 0 | K5: =IF(J5<>"",VLOOKUP(J5, 'ID číselník'!D:E, 2, 0),"") -> 0 | L5: prázdne | M5: =VLOOKUP(L5, 'ID číselník'!C:D, 2, 0) -> 0 | N5: =IF(M5<>"",VLOOKUP(M5, 'ID číselník'!D:E, 2, 0),"") -> 0 | O5: prázdne | P5: =VLOOKUP(O5, 'ID číselník'!C:D, 2, 0) -> 0 | Q5: =IF(P5<>"",VLOOKUP(P5, 'ID číselník'!D:E, 2, 0),"") -> 0 | W5: =IF(('B2.6'!H3)-('B2.6'!E11)>0,('B2.6'!H3)-('B2.6'!E11),"0") -> 0

Sheet B3.2
A1: B 3.2.1 Východisková situácia/ identifikácia problému (ak relevantné) | B1: B 3.2.2 Ciele projektu a očakávané výsledky | C1: B 3.2.3 Súlad so stratégiou rozvoja CR destinácie | D1: Názov dokumentu | E1: B 3.2.4 Súlad s PHSR VÚC | F1: Názov dokumentu | G1: B 3.2.5 Súlad s plánom rozvoja NRO (ak relevantné) | H1: Odborný garant projektu
A2: text: max. 2500 znakov | B2: text: max. 2500 znakov | C2: text: max. 500 znakov | D2: text | E2: text: max. 500 znakov | F2: text | G2: text: max. 500 znakov | H2: text

Sheet B3.3
A1: Aktivita | B1: Merateľný ukazovateľ (KPI) | C1: Hodnota KPI - súčasná | D1: Hodnota KPI - očakávaná | E1: Rozpočet | F1: BV | G1: KV | H1: Požadovaná dotácia | I1: Spolufinancovanie
A2: výber zo zoznamu | B2: text: KPI na úrovni aktivity len v prípade absencie KPI pri účeloch | C2: text: pre porovnanie - nepovinné | D2: text | E2: sum podaktivít | F2: sum podaktivít | G2: sum podaktivít | H2: sum podaktivít | I2: sum podaktivít
E4: =SUMIFS('B3.4'!D:D,'B3.4'!$A:$A,'B3.3'!$A4) -> 0 | F4: =SUMIFS('B3.4'!E:E,'B3.4'!$A:$A,'B3.3'!$A4) -> 0 | G4: =SUMIFS('B3.4'!F:F,'B3.4'!$A:$A,'B3.3'!$A4) -> 0 | H4: =SUMIFS('B3.4'!G:G,'B3.4'!$A:$A,'B3.3'!$A4) -> 0 | I4: =SUMIFS('B3.4'!H:H,'B3.4'!$A:$A,'B3.3'!$A4) -> 0
E5: =SUMIFS('B3.4'!D:D,'B3.4'!$A:$A,'B3.3'!$A5) -> 0 | F5: =SUMIFS('B3.4'!E:E,'B3.4'!$A:$A,'B3.3'!$A5) -> 0 | G5: =SUMIFS('B3.4'!F:F,'B3.4'!$A:$A,'B3.3'!$A5) -> 0 | H5: =SUMIFS('B3.4'!G:G,'B3.4'!$A:$A,'B3.3'!$A5) -> 0 | I5: =SUMIFS('B3.4'!H:H,'B3.4'!$A:$A,'B3.3'!$A5) -> 0
E6: =SUMIFS('B3.4'!D:D,'B3.4'!$A:$A,'B3.3'!$A6) -> 0 | F6: =SUMIFS('B3.4'!E:E,'B3.4'!$A:$A,'B3.3'!$A6) -> 0 | G6: =SUMIFS('B3.4'!F:F,'B3.4'!$A:$A,'B3.3'!$A6) -> 0 | H6: =SUMIFS('B3.4'!G:G,'B3.4'!$A:$A,'B3.3'!$A6) -> 0 | I6: =SUMIFS('B3.4'!H:H,'B3.4'!$A:$A,'B3.3'!$A6) -> 0
E7: =SUMIFS('B3.4'!D:D,'B3.4'!$A:$A,'B3.3'!$A7) -> 0 | F7: =SUMIFS('B3.4'!E:E,'B3.4'!$A:$A,'B3.3'!$A7) -> 0 | G7: =SUMIFS('B3.4'!F:F,'B3.4'!$A:$A,'B3.3'!$A7) -> 0 | H7: =SUMIFS('B3.4'!G:G,'B3.4'!$A:$A,'B3.3'!$A7) -> 0 | I7: =SUMIFS('B3.4'!H:H,'B3.4'!$A:$A,'B3.3'!$A7) -> 0
E8: =SUMIFS('B3.4'!D:D,'B3.4'!$A:$A,'B3.3'!$A8) -> 0 | F8: =SUMIFS('B3.4'!E:E,'B3.4'!$A:$A,'B3.3'!$A8) -> 0 | G8: =SUMIFS('B3.4'!F:F,'B3.4'!$A:$A,'B3.3'!$A8) -> 0 | H8: =SUMIFS('B3.4'!G:G,'B3.4'!$A:$A,'B3.3'!$A8) -> 0 | I8: =SUMIFS('B3.4'!H:H,'B3.4'!$A:$A,'B3.3'!$A8) -> 0
E9: =SUMIFS('B3.4'!D:D,'B3.4'!$A:$A,'B3.3'!$A9) -> 0 | F9: =SUMIFS('B3.4'!E:E,'B3.4'!$A:$A,'B3.3'!$A9) -> 0 | G9: =SUMIFS('B3.4'!F:F,'B3.4'!$A:$A,'B3.3'!$A9) -> 0 | H9: =SUMIFS('B3.4'!G:G,'B3.4'!$A:$A,'B3.3'!$A9) -> 0 | I9: =SUMIFS('B3.4'!H:H,'B3.4'!$A:$A,'B3.3'!$A9) -> 0
E10: =SUMIFS('B3.4'!D:D,'B3.4'!$A:$A,'B3.3'!$A10) -> 0 | F10: =SUMIFS('B3.4'!E:E,'B3.4'!$A:$A,'B3.3'!$A10) -> 0 | G10: =SUMIFS('B3.4'!F:F,'B3.4'!$A:$A,'B3.3'!$A10) -> 0 | H10: =SUMIFS('B3.4'!G:G,'B3.4'!$A:$A,'B3.3'!$A10) -> 0 | I10: =SUMIFS('B3.4'!H:H,'B3.4'!$A:$A,'B3.3'!$A10) -> 0
E11: =SUMIFS('B3.4'!D:D,'B3.4'!$A:$A,'B3.3'!$A11) -> 0 | F11: =SUMIFS('B3.4'!E:E,'B3.4'!$A:$A,'B3.3'!$A11) -> 0 | G11: =SUMIFS('B3.4'!F:F,'B3.4'!$A:$A,'B3.3'!$A11) -> 0 | H11: =SUMIFS('B3.4'!G:G,'B3.4'!$A:$A,'B3.3'!$A11) -> 0 | I11: =SUMIFS('B3.4'!H:H,'B3.4'!$A:$A,'B3.3'!$A11) -> 0
E12: =SUMIFS('B3.4'!D:D,'B3.4'!$A:$A,'B3.3'!$A12) -> 0 | F12: =SUMIFS('B3.4'!E:E,'B3.4'!$A:$A,'B3.3'!$A12) -> 0 | G12: =SUMIFS('B3.4'!F:F,'B3.4'!$A:$A,'B3.3'!$A12) -> 0 | H12: =SUMIFS('B3.4'!G:G,'B3.4'!$A:$A,'B3.3'!$A12) -> 0 | I12: =SUMIFS('B3.4'!H:H,'B3.4'!$A:$A,'B3.3'!$A12) -> 0
E13: =SUMIFS('B3.4'!D:D,'B3.4'!$A:$A,'B3.3'!$A13) -> 0 | F13: =SUMIFS('B3.4'!E:E,'B3.4'!$A:$A,'B3.3'!$A13) -> 0 | G13: =SUMIFS('B3.4'!F:F,'B3.4'!$A:$A,'B3.3'!$A13) -> 0 | H13: =SUMIFS('B3.4'!G:G,'B3.4'!$A:$A,'B3.3'!$A13) -> 0 | I13: =SUMIFS('B3.4'!H:H,'B3.4'!$A:$A,'B3.3'!$A13) -> 0

Sheet B3.4
A1: Aktivita | B1: Podaktivita | C1: Opis podaktivity | D1: Rozpočet | E1: BV | F1: KV | G1: Požadovaná dotácia | H1: Spolufinancovanie
A2: výber zo zoznamu | B2: výber zo zoznamu | C2: text: max. 250 znakov | D2: sum účelov | E2: sum účelov | F2: sum účelov | G2: sum účelov | H2: sum účelov
D4: =SUM(SUMIFS('B3.5'!L:L,'B3.5'!$B:$B,'B3.4'!$B4)+SUMIFS('B3.5'!M:M,'B3.5'!$B:$B,'B3.4'!$B4)) -> 0 | E4: =SUMIFS('B3.5'!O:O,'B3.5'!$B:$B,'B3.4'!$B4) -> 0 | F4: =SUMIFS('B3.5'!P:P,'B3.5'!$B:$B,'B3.4'!$B4) -> 0 | G4: =SUMIFS('B3.5'!L:L,'B3.5'!$B:$B,'B3.4'!$B4) -> 0 | H4: =SUMIFS('B3.5'!M:M,'B3.5'!$B:$B,'B3.4'!$B4) -> 0
D5: =SUM(SUMIFS('B3.5'!L:L,'B3.5'!$B:$B,'B3.4'!$B5)+SUMIFS('B3.5'!M:M,'B3.5'!$B:$B,'B3.4'!$B5)) -> 0 | E5: =SUMIFS('B3.5'!O:O,'B3.5'!$B:$B,'B3.4'!$B5) -> 0 | F5: =SUMIFS('B3.5'!P:P,'B3.5'!$B:$B,'B3.4'!$B5) -> 0 | G5: =SUMIFS('B3.5'!L:L,'B3.5'!$B:$B,'B3.4'!$B5) -> 0 | H5: =SUMIFS('B3.5'!M:M,'B3.5'!$B:$B,'B3.4'!$B5) -> 0
D6: =SUM(SUMIFS('B3.5'!L:L,'B3.5'!$B:$B,'B3.4'!$B6)+SUMIFS('B3.5'!M:M,'B3.5'!$B:$B,'B3.4'!$B6)) -> 0 | E6: =SUMIFS('B3.5'!O:O,'B3.5'!$B:$B,'B3.4'!$B6) -> 0 | F6: =SUMIFS('B3.5'!P:P,'B3.5'!$B:$B,'B3.4'!$B6) -> 0 | G6: =SUMIFS('B3.5'!L:L,'B3.5'!$B:$B,'B3.4'!$B6) -> 0 | H6: =SUMIFS('B3.5'!M:M,'B3.5'!$B:$B,'B3.4'!$B6) -> 0
D7: =SUM(SUMIFS('B3.5'!L:L,'B3.5'!$B:$B,'B3.4'!$B7)+SUMIFS('B3.5'!M:M,'B3.5'!$B:$B,'B3.4'!$B7)) -> 0 | E7: =SUMIFS('B3.5'!O:O,'B3.5'!$B:$B,'B3.4'!$B7) -> 0 | F7: =SUMIFS('B3.5'!P:P,'B3.5'!$B:$B,'B3.4'!$B7) -> 0 | G7: =SUMIFS('B3.5'!L:L,'B3.5'!$B:$B,'B3.4'!$B7) -> 0 | H7: =SUMIFS('B3.5'!M:M,'B3.5'!$B:$B,'B3.4'!$B7) -> 0
D8: =SUM(SUMIFS('B3.5'!L:L,'B3.5'!$B:$B,'B3.4'!$B8)+SUMIFS('B3.5'!M:M,'B3.5'!$B:$B,'B3.4'!$B8)) -> 0 | E8: =SUMIFS('B3.5'!O:O,'B3.5'!$B:$B,'B3.4'!$B8) -> 0 | F8: =SUMIFS('B3.5'!P:P,'B3.5'!$B:$B,'B3.4'!$B8) -> 0 | G8: =SUMIFS('B3.5'!L:L,'B3.5'!$B:$B,'B3.4'!$B8) -> 0 | H8: =SUMIFS('B3.5'!M:M,'B3.5'!$B:$B,'B3.4'!$B8) -> 0
D9: =SUM(SUMIFS('B3.5'!L:L,'B3.5'!$B:$B,'B3.4'!$B9)+SUMIFS('B3.5'!M:M,'B3.5'!$B:$B,'B3.4'!$B9)) -> 0 | E9: =SUMIFS('B3.5'!O:O,'B3.5'!$B:$B,'B3.4'!$B9) -> 0 | F9: =SUMIFS('B3.5'!P:P,'B3.5'!$B:$B,'B3.4'!$B9) -> 0 | G9: =SUMIFS('B3.5'!L:L,'B3.5'!$B:$B,'B3.4'!$B9) -> 0 | H9: =SUMIFS('B3.5'!M:M,'B3.5'!$B:$B,'B3.4'!$B9) -> 0
D10: =SUM(SUMIFS('B3.5'!L:L,'B3.5'!$B:$B,'B3.4'!$B10)+SUMIFS('B3.5'!M:M,'B3.5'!$B:$B,'B3.4'!$B10)) -> 0 | E10: =SUMIFS('B3.5'!O:O,'B3.5'!$B:$B,'B3.4'!$B10) -> 0 | F10: =SUMIFS('B3.5'!P:P,'B3.5'!$B:$B,'B3.4'!$B10) -> 0 | G10: =SUMIFS('B3.5'!L:L,'B3.5'!$B:$B,'B3.4'!$B10) -> 0 | H10: =SUMIFS('B3.5'!M:M,'B3.5'!$B:$B,'B3.4'!$B10) -> 0
D11: =SUM(SUMIFS('B3.5'!L:L,'B3.5'!$B:$B,'B3.4'!$B11)+SUMIFS('B3.5'!M:M,'B3.5'!$B:$B,'B3.4'!$B11)) -> 0 | E11: =SUMIFS('B3.5'!O:O,'B3.5'!$B:$B,'B3.4'!$B11) -> 0 | F11: =SUMIFS('B3.5'!P:P,'B3.5'!$B:$B,'B3.4'!$B11) -> 0 | G11: =SUMIFS('B3.5'!L:L,'B3.5'!$B:$B,'B3.4'!$B11) -> 0 | H11: =SUMIFS('B3.5'!M:M,'B3.5'!$B:$B,'B3.4'!$B11) -> 0
D12: =SUM(SUMIFS('B3.5'!L:L,'B3.5'!$B:$B,'B3.4'!$B12)+SUMIFS('B3.5'!M:M,'B3.5'!$B:$B,'B3.4'!$B12)) -> 0 | E12: =SUMIFS('B3.5'!O:O,'B3.5'!$B:$B,'B3.4'!$B12) -> 0 | F12: =SUMIFS('B3.5'!P:P,'B3.5'!$B:$B,'B3.4'!$B12) -> 0 | G12: =SUMIFS('B3.5'!L:L,'B3.5'!$B:$B,'B3.4'!$B12) -> 0 | H12: =SUMIFS('B3.5'!M:M,'B3.5'!$B:$B,'B3.4'!$B12) -> 0
D13: =SUM(SUMIFS('B3.5'!L:L,'B3.5'!$B:$B,'B3.4'!$B13)+SUMIFS('B3.5'!M:M,'B3.5'!$B:$B,'B3.4'!$B13)) -> 0 | E13: =SUMIFS('B3.5'!O:O,'B3.5'!$B:$B,'B3.4'!$B13) -> 0 | F13: =SUMIFS('B3.5'!P:P,'B3.5'!$B:$B,'B3.4'!$B13) -> 0 | G13: =SUMIFS('B3.5'!L:L,'B3.5'!$B:$B,'B3.4'!$B13) -> 0 | H13: =SUMIFS('B3.5'!M:M,'B3.5'!$B:$B,'B3.4'!$B13) -> 0
D14: =SUM(SUMIFS('B3.5'!L:L,'B3.5'!$B:$B,'B3.4'!$B14)+SUMIFS('B3.5'!M:M,'B3.5'!$B:$B,'B3.4'!$B14)) -> 0 | E14: =SUMIFS('B3.5'!O:O,'B3.5'!$B:$B,'B3.4'!$B14) -> 0 | F14: =SUMIFS('B3.5'!P:P,'B3.5'!$B:$B,'B3.4'!$B14) -> 0 | G14: =SUMIFS('B3.5'!L:L,'B3.5'!$B:$B,'B3.4'!$B14) -> 0 | H14: =SUMIFS('B3.5'!M:M,'B3.5'!$B:$B,'B3.4'!$B14) -> 0
D15: =SUM(SUMIFS('B3.5'!L:L,'B3.5'!$B:$B,'B3.4'!$B15)+SUMIFS('B3.5'!M:M,'B3.5'!$B:$B,'B3.4'!$B15)) -> 0 | E15: =SUMIFS('B3.5'!O:O,'B3.5'!$B:$B,'B3.4'!$B15) -> 0 | F15: =SUMIFS('B3.5'!P:P,'B3.5'!$B:$B,'B3.4'!$B15) -> 0 | G15: =SUMIFS('B3.5'!L:L,'B3.5'!$B:$B,'B3.4'!$B15) -> 0 | H15: =SUMIFS('B3.5'!M:M,'B3.5'!$B:$B,'B3.4'!$B15) -> 0
... D74: =SUM(SUMIFS('B3.5'!L:L,'B3.5'!$B:$B,'B3.4'!$B74)+SUMIFS('B3.5'!M:M,'B3.5'!$B:$B,'B3.4'!$B74)) -> 0 | E74: =SUMIFS('B3.5'!O:O,'B3.5'!$B:$B,'B3.4'!$B74) -> 0 | F74: =SUMIFS('B3.5'!P:P,'B3.5'!$B:$B,'B3.4'!$B74) -> 0 | G74: =SUMIFS('B3.5'!L:L,'B3.5'!$B:$B,'B3.4'!$B74) -> 0 | H74: =SUMIFS('B3.5'!M:M,'B3.5'!$B:$B,'B3.4'!$B74) -> 0

Sheet B3.5
A1: Aktivita | B1: Podaktivita | C1: Účel | D1: Cieľová skupina | E1: Motív návstevy | F1: Typ návštevníka | G1: Vek návštevníka | H1: Status návštevníka | I1: Znevýhodnené skupiny | J1: KPI | K1: Očakávaný výstup (hodnota KPI) | L1: Požadovaná dotácia | M1: Vlastné zdroje | N1: BV/KV | O1: BV | P1: KV | Q1: Miesto realizácie | R1: Predpokladaný/plánovaný termín začiatku realizácie | S1: Predpokladaný/plánovaný termín ukončenia realizácie | T1: Spôsob a časový harmonogram realizácie (len KV) | U1: Zámer
A2: výber zo zoznamu | B2: výber zo zoznamu | C2: text | D2: výber zo zoznamu | E2: výber zo zoznamu | F2: výber zo zoznamu | G2: výber zo zoznamu | H2: výber zo zoznamu | I2: výber zo zoznamu | J2: výber zo zoznamu | K2: plánovaná hodnota ukazovateľa | L2: text | M2: text | N2: výber zo zoznamu | O2: automaticky | P2: automaticky | Q2: text | R2: mesiac/rok (napr. 01/2025) -> po označení KV povinné pole | S2: mesiac/rok (napr. 01/2025) | T2: text: max. 1000 znakov | U2: text: max. 1000 znakov
O4: =IF(N4="BV", L4+M4,0) -> 0 | P4: =IF(N4="KV", L4+M4,0) -> 0
O5: =IF(N5="BV", L5+M5,0) -> 0 | P5: =IF(N5="KV", L5+M5,0) -> 0
O6: =IF(N6="BV", L6+M6,0) -> 0 | P6: =IF(N6="KV", L6+M6,0) -> 0
O7: =IF(N7="BV", L7+M7,0) -> 0 | P7: =IF(N7="KV", L7+M7,0) -> 0
O8: =IF(N8="BV", L8+M8,0) -> 0 | P8: =IF(N8="KV", L8+M8,0) -> 0
O9: =IF(N9="BV", L9+M9,0) -> 0 | P9: =IF(N9="KV", L9+M9,0) -> 0
O10: =IF(N10="BV", L10+M10,0) -> 0 | P10: =IF(N10="KV", L10+M10,0) -> 0
O11: =IF(N11="BV", L11+M11,0) -> 0 | P11: =IF(N11="KV", L11+M11,0) -> 0
O12: =IF(N12="BV", L12+M12,0) -> 0 | P12: =IF(N12="KV", L12+M12,0) -> 0
O13: =IF(N13="BV", L13+M13,0) -> 0 | P13: =IF(N13="KV", L13+M13,0) -> 0
O14: =IF(N14="BV", L14+M14,0) -> 0 | P14: =IF(N14="KV", L14+M14,0) -> 0
O15: =IF(N15="BV", L15+M15,0) -> 0 | P15: =IF(N15="KV", L15+M15,0) -> 0
... O504: =IF(N504="BV", L504+M504,0) -> 0 | P504: =IF(N504="KV", L504+M504,0) -> 0

Sheet B3.6
A1: Aktivita | B1: Rozpočet | E1: Žiadané | F1: Vlastné zdroje | H1: Nárok na dotáciu | I1: Poznámka
B2: Spolu | C2: BV | D2: KV
A3: 1. Marketing a propagácia | B3: =SUMIFS('B3.3'!E:E,'B3.3'!$A:$A,$A3) -> 0 | C3: =SUMIFS('B3.3'!F:F,'B3.3'!$A:$A,$A3) -> 0 | D3: =SUMIFS('B3.3'!G:G,'B3.3'!$A:$A,$A3) -> 0 | E3: =SUMIFS('B3.3'!H:H,'B3.3'!$A:$A,$A3) -> 0 | F3: =SUMIFS('B3.3'!I:I,'B3.3'!$A:$A,$A3) -> 0 | H3: ='B3.1'!W5 -> 0 | I3: =IF(E11>H3,"POZOR! Prekročený nárok na dotáciu!","")
A4: 2. Činnosť turistického informačného centra zriadeného organizáciou cestovného ruchu | B4: =SUMIFS('B3.3'!E:E,'B3.3'!$A:$A,$A4) -> 0 | C4: =SUMIFS('B3.3'!F:F,'B3.3'!$A:$A,$A4) -> 0 | D4: =SUMIFS('B3.3'!G:G,'B3.3'!$A:$A,$A4) -> 0 | E4: =SUMIFS('B3.3'!H:H,'B3.3'!$A:$A,$A4) -> 0 | F4: =SUMIFS('B3.3'!I:I,'B3.3'!$A:$A,$A4) -> 0 | I4: (pozn.: pri prekročení sumy sa zobrazí upozornenie)
A5: 3. Tvorba a podpora udržateľných produktov cestovného ruchu | B5: =SUMIFS('B3.3'!E:E,'B3.3'!$A:$A,$A5) -> 0 | C5: =SUMIFS('B3.3'!F:F,'B3.3'!$A:$A,$A5) -> 0 | D5: =SUMIFS('B3.3'!G:G,'B3.3'!$A:$A,$A5) -> 0 | E5: =SUMIFS('B3.3'!H:H,'B3.3'!$A:$A,$A5) -> 0 | F5: =SUMIFS('B3.3'!I:I,'B3.3'!$A:$A,$A5) -> 0
A6: 4. Podpora atrakivít danej lokality | B6: =SUMIFS('B3.3'!E:E,'B3.3'!$A:$A,$A6) -> 0 | C6: =SUMIFS('B3.3'!F:F,'B3.3'!$A:$A,$A6) -> 0 | D6: =SUMIFS('B3.3'!G:G,'B3.3'!$A:$A,$A6) -> 0 | E6: =SUMIFS('B3.3'!H:H,'B3.3'!$A:$A,$A6) -> 0 | F6: =SUMIFS('B3.3'!I:I,'B3.3'!$A:$A,$A6) -> 0
A7: 5. Infraštruktúra cestovného ruchu | B7: =SUMIFS('B3.3'!E:E,'B3.3'!$A:$A,$A7) -> 0 | C7: =SUMIFS('B3.3'!F:F,'B3.3'!$A:$A,$A7) -> 0 | D7: =SUMIFS('B3.3'!G:G,'B3.3'!$A:$A,$A7) -> 0 | E7: =SUMIFS('B3.3'!H:H,'B3.3'!$A:$A,$A7) -> 0 | F7: =SUMIFS('B3.3'!I:I,'B3.3'!$A:$A,$A7) -> 0
A8: 6. Zabezpečenie strategických, koncepčných a analytických materiálov a dokumentov, štatistík a prieskumov | B8: =SUMIFS('B3.3'!E:E,'B3.3'!$A:$A,$A8) -> 0 | C8: =SUMIFS('B3.3'!F:F,'B3.3'!$A:$A,$A8) -> 0 | D8: =SUMIFS('B3.3'!G:G,'B3.3'!$A:$A,$A8) -> 0 | E8: =SUMIFS('B3.3'!H:H,'B3.3'!$A:$A,$A8) -> 0 | F8: =SUMIFS('B3.3'!I:I,'B3.3'!$A:$A,$A8) -> 0
A9: 7. Vzdelávacie aktivity zamerané na skvalitnenie a rozvoj destinácie a cestovného ruchu v nej | B9: =SUMIFS('B3.3'!E:E,'B3.3'!$A:$A,$A9) -> 0 | C9: =SUMIFS('B3.3'!F:F,'B3.3'!$A:$A,$A9) -> 0 | D9: =SUMIFS('B3.3'!G:G,'B3.3'!$A:$A,$A9) -> 0 | E9: =SUMIFS('B3.3'!H:H,'B3.3'!$A:$A,$A9) -> 0 | F9: =SUMIFS('B3.3'!I:I,'B3.3'!$A:$A,$A9) -> 0
A11: Spolu | B11: =SUM(B3:B9) -> 0 | C11: =SUM(C3:C9) -> 0 | D11: =SUM(D3:D9) -> 0 | E11: =SUM(E3:E9) -> 0 | F11: =SUM(F3:F9) -> 0
E13: Percento spolufinancovania | F13: =IF(B11=0,0,F11/B11) -> 0

Sheet Zhrnutie
A1: PROJEKT A | L1: ŽIADATEĽ
L2: Názov OOCR
A3: Aktivita | B3: Rozpočet | E3: Žiadané | F3: Vlastné zdroje | H3: Nárok na dotáciu | I3: Poznámka | L3: =VLOOKUP(L6, 'ID číselník'!C:D, 2, 0) -> 0
B4: Spolu | C4: BV | D4: KV
A5: 1. Marketing a propagácia | B5: =SUMIFS('A3'!E:E,'A3'!$A:$A,$A5) -> 0 | C5: =SUMIFS('A3'!F:F,'A3'!$A:$A,$A5) -> 0 | D5: =SUMIFS('A3'!G:G,'A3'!$A:$A,$A5) -> 0 | E5: =SUMIFS('A3'!H:H,'A3'!$A:$A,$A5) -> 0 | F5: =SUMIFS('A3'!I:I,'A3'!$A:$A,$A5) -> 0 | H5: ='A1'!K4 -> 0 | I5: =IF(E13>H5,"POZOR! Prekročený nárok na dotáciu!","") | L5: IČO | M5: Okres
A6: 2. Činnosť turistického informačného centra zriadeného organizáciou cestovného ruchu | B6: =SUMIFS('A3'!E:E,'A3'!$A:$A,$A6) -> 0 | C6: =SUMIFS('A3'!F:F,'A3'!$A:$A,$A6) -> 0 | D6: =SUMIFS('A3'!G:G,'A3'!$A:$A,$A6) -> 0 | E6: =SUMIFS('A3'!H:H,'A3'!$A:$A,$A6) -> 0 | F6: =SUMIFS('A3'!I:I,'A3'!$A:$A,$A6) -> 0 | L6: ='A1'!C4 -> prázdne | M6: =VLOOKUP(L6, 'ID číselník'!C:T, 18, 0) -> 0
A7: 3. Tvorba a podpora udržateľných produktov cestovného ruchu | B7: =SUMIFS('A3'!E:E,'A3'!$A:$A,$A7) -> 0 | C7: =SUMIFS('A3'!F:F,'A3'!$A:$A,$A7) -> 0 | D7: =SUMIFS('A3'!G:G,'A3'!$A:$A,$A7) -> 0 | E7: =SUMIFS('A3'!H:H,'A3'!$A:$A,$A7) -> 0 | F7: =SUMIFS('A3'!I:I,'A3'!$A:$A,$A7) -> 0 | I7: (pozn.: pri prekročení sumy sa zobrazí upozornenie)
A8: 4. Podpora atrakivít danej lokality | B8: =SUMIFS('A3'!E:E,'A3'!$A:$A,$A8) -> 0 | C8: =SUMIFS('A3'!F:F,'A3'!$A:$A,$A8) -> 0 | D8: =SUMIFS('A3'!G:G,'A3'!$A:$A,$A8) -> 0 | E8: =SUMIFS('A3'!H:H,'A3'!$A:$A,$A8) -> 0 | F8: =SUMIFS('A3'!I:I,'A3'!$A:$A,$A8) -> 0 | L8: Ulica a číslo domu | M8: Kraj
A9: 5. Infraštruktúra cestovného ruchu | B9: =SUMIFS('A3'!E:E,'A3'!$A:$A,$A9) -> 0 | C9: =SUMIFS('A3'!F:F,'A3'!$A:$A,$A9) -> 0 | D9: =SUMIFS('A3'!G:G,'A3'!$A:$A,$A9) -> 0 | E9: =SUMIFS('A3'!H:H,'A3'!$A:$A,$A9) -> 0 | F9: =SUMIFS('A3'!I:I,'A3'!$A:$A,$A9) -> 0 | L9: =VLOOKUP(L6, 'ID číselník'!C:Q, 15, 0) -> 0 | M9: =VLOOKUP(L6, 'ID číselník'!C:U, 19, 0) -> 0
A10: 6. Zabezpečenie strategických, koncepčných a analytických materiálov a dokumentov, štatistík a prieskumov | B10: =SUMIFS('A3'!E:E,'A3'!$A:$A,$A10) -> 0 | C10: =SUMIFS('A3'!F:F,'A3'!$A:$A,$A10) -> 0 | D10: =SUMIFS('A3'!G:G,'A3'!$A:$A,$A10) -> 0 | E10: =SUMIFS('A3'!H:H,'A3'!$A:$A,$A10) -> 0 | F10: =SUMIFS('A3'!I:I,'A3'!$A:$A,$A10) -> 0
A11: 7. Vzdelávacie aktivity zamerané na skvalitnenie a rozvoj destinácie a cestovného ruchu v nej | B11: =SUMIFS('A3'!E:E,'A3'!$A:$A,$A11) -> 0 | C11: =SUMIFS('A3'!F:F,'A3'!$A:$A,$A11) -> 0 | D11: =SUMIFS('A3'!G:G,'A3'!$A:$A,$A11) -> 0 | E11: =SUMIFS('A3'!H:H,'A3'!$A:$A,$A11) -> 0 | F11: =SUMIFS('A3'!I:I,'A3'!$A:$A,$A11) -> 0 | L11: PSČ | M11: AOCR
L12: =VLOOKUP(L6, 'ID číselník'!C:R, 16, 0) -> 0 | M12: =VLOOKUP(L6, 'ID číselník'!C:K, 9, 0) -> 0
A13: Spolu | B13: =SUM(B5:B11) -> 0 | C13: =SUM(C5:C11) -> 0 | D13: =SUM(D5:D11) -> 0 | E13: =SUM(E5:E11) -> 0 | F13: =SUM(F5:F11) -> 0
L14: Mesto | M14: VUC
E15: Percento spolufinancovania | F15: =IF(B13=0,0,F13/B13) -> 0 | L15: =VLOOKUP(L6, 'ID číselník'!C:S, 17, 0) -> 0 | M15: =VLOOKUP(L6, 'ID číselník'!C:J, 8, 0) -> 0
A18: PROJEKT B1 | L18: SPOLUFINANCOVANIE PROJEKTOV
L19: PROJEKT A | M19: PROJEKTY B (kumulovane)
A20: Aktivita | B20: Rozpočet | E20: Žiadané | F20: Vlastné zdroje | H20: Nárok na dotáciu | I20: Poznámka | L20: =F15 -> 0 | M20: =IFERROR(SUM(IF(F32<>0, F32,0), IF(F49<>0, F49,0), IF(F66<>0, F66,0))/IF((COUNTIF(F32,"<>0")+COUNTIF(F49,"<>0")+COUNTIF(F66,"<>0"))=0,0,(COUNTIF(F32,"<>0")+COUNTIF(F49,"<>0")+COUNTIF(F66,"<>0"))),0) -> 0
B21: Spolu | C21: BV | D21: KV
A22: 1. Marketing a propagácia | B22: =SUMIFS('B1.3'!E:E,'B1.3'!$A:$A,$A22) -> 0 | C22: =SUMIFS('B1.3'!F:F,'B1.3'!$A:$A,$A22) -> 0 | D22: =SUMIFS('B1.3'!G:G,'B1.3'!$A:$A,$A22) -> 0 | E22: =SUMIFS('B1.3'!H:H,'B1.3'!$A:$A,$A22) -> 0 | F22: =SUMIFS('B1.3'!I:I,'B1.3'!$A:$A,$A22) -> 0 | H22: ='B1.1'!W5 -> 0 | I22: =IF(E30>H22,"POZOR! Prekročený nárok na dotáciu!","")
A23: 2. Činnosť turistického informačného centra zriadeného organizáciou cestovného ruchu | B23: =SUMIFS('B1.3'!E:E,'B1.3'!$A:$A,$A23) -> 0 | C23: =SUMIFS('B1.3'!F:F,'B1.3'!$A:$A,$A23) -> 0 | D23: =SUMIFS('B1.3'!G:G,'B1.3'!$A:$A,$A23) -> 0 | E23: =SUMIFS('B1.3'!H:H,'B1.3'!$A:$A,$A23) -> 0 | F23: =SUMIFS('B1.3'!I:I,'B1.3'!$A:$A,$A23) -> 0 | L23: ID PROJEKTOVÝCH KONCEPTOV
A24: 3. Tvorba a podpora udržateľných produktov cestovného ruchu | B24: =SUMIFS('B1.3'!E:E,'B1.3'!$A:$A,$A24) -> 0 | C24: =SUMIFS('B1.3'!F:F,'B1.3'!$A:$A,$A24) -> 0 | D24: =SUMIFS('B1.3'!G:G,'B1.3'!$A:$A,$A24) -> 0 | E24: =SUMIFS('B1.3'!H:H,'B1.3'!$A:$A,$A24) -> 0 | F24: =SUMIFS('B1.3'!I:I,'B1.3'!$A:$A,$A24) -> 0 | I24: (pozn.: pri prekročení sumy sa zobrazí upozornenie) | L24: ='A1'!F4 -> 0
A25: 4. Podpora atrakivít danej lokality | B25: =SUMIFS('B1.3'!E:E,'B1.3'!$A:$A,$A25) -> 0 | C25: =SUMIFS('B1.3'!F:F,'B1.3'!$A:$A,$A25) -> 0 | D25: =SUMIFS('B1.3'!G:G,'B1.3'!$A:$A,$A25) -> 0 | E25: =SUMIFS('B1.3'!H:H,'B1.3'!$A:$A,$A25) -> 0 | F25: =SUMIFS('B1.3'!I:I,'B1.3'!$A:$A,$A25) -> 0 | L25: PROJEKT A | M25: ='A1'!G4 -> 0__A
A26: 5. Infraštruktúra cestovného ruchu | B26: =SUMIFS('B1.3'!E:E,'B1.3'!$A:$A,$A26) -> 0 | C26: =SUMIFS('B1.3'!F:F,'B1.3'!$A:$A,$A26) -> 0 | D26: =SUMIFS('B1.3'!G:G,'B1.3'!$A:$A,$A26) -> 0 | E26: =SUMIFS('B1.3'!H:H,'B1.3'!$A:$A,$A26) -> 0 | F26: =SUMIFS('B1.3'!I:I,'B1.3'!$A:$A,$A26) -> 0 | L26: ='B1.1'!R5 -> 0
A27: 6. Zabezpečenie strategických, koncepčných a analytických materiálov a dokumentov, štatistík a prieskumov | B27: =SUMIFS('B1.3'!E:E,'B1.3'!$A:$A,$A27) -> 0 | C27: =SUMIFS('B1.3'!F:F,'B1.3'!$A:$A,$A27) -> 0 | D27: =SUMIFS('B1.3'!G:G,'B1.3'!$A:$A,$A27) -> 0 | E27: =SUMIFS('B1.3'!H:H,'B1.3'!$A:$A,$A27) -> 0 | F27: =SUMIFS('B1.3'!I:I,'B1.3'!$A:$A,$A27) -> 0 | L27: PROJEKT B1 | M27: ='B1.1'!S5 -> 0
A28: 7. Vzdelávacie aktivity zamerané na skvalitnenie a rozvoj destinácie a cestovného ruchu v nej | B28: =SUMIFS('B1.3'!E:E,'B1.3'!$A:$A,$A28) -> 0 | C28: =SUMIFS('B1.3'!F:F,'B1.3'!$A:$A,$A28) -> 0 | D28: =SUMIFS('B1.3'!G:G,'B1.3'!$A:$A,$A28) -> 0 | E28: =SUMIFS('B1.3'!H:H,'B1.3'!$A:$A,$A28) -> 0 | F28: =SUMIFS('B1.3'!I:I,'B1.3'!$A:$A,$A28) -> 0 | L28: ='B2.1'!R5 -> 0
L29: PROJEKT B2 | M29: ='B2.1'!S5 -> 0
A30: Spolu | B30: =SUM(B22:B28) -> 0 | C30: =SUM(C22:C28) -> 0 | D30: =SUM(D22:D28) -> 0 | E30: =SUM(E22:E28) -> 0 | F30: =SUM(F22:F28) -> 0 | L30: ='B3.1'!R5 -> 0
L31: PROJEKT B3 | M31: ='B3.1'!S5 -> 0
E32: Percento spolufinancovania | F32: =IF(B30=0,0,F30/B30) -> 0
A35: PROJEKT B2 | L35: CELKOVÝ NÁROK NA DOTÁCIU | M35: CELKOVÁ ŽIADOSŤ O DOTÁCIU
L36: =H5+H22 -> 0 | M36: =E13+E30+E47+E64 -> 0
A37: Aktivita | B37: Rozpočet | E37: Žiadané | F37: Vlastné zdroje | H37: Nárok na dotáciu | I37: Poznámka
B38: Spolu | C38: BV | D38: KV | L38: =IF(M36>L36,"POZOR! Prekročený nárok na dotáciu!","")
A39: 1. Marketing a propagácia | B39: =SUMIFS('B2.3'!E:E,'B2.3'!$A:$A,$A39) -> 0 | C39: =SUMIFS('B2.3'!F:F,'B2.3'!$A:$A,$A39) -> 0 | D39: =SUMIFS('B2.3'!G:G,'B2.3'!$A:$A,$A39) -> 0 | E39: =SUMIFS('B2.3'!H:H,'B2.3'!$A:$A,$A39) -> 0 | F39: =SUMIFS('B2.3'!I:I,'B2.3'!$A:$A,$A39) -> 0 | H39: ='B2.1'!W5 -> 0 | I39: =IF(E47>H39,"POZOR! Prekročený nárok na dotáciu!","")
A40: 2. Činnosť turistického informačného centra zriadeného organizáciou cestovného ruchu | B40: =SUMIFS('B2.3'!E:E,'B2.3'!$A:$A,$A40) -> 0 | C40: =SUMIFS('B2.3'!F:F,'B2.3'!$A:$A,$A40) -> 0 | D40: =SUMIFS('B2.3'!G:G,'B2.3'!$A:$A,$A40) -> 0 | E40: =SUMIFS('B2.3'!H:H,'B2.3'!$A:$A,$A40) -> 0 | F40: =SUMIFS('B2.3'!I:I,'B2.3'!$A:$A,$A40) -> 0
A41: 3. Tvorba a podpora udržateľných produktov cestovného ruchu | B41: =SUMIFS('B2.3'!E:E,'B2.3'!$A:$A,$A41) -> 0 | C41: =SUMIFS('B2.3'!F:F,'B2.3'!$A:$A,$A41) -> 0 | D41: =SUMIFS('B2.3'!G:G,'B2.3'!$A:$A,$A41) -> 0 | E41: =SUMIFS('B2.3'!H:H,'B2.3'!$A:$A,$A41) -> 0 | F41: =SUMIFS('B2.3'!I:I,'B2.3'!$A:$A,$A41) -> 0 | I41: (pozn.: pri prekročení sumy sa zobrazí upozornenie) | L41: CELKOVÝ ROZPOČET
A42: 4. Podpora atrakivít danej lokality | B42: =SUMIFS('B2.3'!E:E,'B2.3'!$A:$A,$A42) -> 0 | C42: =SUMIFS('B2.3'!F:F,'B2.3'!$A:$A,$A42) -> 0 | D42: =SUMIFS('B2.3'!G:G,'B2.3'!$A:$A,$A42) -> 0 | E42: =SUMIFS('B2.3'!H:H,'B2.3'!$A:$A,$A42) -> 0 | F42: =SUMIFS('B2.3'!I:I,'B2.3'!$A:$A,$A42) -> 0 | L42: =B13+B30+B47+B64 -> 0
A43: 5. Infraštruktúra cestovného ruchu | B43: =SUMIFS('B2.3'!E:E,'B2.3'!$A:$A,$A43) -> 0 | C43: =SUMIFS('B2.3'!F:F,'B2.3'!$A:$A,$A43) -> 0 | D43: =SUMIFS('B2.3'!G:G,'B2.3'!$A:$A,$A43) -> 0 | E43: =SUMIFS('B2.3'!H:H,'B2.3'!$A:$A,$A43) -> 0 | F43: =SUMIFS('B2.3'!I:I,'B2.3'!$A:$A,$A43) -> 0
A44: 6. Zabezpečenie strategických, koncepčných a analytických materiálov a dokumentov, štatistík a prieskumov | B44: =SUMIFS('B2.3'!E:E,'B2.3'!$A:$A,$A44) -> 0 | C44: =SUMIFS('B2.3'!F:F,'B2.3'!$A:$A,$A44) -> 0 | D44: =SUMIFS('B2.3'!G:G,'B2.3'!$A:$A,$A44) -> 0 | E44: =SUMIFS('B2.3'!H:H,'B2.3'!$A:$A,$A44) -> 0 | F44: =SUMIFS('B2.3'!I:I,'B2.3'!$A:$A,$A44) -> 0
A45: 7. Vzdelávacie aktivity zamerané na skvalitnenie a rozvoj destinácie a cestovného ruchu v nej | B45: =SUMIFS('B2.3'!E:E,'B2.3'!$A:$A,$A45) -> 0 | C45: =SUMIFS('B2.3'!F:F,'B2.3'!$A:$A,$A45) -> 0 | D45: =SUMIFS('B2.3'!G:G,'B2.3'!$A:$A,$A45) -> 0 | E45: =SUMIFS('B2.3'!H:H,'B2.3'!$A:$A,$A45) -> 0 | F45: =SUMIFS('B2.3'!I:I,'B2.3'!$A:$A,$A45) -> 0
A47: Spolu | B47: =SUM(B39:B45) -> 0 | C47: =SUM(C39:C45) -> 0 | D47: =SUM(D39:D45) -> 0 | E47: =SUM(E39:E45) -> 0 | F47: =SUM(F39:F45) -> 0 | L47: ................................................
L48: PODPIS
E49: Percento spolufinancovania | F49: =IF(B47=0,0,F47/B47) -> 0
A52: PROJEKT B3
A54: Aktivita | B54: Rozpočet | E54: Žiadané | F54: Vlastné zdroje | H54: Nárok na dotáciu | I54: Poznámka
B55: Spolu | C55: BV | D55: KV
A56: 1. Marketing a propagácia | B56: =SUMIFS('B3.3'!E:E,'B3.3'!$A:$A,$A56) -> 0 | C56: =SUMIFS('B3.3'!F:F,'B3.3'!$A:$A,$A56) -> 0 | D56: =SUMIFS('B3.3'!G:G,'B3.3'!$A:$A,$A56) -> 0 | E56: =SUMIFS('B3.3'!H:H,'B3.3'!$A:$A,$A56) -> 0 | F56: =SUMIFS('B3.3'!I:I,'B3.3'!$A:$A,$A56) -> 0 | H56: ='B3.1'!W5 -> 0 | I56: =IF(E64>H56,"POZOR! Prekročený nárok na dotáciu!","")
A57: 2. Činnosť turistického informačného centra zriadeného organizáciou cestovného ruchu | B57: =SUMIFS('B3.3'!E:E,'B3.3'!$A:$A,$A57) -> 0 | C57: =SUMIFS('B3.3'!F:F,'B3.3'!$A:$A,$A57) -> 0 | D57: =SUMIFS('B3.3'!G:G,'B3.3'!$A:$A,$A57) -> 0 | E57: =SUMIFS('B3.3'!H:H,'B3.3'!$A:$A,$A57) -> 0 | F57: =SUMIFS('B3.3'!I:I,'B3.3'!$A:$A,$A57) -> 0
A58: 3. Tvorba a podpora udržateľných produktov cestovného ruchu | B58: =SUMIFS('B3.3'!E:E,'B3.3'!$A:$A,$A58) -> 0 | C58: =SUMIFS('B3.3'!F:F,'B3.3'!$A:$A,$A58) -> 0 | D58: =SUMIFS('B3.3'!G:G,'B3.3'!$A:$A,$A58) -> 0 | E58: =SUMIFS('B3.3'!H:H,'B3.3'!$A:$A,$A58) -> 0 | F58: =SUMIFS('B3.3'!I:I,'B3.3'!$A:$A,$A58) -> 0 | I58: (pozn.: pri prekročení sumy sa zobrazí upozornenie)
A59: 4. Podpora atrakivít danej lokality | B59: =SUMIFS('B3.3'!E:E,'B3.3'!$A:$A,$A59) -> 0 | C59: =SUMIFS('B3.3'!F:F,'B3.3'!$A:$A,$A59) -> 0 | D59: =SUMIFS('B3.3'!G:G,'B3.3'!$A:$A,$A59) -> 0 | E59: =SUMIFS('B3.3'!H:H,'B3.3'!$A:$A,$A59) -> 0 | F59: =SUMIFS('B3.3'!I:I,'B3.3'!$A:$A,$A59) -> 0
A60: 5. Infraštruktúra cestovného ruchu | B60: =SUMIFS('B3.3'!E:E,'B3.3'!$A:$A,$A60) -> 0 | C60: =SUMIFS('B3.3'!F:F,'B3.3'!$A:$A,$A60) -> 0 | D60: =SUMIFS('B3.3'!G:G,'B3.3'!$A:$A,$A60) -> 0 | E60: =SUMIFS('B3.3'!H:H,'B3.3'!$A:$A,$A60) -> 0 | F60: =SUMIFS('B3.3'!I:I,'B3.3'!$A:$A,$A60) -> 0
A61: 6. Zabezpečenie strategických, koncepčných a analytických materiálov a dokumentov, štatistík a prieskumov | B61: =SUMIFS('B3.3'!E:E,'B3.3'!$A:$A,$A61) -> 0 | C61: =SUMIFS('B3.3'!F:F,'B3.3'!$A:$A,$A61) -> 0 | D61: =SUMIFS('B3.3'!G:G,'B3.3'!$A:$A,$A61) -> 0 | E61: =SUMIFS('B3.3'!H:H,'B3.3'!$A:$A,$A61) -> 0 | F61: =SUMIFS('B3.3'!I:I,'B3.3'!$A:$A,$A61) -> 0
A62: 7. Vzdelávacie aktivity zamerané na skvalitnenie a rozvoj destinácie a cestovného ruchu v nej | B62: =SUMIFS('B3.3'!E:E,'B3.3'!$A:$A,$A62) -> 0 | C62: =SUMIFS('B3.3'!F:F,'B3.3'!$A:$A,$A62) -> 0 | D62: =SUMIFS('B3.3'!G:G,'B3.3'!$A:$A,$A62) -> 0 | E62: =SUMIFS('B3.3'!H:H,'B3.3'!$A:$A,$A62) -> 0 | F62: =SUMIFS('B3.3'!I:I,'B3.3'!$A:$A,$A62) -> 0
A64: Spolu | B64: =SUM(B56:B62) -> 0 | C64: =SUM(C56:C62) -> 0 | D64: =SUM(D56:D62) -> 0 | E64: =SUM(E56:E62) -> 0 | F64: =SUM(F56:F62) -> 0
E66: Percento spolufinancovania | F66: =IF(B64=0,0,F64/B64) -> 0

Sheet Výstupy & KPI
A1: Aktivita | F1: Podaktivita | K1: Výstup | O1: Merateľný ukazovateľ (KPI)
A2: 1. Marketing a propagácia | F2: 1.1 Mediálny servis | K2: Mediálne výstupy OCR - v podobe tlačových správ OCR | O2: 1.1.1 Počet mediálnych výstupov v podobe tlačových správ OCR
K3: Výstupy mediálneho servisu | O3: 1.1.2. Počet výstupov mediálneho servisu
F4: 1.2. Rozvoj značky a komunikačnej identity destinácie | K4: Nová komunikačná identita destinácie | O4: 1.2.1. Nová komunikačná identita (áno)
K5: Rozširovanie /aktualizácia komunikačného konceptu o nové prvky ( grafické, textové, kombinované a iné vizuálne) v súvislosti s nosnými produktovými líniami | O5: 1.2.2. Počet nových prvkov rozvíjajúcich komunikačnú identitu destinácie v nosných produktových líniách
F17: 1.3. Tvorba foto a video obsahu, edičná tvorba (okrem knižných publikácií) | K17: Nová/rozšírená foto banka | O17: 1.3.1. Počet nových fotografických materiálov
K22: Nová/rozšírená video banka | O22: 1.3.2 Počet nových videozáznamov
K25: Edičná tvorba | O25: 1.3.3. Rozsah editovaného textu v normostranách (približný)
K26: Vytvorené propagačné materiály ( vrátane špecializovaných na konkrétnu produktovú líniu a využívaných v online) | O26: 1.3.4. Počet nových propagačných materiálov (obsahovo jedinečných výstupov)
K27: Propagačné materiály určené na distribúciu v printovej podobe (rozsah tlače) | O27: 1.3.5 Počet ks propagačných materiálov v printovej verzii
F29: 1.4. Veľtrhy, výstavy a prezentácie Infocesty, fam a press tripy (vrátane spolupráce s influencermi) | K29: Účasť na veľtrhoch, výstavách, prezentáciách, ktorých organizátorom nie je OCR | O29: 1.4.1 Počet podujatí, ktorých sa OCR zúčastní
K30: Organizácia prezentačných aktivít OCR (hlavným organizátorom je OCR) | O30: 1.4.2 Počet podujatí, ktorých hlavným organizátorom je OCR
K31: Spolu - organizácia prezentačných aktivít (OCR je partnerom pri organizačnom zabezpečení, alebo spolupracuje pri iných komunikačných aktivitách) | O31: 1.4.3 Počet ktorých je OCR partnerom pri organizačnom zabezpečení / Počet podujatí, ktorých je OCR partnerom v propagácií a iných komunikačných aktivitách 1.4.4 Počet podujatí, kotorých je OCR partnerom v propagácií a iných komunikačných aktivitách
F42: 1.5. Merkantil/merchandising | K42: Merkantil/merchandising | O42: 1.5.1. Počet typových produktov 1.5.2.Počet nových typových produktov 1.5.3. Počet udržaných typových produktov
K43: Z toho merkantil s príspevkom k prezentácii prírodného bohatstva, kultúrneho bohatstva destinácie a iných princípov spoločenskej zodpovednosti | O43: 1.5.4. Počet typových produktov 1.5.5.Počet nových typových produktov 1.5.6. Počet udržaných typových produktov
F45: 1.6. Online marketing | K45: Návštvnosť webového sídla (destinačného webu) a webových sídiel tematických destinačných ponúk | O45: 1.6.1 Počet návštevníkov webového sídla/rok
K48: Debarierizácia webového sídla | O48: 1.6.2 Počet nových debarierizačných prvkov webového sídla
K51: Sprístupnenie webového sídla domácim a zahraničným návštevníkom | O51: 1.6.3. Počet jazykových mutácií webového sídla
K52: Sledovatelia na sociálnych sieťach ( facebook, instagram, Tik-tok a iné) | O52: 1.6.4 Počet sledovateľov FB/rok 1.6.5 Počet sledovateľov IG/rok 1.6.6 Počet sledovateľov na inej sociálnej sieti/rok
K55: Označovanie destinácie a/alebo OCR pri medializácii výstupov a realizovaných projektov v destinácii | O55: 1.6.7 Počet označení
F60: 1.7. Realizácia marketingových kampaní | K60: Marketingové kampane | O60: 1.7.1 Počet marketingových kampaní
F61: 1.8. Iné marketingové aktivity (Typovo vyššie neuvedené) | K61: Iný výstup (uvedený v opise účelu) | O61: 1.8.1 Iný výstup
A64: 2.Činnosť turistického informačného centra zriadeného organizáciou cestovného ruchu | F64: 2.1. Propagačné a iné informačné materiály o destinačnej ponuke regiónu dostupné v TIC | K64: Vytvorené propagačné materiály ( špecializované na konkrétny obsah služieb TIC) | O64: 2.1.1. Počet novýchpropagačných materiálov (obsahovo jedinečných výstupov)
K66: Propagačné materiály určené na distribúciu v printovej podobe (rozsah tlače) | O66: 2.1.2. Počet ks propagačných materiálov v printovej verzii
F68: 2.2 Bežná prevádzka turistického centra (TIC) zriadeného organizáciou cestovného ruchu | K68: Prístupný a udržateľný informačný a návštevnícky servis destinácie | O68: 2.2.1 Počet dní v kalendárnom roku, počas ktorých je TIC v prevádzke (minimum)
F79: 2.3. Zabezpečenie prístupného, funkčného a atraktívneho zázemia pre poskytovanie informačného a návštevníckeho servisu turistickým informačným centrom | K79: Návštevnosť TIC | O79: 2.3.1 Ročný počet návštevníkov TIC
K80: Zabezpečenie nosičov/komplexných riešení zabezpečenia multimediálneho obsahu pre poskytovanie informačného a návštevníckeho servisu | O80: 2.3.2 Počet samostatne prevádzkyschopných nosičov/riešení
K84: Debarierizácia priestorov TIK | O84: 2.3.3 Počet debarierizačných prvkov
K86: Nové formy prezentácie destinačnej ponuky (tematické celky ako napr. expozície/koncepty prezentačných/ komunitných priestorov a i.) | O86: 2.3.4. Počet tematických celkov nových foriem prezentácie (expozícií, konceptov a i.)
F107: 2.4. Certifikácia TIC a iné aktivity súvisiace so zlepšovaním návštevníckeho a informačného servisu v TIC | K107: Certifikácia služieb/TIC uznaná nezávislou autoritou (ISO/STN) | O107: 2.4.1 Počet získaných certifikácií
K109: Aktivity zamerané na zvyšovanie kompetencií a zručností zamestnancov TIC | O109: 2.4.2. Počet zrealizovaných aktivít 2.4.3 Počet účastníkov aktivít
F111: 2.5. Upomienkové predmety podporujúce rozpoznateľnosť lokalít | K111: Prezentačné predmety vyzdvihujúce autentickosť destinácie/lokality | O111: 2.5.1 Počet typových produktov
A112: 3. Tvorba a podpora produktov cestovného ruchu | F112: 3.1. Podujatia podporujúce hlavné produktové línie destinácie | K112: Organizácia podujatia organizáciou cestovného ruchu | O112: 3.1.1 Počet podujatí, ktorých hlavným organizátorom je OCR
K113: Z toho podujatia organizované organizáciou cestovného ruchu zamerané na ponuku prírodného bohatstva a kultúrneho dedičstva | O113: 3.1.2 Počet podujatí, ktorých hlavným organizátorom je OCR (príorodné bohatstvo a kultúrne dedičstvo)
K114: Spolu - organizácia podujatia (organizácia cestovného ruchu je partnerom pri organizačnom zabezpečení) | O114: 3.1.3. Počet podujatí, ktorých je OCR partnerom pri organizačnom zabezpečení
K116: Z toho podujatia organizované organizáciou cestovného ruchu zamerané na ponuku prírodného bohatstva a kultúrneho dedičstva | O116: 3.1.4. Počet podujatí, ktorých je OCR partnerom pri organizačnom zabezpečení (prírodné a kultúrne dedičstvo)
K117: Návštevnosť podujatia | O117: 3.1.5. Počet návštevníkov podporného podujatia
F118: 3.2. Úprava trás | K118: Úprava peších turistických trás | O118: 3.2.1 Počet km upravovaných peších trás 3.2.2. Počet okruhov upravvovaných peších trás 3.2.3. Počet bodov záujmu na upravovaných peších trasách
K119: Úprava cykloturistických trás | O119: 3.2.4. Počet km upravovaných CTT 3.2.5. Počet okruhov upravovaných CTT 3.2.5. Počet bodov záujmu na upravovaných CTT
K120: Úprava trás pre bežecké lyžovanie | O120: 3.2.6 Počet km upravovaných trás pre bežecké lyžovanie 3.2.7. Počet okruhov upravovaných trás pre bežecké lyžovanie
K121: Úprava konských trás | O121: 3.2.6. Počet km upravovaných konských trás 3.2.7. Počet okruhov upravovaných konských trás
K122: Úprava iných turistických trás | O122: 3.2.8 Počet km upravovaných iných turistických trás 3.2.9. Počet bodov záujmu na upravovaných iných turistických trasách
F124: 3.3. Zlepšenie dostupnosti atraktivít a iných bodov záujmu s využitím služieb nepravidelnej dopravy | K124: Body záujmu so zlepšenou dostupnosťou pre návštevníkov | O124: 3.3.1 Počet km trasy nepravidelnej dopravy 3.3.2 Počet sprístupnených bodov záujmu/lokalít (zastavení nepravidelnej dopravy)
A133: 4. Podpora atraktivít danej lokality | F133: 4.1. Infraštruktúra a/alebo vybavenie atraktivít | K133: Podporené atraktivity | O133: 4.1.1. Počet podporených atraktivít
F135: 4.2. Digitálne riešenia, ktoré sprístupňujú ponuku atraktivít (vr. AR, VR a i.) | K135: Sprístupnené atraktivity prostredníctvom nových digitálnych riešení | O135: 4.2.1 Počet samostatne prevádzkyschopných nosičov/riešení 4.2.2 Počet atraktivít sprístupnených prostredníctvom nových digitálnych riešení
F138: 4.3. Budovanie a obnova peších turistických, cykloturistických, bežeckých, vodných, konských a iných trás | K138: Vybudované a obnovené pešie turistické trasy | O138: 4.3.1. Počet km nových alebo obnovených peších trás
K139: Vybudované a obnovené CTT | O139: 4.3.2. Počet km nových alebo obnovených CTT
K140: Vybudované a obnovené trasy pre bežecké lyžovanie | O140: 4.3.3. Počet nových alebo obnovených trás pre bežecké lyžovanie
K141: Vybudované a obnovené konské trasy | O141: 4.3.4. Počet km nových alebo obnovených konských trás
K142: Vybudované a obnovené iné turistické trasy | O142: 4.3.5. Počet km nových alebo obnovených iných turistických trás
F144: 4.4. Náučné zariadenia v prírode | K144: Náučné zariadenia v prírode (náučné lokality, chodníky a i.) | O144: 4.4.1 Počet nových/obnovených prvkov náučných zariadení v prírode
A159: 5. Infraštruktúra cestovného ruchu | F159: 5.1.Doplnková infraštruktúra na trasách a v centrách rozvoja | K159: Doplnková infraštruktúra na trasách a v centrách rozvoja (zvýšená kvalita zázemia) | O159: 5.1.1 Počet nových /obnovených prvkov doplnkovej infraštruktúry na trasách 5.1.2 Počet nových/obnovených prvkov doplnkovej infraštruktúry v centrách rozvoja
K163: Z toho doplnková infraštruktúra na trasách a v centrách rozvoja (zvýšenie kvality zázemia adaptačnými opatreniami na zmenu klímy) | O163: 5.1.3. M² novej alebo zrevitalizovanej zelenej a/alebo modrej infraštruktúry 5.1.4 Počet prvkov novej a/alebo zrevitalizovanej zelenej a/alebo modrej infraštruktúry 5.1.5. Počet zrealizovaných iných mikroklimatických opatrení
F166: 5.2.Turistický informačný a navigačný systém | K166: Funkčný a atraktívny turistický informačný a navgačný systém | O166: 5.2.1. Počet nových/obnovených prvkov TINS
F172: 5.3. Iné | K172: Iný výstup (uvedený v opise účelu) | O172: 5.3.1 Iný výstup
A178: 6. Zabezpečenie strategických, koncepčných a analytických materiálov a dokumentov, štatistík a prieskumov | F178: 6.1. Spracovanie koncepčných materiálov | K178: Koncepčné materiály | O178: 6.1.1. Počet koncepčných materiálov
F184: 6.2. Zavádzanie princípov inteligentného riadenia v destináciách | K184: Realizácia zberu a vyhodnocovania dát pre potreby strategického plánovania a rozhodovania | O184: 6.2.1. Počet dátových/analytických výstupov 6.2.2. Počet zrealizovaných prieskumov 6.2.3. Počet nových/rozšírených nástrojov podporujúcich prácu s dátami
A187: 7. Vzdelávacie aktivity zamerané na skvalitnenie a rozvoj destinácie a cestovného ruchu v nej | F187: 7.1. Organizácia vzdelávacích aktivít a podujatí | K187: Odobrné konferencie, kongresy, semináre, workshopy a iné prednáškové podujatia, ktorých je organizácia cestovného ruchu hlavným organizátorom | O187: 7.1.1.Počet vzdelávacích podujatí, ktorýh hlavným organizátorom je OCR 7.1.2.Počet účastníkov vzdelávacích podujatí, kotrých organizátorom je OCR
K191: Štúdijné cesty/infocesty organizované OCR | O191: 7.1.3. Počet štúdiných ciest/infociest, ktorých hlavným organizátorom je OCR 7.1.4. Počet účastníkov štúdiných ciest/infociest, ktoorých organizátorom je OCR
K195: Vzdelávacie aktivity (napr. kurzy) zamerané na zvyšovanie kompetencií a zručností OCR | O195: 7.1.5. Počet iných vzdelávacích aktivít, ktorých hlavným organizátorom je OCR 7.1.6 Počet účastníkov iných vzdelávacích aktivít, ktorých organizátorom je OCR
K198: Z toho vzdelávacie aktivity zamerané na aktivity zamerané na znevýhodnené a zraniteľné skupiny (vr. deti a mládež a získavanie zručností pre prácu s týmito skupinami) | O198: 7.1.5. Počet vzdelávacích aktivít, ktorých hlavným organizátorom je OCR (zamerané na znevýhodnené a zraniteľné skupiny) 7.1.6 Počet účastníkov vzdelávacích aktivít, ktorých hlavným organizátorom je OCR (zamerané na znevýhodnené a zraniteľné skupiny)
K203: Iné vzdelávacie a osvetové aktivity zamerané na širokú verejnosť miestnych obyvateľov | O203: 7.1.7. Počet iných aktivít, ktorých hlavným organizátorom je je OCR (zamerané na širokú verejnosť miestnych obyvateľov) 7.1.8. Počet účastníkov iných aktivít, ktorých hlavným organizátorom je OCR (zamerané na širokú verejnosť mistnych obyvateľov)
F207: 7.2. Zapojenie do vzdelávacích aktivít a podujatí | K207: Účasť na vzdelávacích podujatiach a iných aktivitách, ktoré organizačne nezabezpečuje organizácia cestovného ruchu (žiadateľ): - odborné konferencie/kongresy, semináre, workshopy, prednáškové podujatia - študijné cesty/infocesty, kotrých sa zúčastnia OCR a aktéri v destinácii - iné aktivity, ktoré prispievajú k zvyšovaniu povedomia o dôležitých témach spojených s rozvojom udržateľného cestovného ruchu v destinácií | O207: 7.2.1. Počet vzdelávacích aktivít s účasťou OCR 7.2.2. Počet účastníkov/zástupcov OCR na vzdelávacích podujatiach

Sheet Hodnotenie projektu A
A1: Aktivita | B1: Podaktivita | C1: Účel | D1: BV/KV | E1: Rozpočet | F1: Požadovaná dotácia | G1: Vlastné zdroje | H1: Hodnotenie | I1: Navrhované | J1: Komentár k hodnoteniu | L1: Sumár
A2: {=INDIRECT("A5!A" & (ROW(A2) +2))} -> 0 | B2: {=INDIRECT("A5!B" & (ROW(B2) + 2))} -> 0 | C2: {=INDIRECT("A5!C" & (ROW(C2) + 2))} -> 0 | D2: {=INDIRECT("A5!N"&(ROW(D2)+2))} -> 0 | E2: =F2+G2 -> 0 | F2: {=INDIRECT("A5!L" & (ROW(F2) + 2))} -> 0 | G2: {=INDIRECT("A5!M" & (ROW(G2) + 2))} -> 0 | I2: =E2/100*H2 -> 0 | M2: Celkový rozpočet | N2: Požadovaná dotácia | O2: Navrhnuté
A3: {=INDIRECT("A5!A" & (ROW(A3) +2))} -> 0 | B3: {=INDIRECT("A5!B" & (ROW(B3) + 2))} -> 0 | C3: {=INDIRECT("A5!C" & (ROW(C3) + 2))} -> 0 | D3: {=INDIRECT("A5!N"&(ROW(D3)+2))} -> 0 | E3: =F3+G3 -> 0 | F3: {=INDIRECT("A5!L" & (ROW(F3) + 2))} -> 0 | G3: {=INDIRECT("A5!M" & (ROW(G3) + 2))} -> 0 | I3: =E3/100*H3 -> 0 | M3: =SUM(E2:E502) -> 0 | N3: =SUM(F2:F502) -> 0 | O3: =SUM(I2:I502) -> 0
A4: {=INDIRECT("A5!A" & (ROW(A4) +2))} -> 0 | B4: {=INDIRECT("A5!B" & (ROW(B4) + 2))} -> 0 | C4: {=INDIRECT("A5!C" & (ROW(C4) + 2))} -> 0 | D4: {=INDIRECT("A5!N"&(ROW(D4)+2))} -> 0 | E4: =F4+G4 -> 0 | F4: {=INDIRECT("A5!L" & (ROW(F4) + 2))} -> 0 | G4: {=INDIRECT("A5!M" & (ROW(G4) + 2))} -> 0 | I4: =E4/100*H4 -> 0 | L4: z toho bežné | M4: =SUM('A6'!C3:C9) -> 0
A5: {=INDIRECT("A5!A" & (ROW(A5) +2))} -> 0 | B5: {=INDIRECT("A5!B" & (ROW(B5) + 2))} -> 0 | C5: {=INDIRECT("A5!C" & (ROW(C5) + 2))} -> 0 | D5: {=INDIRECT("A5!N"&(ROW(D5)+2))} -> 0 | E5: =F5+G5 -> 0 | F5: {=INDIRECT("A5!L" & (ROW(F5) + 2))} -> 0 | G5: {=INDIRECT("A5!M" & (ROW(G5) + 2))} -> 0 | I5: =E5/100*H5 -> 0 | L5: z toho kapitálové | M5: =SUM('A6'!D3:D9) -> 0
A6: {=INDIRECT("A5!A" & (ROW(A6) +2))} -> 0 | B6: {=INDIRECT("A5!B" & (ROW(B6) + 2))} -> 0 | C6: {=INDIRECT("A5!C" & (ROW(C6) + 2))} -> 0 | D6: {=INDIRECT("A5!N"&(ROW(D6)+2))} -> 0 | E6: =F6+G6 -> 0 | F6: {=INDIRECT("A5!L" & (ROW(F6) + 2))} -> 0 | G6: {=INDIRECT("A5!M" & (ROW(G6) + 2))} -> 0 | I6: =E6/100*H6 -> 0
A7: {=INDIRECT("A5!A" & (ROW(A7) +2))} -> 0 | B7: {=INDIRECT("A5!B" & (ROW(B7) + 2))} -> 0 | C7: {=INDIRECT("A5!C" & (ROW(C7) + 2))} -> 0 | D7: {=INDIRECT("A5!N"&(ROW(D7)+2))} -> 0 | E7: =F7+G7 -> 0 | F7: {=INDIRECT("A5!L" & (ROW(F7) + 2))} -> 0 | G7: {=INDIRECT("A5!M" & (ROW(G7) + 2))} -> 0 | I7: =E7/100*H7 -> 0
A8: {=INDIRECT("A5!A" & (ROW(A8) +2))} -> 0 | B8: {=INDIRECT("A5!B" & (ROW(B8) + 2))} -> 0 | C8: {=INDIRECT("A5!C" & (ROW(C8) + 2))} -> 0 | D8: {=INDIRECT("A5!N"&(ROW(D8)+2))} -> 0 | E8: =F8+G8 -> 0 | F8: {=INDIRECT("A5!L" & (ROW(F8) + 2))} -> 0 | G8: {=INDIRECT("A5!M" & (ROW(G8) + 2))} -> 0 | I8: =E8/100*H8 -> 0 | N8: ............................................
A9: {=INDIRECT("A5!A" & (ROW(A9) +2))} -> 0 | B9: {=INDIRECT("A5!B" & (ROW(B9) + 2))} -> 0 | C9: {=INDIRECT("A5!C" & (ROW(C9) + 2))} -> 0 | D9: {=INDIRECT("A5!N"&(ROW(D9)+2))} -> 0 | E9: =F9+G9 -> 0 | F9: {=INDIRECT("A5!L" & (ROW(F9) + 2))} -> 0 | G9: {=INDIRECT("A5!M" & (ROW(G9) + 2))} -> 0 | I9: =E9/100*H9 -> 0 | N9: Podpis
A10: {=INDIRECT("A5!A" & (ROW(A10) +2))} -> 0 | B10: {=INDIRECT("A5!B" & (ROW(B10) + 2))} -> 0 | C10: {=INDIRECT("A5!C" & (ROW(C10) + 2))} -> 0 | D10: {=INDIRECT("A5!N"&(ROW(D10)+2))} -> 0 | E10: =F10+G10 -> 0 | F10: {=INDIRECT("A5!L" & (ROW(F10) + 2))} -> 0 | G10: {=INDIRECT("A5!M" & (ROW(G10) + 2))} -> 0 | I10: =E10/100*H10 -> 0
A11: {=INDIRECT("A5!A" & (ROW(A11) +2))} -> 0 | B11: {=INDIRECT("A5!B" & (ROW(B11) + 2))} -> 0 | C11: {=INDIRECT("A5!C" & (ROW(C11) + 2))} -> 0 | D11: {=INDIRECT("A5!N"&(ROW(D11)+2))} -> 0 | E11: =F11+G11 -> 0 | F11: {=INDIRECT("A5!L" & (ROW(F11) + 2))} -> 0 | G11: {=INDIRECT("A5!M" & (ROW(G11) + 2))} -> 0 | I11: =E11/100*H11 -> 0
A12: {=INDIRECT("A5!A" & (ROW(A12) +2))} -> 0 | B12: {=INDIRECT("A5!B" & (ROW(B12) + 2))} -> 0 | C12: {=INDIRECT("A5!C" & (ROW(C12) + 2))} -> 0 | D12: {=INDIRECT("A5!N"&(ROW(D12)+2))} -> 0 | E12: =F12+G12 -> 0 | F12: {=INDIRECT("A5!L" & (ROW(F12) + 2))} -> 0 | G12: {=INDIRECT("A5!M" & (ROW(G12) + 2))} -> 0 | I12: =E12/100*H12 -> 0
A13: {=INDIRECT("A5!A" & (ROW(A13) +2))} -> 0 | B13: {=INDIRECT("A5!B" & (ROW(B13) + 2))} -> 0 | C13: {=INDIRECT("A5!C" & (ROW(C13) + 2))} -> 0 | D13: {=INDIRECT("A5!N"&(ROW(D13)+2))} -> 0 | E13: =F13+G13 -> 0 | F13: {=INDIRECT("A5!L" & (ROW(F13) + 2))} -> 0 | G13: {=INDIRECT("A5!M" & (ROW(G13) + 2))} -> 0 | I13: =E13/100*H13 -> 0
A14: {=INDIRECT("A5!A" & (ROW(A14) +2))} -> 0 | B14: {=INDIRECT("A5!B" & (ROW(B14) + 2))} -> 0 | C14: {=INDIRECT("A5!C" & (ROW(C14) + 2))} -> 0 | D14: {=INDIRECT("A5!N"&(ROW(D14)+2))} -> 0 | E14: =F14+G14 -> 0 | F14: {=INDIRECT("A5!L" & (ROW(F14) + 2))} -> 0 | G14: {=INDIRECT("A5!M" & (ROW(G14) + 2))} -> 0 | I14: =E14/100*H14 -> 0
A15: {=INDIRECT("A5!A" & (ROW(A15) +2))} -> 0 | B15: {=INDIRECT("A5!B" & (ROW(B15) + 2))} -> 0 | C15: {=INDIRECT("A5!C" & (ROW(C15) + 2))} -> 0 | D15: {=INDIRECT("A5!N"&(ROW(D15)+2))} -> 0 | E15: =F15+G15 -> 0 | F15: {=INDIRECT("A5!L" & (ROW(F15) + 2))} -> 0 | G15: {=INDIRECT("A5!M" & (ROW(G15) + 2))} -> 0 | I15: =E15/100*H15 -> 0
A16: {=INDIRECT("A5!A" & (ROW(A16) +2))} -> 0 | B16: {=INDIRECT("A5!B" & (ROW(B16) + 2))} -> 0 | C16: {=INDIRECT("A5!C" & (ROW(C16) + 2))} -> 0 | D16: {=INDIRECT("A5!N"&(ROW(D16)+2))} -> 0 | E16: =F16+G16 -> 0 | F16: {=INDIRECT("A5!L" & (ROW(F16) + 2))} -> 0 | G16: {=INDIRECT("A5!M" & (ROW(G16) + 2))} -> 0 | I16: =E16/100*H16 -> 0
A17: {=INDIRECT("A5!A" & (ROW(A17) +2))} -> 0 | B17: {=INDIRECT("A5!B" & (ROW(B17) + 2))} -> 0 | C17: {=INDIRECT("A5!C" & (ROW(C17) + 2))} -> 0 | D17: {=INDIRECT("A5!N"&(ROW(D17)+2))} -> 0 | E17: =F17+G17 -> 0 | F17: {=INDIRECT("A5!L" & (ROW(F17) + 2))} -> 0 | G17: {=INDIRECT("A5!M" & (ROW(G17) + 2))} -> 0 | I17: =E17/100*H17 -> 0
A18: {=INDIRECT("A5!A" & (ROW(A18) +2))} -> 0 | B18: {=INDIRECT("A5!B" & (ROW(B18) + 2))} -> 0 | C18: {=INDIRECT("A5!C" & (ROW(C18) + 2))} -> 0 | D18: {=INDIRECT("A5!N"&(ROW(D18)+2))} -> 0 | E18: =F18+G18 -> 0 | F18: {=INDIRECT("A5!L" & (ROW(F18) + 2))} -> 0 | G18: {=INDIRECT("A5!M" & (ROW(G18) + 2))} -> 0 | I18: =E18/100*H18 -> 0
A19: {=INDIRECT("A5!A" & (ROW(A19) +2))} -> 0 | B19: {=INDIRECT("A5!B" & (ROW(B19) + 2))} -> 0 | C19: {=INDIRECT("A5!C" & (ROW(C19) + 2))} -> 0 | D19: {=INDIRECT("A5!N"&(ROW(D19)+2))} -> 0 | E19: =F19+G19 -> 0 | F19: {=INDIRECT("A5!L" & (ROW(F19) + 2))} -> 0 | G19: {=INDIRECT("A5!M" & (ROW(G19) + 2))} -> 0 | I19: =E19/100*H19 -> 0
A20: {=INDIRECT("A5!A" & (ROW(A20) +2))} -> 0 | B20: {=INDIRECT("A5!B" & (ROW(B20) + 2))} -> 0 | C20: {=INDIRECT("A5!C" & (ROW(C20) + 2))} -> 0 | D20: {=INDIRECT("A5!N"&(ROW(D20)+2))} -> 0 | E20: =F20+G20 -> 0 | F20: {=INDIRECT("A5!L" & (ROW(F20) + 2))} -> 0 | G20: {=INDIRECT("A5!M" & (ROW(G20) + 2))} -> 0 | I20: =E20/100*H20 -> 0
A21: {=INDIRECT("A5!A" & (ROW(A21) +2))} -> 0 | B21: {=INDIRECT("A5!B" & (ROW(B21) + 2))} -> 0 | C21: {=INDIRECT("A5!C" & (ROW(C21) + 2))} -> 0 | D21: {=INDIRECT("A5!N"&(ROW(D21)+2))} -> 0 | E21: =F21+G21 -> 0 | F21: {=INDIRECT("A5!L" & (ROW(F21) + 2))} -> 0 | G21: {=INDIRECT("A5!M" & (ROW(G21) + 2))} -> 0 | I21: =E21/100*H21 -> 0
... A502: {=INDIRECT("A5!A" & (ROW(A502) +2))} -> 0 | B502: {=INDIRECT("A5!B" & (ROW(B502) + 2))} -> 0 | C502: {=INDIRECT("A5!C" & (ROW(C502) + 2))} -> 0 | D502: {=INDIRECT("A5!N"&(ROW(D502)+2))} -> 0 | E502: =F502+G502 -> 0 | F502: {=INDIRECT("A5!L" & (ROW(F502) + 2))} -> 0 | G502: {=INDIRECT("A5!M" & (ROW(G502) + 2))} -> 0 | I502: =E502/100*H502 -> 0

Sheet Hodnotenie projektu B1
A1: Aktivita | B1: Podaktivita | C1: Účel | D1: BV/KV | E1: Rozpočet | F1: Požadovaná dotácia | G1: Vlastné zdroje | H1: Hodnotenie | I1: Navrhované | J1: Komentár k hodnoteniu | L1: Sumár
A2: {=INDIRECT("B1.5!A" & (ROW(A2) +2))} -> 0 | B2: {=INDIRECT("B1.5!B" & (ROW(B2) + 2))} -> 0 | C2: {=INDIRECT("B1.5!C" & (ROW(C2) + 2))} -> 0 | D2: {=INDIRECT("B1.5!N"&(ROW(D2)+2))} -> 0 | E2: =F2+G2 -> 0 | F2: {=INDIRECT("B1.5!L" & (ROW(F2) + 2))} -> 0 | G2: {=INDIRECT("B1.5!M" & (ROW(G2) + 2))} -> 0 | I2: =E2/100*H2 -> 0 | M2: Celkový rozpočet | N2: Požadovaná dotácia | O2: Navrhnuté
A3: {=INDIRECT("B1.5!A" & (ROW(A3) +2))} -> 0 | B3: {=INDIRECT("B1.5!B" & (ROW(B3) + 2))} -> 0 | C3: {=INDIRECT("B1.5!C" & (ROW(C3) + 2))} -> 0 | D3: {=INDIRECT("B1.5!N"&(ROW(D3)+2))} -> 0 | E3: =F3+G3 -> 0 | F3: {=INDIRECT("B1.5!L" & (ROW(F3) + 2))} -> 0 | G3: {=INDIRECT("B1.5!M" & (ROW(G3) + 2))} -> 0 | I3: =E3/100*H3 -> 0 | M3: =SUM(E2:E502) -> 0 | N3: =SUM(F2:F502) -> 0 | O3: =SUM(I2:I502) -> 0
A4: {=INDIRECT("B1.5!A" & (ROW(A4) +2))} -> 0 | B4: {=INDIRECT("B1.5!B" & (ROW(B4) + 2))} -> 0 | C4: {=INDIRECT("B1.5!C" & (ROW(C4) + 2))} -> 0 | D4: {=INDIRECT("B1.5!N"&(ROW(D4)+2))} -> 0 | E4: =F4+G4 -> 0 | F4: {=INDIRECT("B1.5!L" & (ROW(F4) + 2))} -> 0 | G4: {=INDIRECT("B1.5!M" & (ROW(G4) + 2))} -> 0 | I4: =E4/100*H4 -> 0 | L4: z toho bežné | M4: =SUM('B1.6'!C3:C9) -> 0
A5: {=INDIRECT("B1.5!A" & (ROW(A5) +2))} -> 0 | B5: {=INDIRECT("B1.5!B" & (ROW(B5) + 2))} -> 0 | C5: {=INDIRECT("B1.5!C" & (ROW(C5) + 2))} -> 0 | D5: {=INDIRECT("B1.5!N"&(ROW(D5)+2))} -> 0 | E5: =F5+G5 -> 0 | F5: {=INDIRECT("B1.5!L" & (ROW(F5) + 2))} -> 0 | G5: {=INDIRECT("B1.5!M" & (ROW(G5) + 2))} -> 0 | I5: =E5/100*H5 -> 0 | L5: z toho kapitálové | M5: =SUM('B1.6'!D3:D9) -> 0
A6: {=INDIRECT("B1.5!A" & (ROW(A6) +2))} -> 0 | B6: {=INDIRECT("B1.5!B" & (ROW(B6) + 2))} -> 0 | C6: {=INDIRECT("B1.5!C" & (ROW(C6) + 2))} -> 0 | D6: {=INDIRECT("B1.5!N"&(ROW(D6)+2))} -> 0 | E6: =F6+G6 -> 0 | F6: {=INDIRECT("B1.5!L" & (ROW(F6) + 2))} -> 0 | G6: {=INDIRECT("B1.5!M" & (ROW(G6) + 2))} -> 0 | I6: =E6/100*H6 -> 0
A7: {=INDIRECT("B1.5!A" & (ROW(A7) +2))} -> 0 | B7: {=INDIRECT("B1.5!B" & (ROW(B7) + 2))} -> 0 | C7: {=INDIRECT("B1.5!C" & (ROW(C7) + 2))} -> 0 | D7: {=INDIRECT("B1.5!N"&(ROW(D7)+2))} -> 0 | E7: =F7+G7 -> 0 | F7: {=INDIRECT("B1.5!L" & (ROW(F7) + 2))} -> 0 | G7: {=INDIRECT("B1.5!M" & (ROW(G7) + 2))} -> 0 | I7: =E7/100*H7 -> 0
A8: {=INDIRECT("B1.5!A" & (ROW(A8) +2))} -> 0 | B8: {=INDIRECT("B1.5!B" & (ROW(B8) + 2))} -> 0 | C8: {=INDIRECT("B1.5!C" & (ROW(C8) + 2))} -> 0 | D8: {=INDIRECT("B1.5!N"&(ROW(D8)+2))} -> 0 | E8: =F8+G8 -> 0 | F8: {=INDIRECT("B1.5!L" & (ROW(F8) + 2))} -> 0 | G8: {=INDIRECT("B1.5!M" & (ROW(G8) + 2))} -> 0 | I8: =E8/100*H8 -> 0 | N8: ............................................
A9: {=INDIRECT("B1.5!A" & (ROW(A9) +2))} -> 0 | B9: {=INDIRECT("B1.5!B" & (ROW(B9) + 2))} -> 0 | C9: {=INDIRECT("B1.5!C" & (ROW(C9) + 2))} -> 0 | D9: {=INDIRECT("B1.5!N"&(ROW(D9)+2))} -> 0 | E9: =F9+G9 -> 0 | F9: {=INDIRECT("B1.5!L" & (ROW(F9) + 2))} -> 0 | G9: {=INDIRECT("B1.5!M" & (ROW(G9) + 2))} -> 0 | I9: =E9/100*H9 -> 0 | N9: Podpis
A10: {=INDIRECT("B1.5!A" & (ROW(A10) +2))} -> 0 | B10: {=INDIRECT("B1.5!B" & (ROW(B10) + 2))} -> 0 | C10: {=INDIRECT("B1.5!C" & (ROW(C10) + 2))} -> 0 | D10: {=INDIRECT("B1.5!N"&(ROW(D10)+2))} -> 0 | E10: =F10+G10 -> 0 | F10: {=INDIRECT("B1.5!L" & (ROW(F10) + 2))} -> 0 | G10: {=INDIRECT("B1.5!M" & (ROW(G10) + 2))} -> 0 | I10: =E10/100*H10 -> 0
A11: {=INDIRECT("B1.5!A" & (ROW(A11) +2))} -> 0 | B11: {=INDIRECT("B1.5!B" & (ROW(B11) + 2))} -> 0 | C11: {=INDIRECT("B1.5!C" & (ROW(C11) + 2))} -> 0 | D11: {=INDIRECT("B1.5!N"&(ROW(D11)+2))} -> 0 | E11: =F11+G11 -> 0 | F11: {=INDIRECT("B1.5!L" & (ROW(F11) + 2))} -> 0 | G11: {=INDIRECT("B1.5!M" & (ROW(G11) + 2))} -> 0 | I11: =E11/100*H11 -> 0
A12: {=INDIRECT("B1.5!A" & (ROW(A12) +2))} -> 0 | B12: {=INDIRECT("B1.5!B" & (ROW(B12) + 2))} -> 0 | C12: {=INDIRECT("B1.5!C" & (ROW(C12) + 2))} -> 0 | D12: {=INDIRECT("B1.5!N"&(ROW(D12)+2))} -> 0 | E12: =F12+G12 -> 0 | F12: {=INDIRECT("B1.5!L" & (ROW(F12) + 2))} -> 0 | G12: {=INDIRECT("B1.5!M" & (ROW(G12) + 2))} -> 0 | I12: =E12/100*H12 -> 0
A13: {=INDIRECT("B1.5!A" & (ROW(A13) +2))} -> 0 | B13: {=INDIRECT("B1.5!B" & (ROW(B13) + 2))} -> 0 | C13: {=INDIRECT("B1.5!C" & (ROW(C13) + 2))} -> 0 | D13: {=INDIRECT("B1.5!N"&(ROW(D13)+2))} -> 0 | E13: =F13+G13 -> 0 | F13: {=INDIRECT("B1.5!L" & (ROW(F13) + 2))} -> 0 | G13: {=INDIRECT("B1.5!M" & (ROW(G13) + 2))} -> 0 | I13: =E13/100*H13 -> 0
A14: {=INDIRECT("B1.5!A" & (ROW(A14) +2))} -> 0 | B14: {=INDIRECT("B1.5!B" & (ROW(B14) + 2))} -> 0 | C14: {=INDIRECT("B1.5!C" & (ROW(C14) + 2))} -> 0 | D14: {=INDIRECT("B1.5!N"&(ROW(D14)+2))} -> 0 | E14: =F14+G14 -> 0 | F14: {=INDIRECT("B1.5!L" & (ROW(F14) + 2))} -> 0 | G14: {=INDIRECT("B1.5!M" & (ROW(G14) + 2))} -> 0 | I14: =E14/100*H14 -> 0
A15: {=INDIRECT("B1.5!A" & (ROW(A15) +2))} -> 0 | B15: {=INDIRECT("B1.5!B" & (ROW(B15) + 2))} -> 0 | C15: {=INDIRECT("B1.5!C" & (ROW(C15) + 2))} -> 0 | D15: {=INDIRECT("B1.5!N"&(ROW(D15)+2))} -> 0 | E15: =F15+G15 -> 0 | F15: {=INDIRECT("B1.5!L" & (ROW(F15) + 2))} -> 0 | G15: {=INDIRECT("B1.5!M" & (ROW(G15) + 2))} -> 0 | I15: =E15/100*H15 -> 0
A16: {=INDIRECT("B1.5!A" & (ROW(A16) +2))} -> 0 | B16: {=INDIRECT("B1.5!B" & (ROW(B16) + 2))} -> 0 | C16: {=INDIRECT("B1.5!C" & (ROW(C16) + 2))} -> 0 | D16: {=INDIRECT("B1.5!N"&(ROW(D16)+2))} -> 0 | E16: =F16+G16 -> 0 | F16: {=INDIRECT("B1.5!L" & (ROW(F16) + 2))} -> 0 | G16: {=INDIRECT("B1.5!M" & (ROW(G16) + 2))} -> 0 | I16: =E16/100*H16 -> 0
A17: {=INDIRECT("B1.5!A" & (ROW(A17) +2))} -> 0 | B17: {=INDIRECT("B1.5!B" & (ROW(B17) + 2))} -> 0 | C17: {=INDIRECT("B1.5!C" & (ROW(C17) + 2))} -> 0 | D17: {=INDIRECT("B1.5!N"&(ROW(D17)+2))} -> 0 | E17: =F17+G17 -> 0 | F17: {=INDIRECT("B1.5!L" & (ROW(F17) + 2))} -> 0 | G17: {=INDIRECT("B1.5!M" & (ROW(G17) + 2))} -> 0 | I17: =E17/100*H17 -> 0
A18: {=INDIRECT("B1.5!A" & (ROW(A18) +2))} -> 0 | B18: {=INDIRECT("B1.5!B" & (ROW(B18) + 2))} -> 0 | C18: {=INDIRECT("B1.5!C" & (ROW(C18) + 2))} -> 0 | D18: {=INDIRECT("B1.5!N"&(ROW(D18)+2))} -> 0 | E18: =F18+G18 -> 0 | F18: {=INDIRECT("B1.5!L" & (ROW(F18) + 2))} -> 0 | G18: {=INDIRECT("B1.5!M" & (ROW(G18) + 2))} -> 0 | I18: =E18/100*H18 -> 0
A19: {=INDIRECT("B1.5!A" & (ROW(A19) +2))} -> 0 | B19: {=INDIRECT("B1.5!B" & (ROW(B19) + 2))} -> 0 | C19: {=INDIRECT("B1.5!C" & (ROW(C19) + 2))} -> 0 | D19: {=INDIRECT("B1.5!N"&(ROW(D19)+2))} -> 0 | E19: =F19+G19 -> 0 | F19: {=INDIRECT("B1.5!L" & (ROW(F19) + 2))} -> 0 | G19: {=INDIRECT("B1.5!M" & (ROW(G19) + 2))} -> 0 | I19: =E19/100*H19 -> 0
A20: {=INDIRECT("B1.5!A" & (ROW(A20) +2))} -> 0 | B20: {=INDIRECT("B1.5!B" & (ROW(B20) + 2))} -> 0 | C20: {=INDIRECT("B1.5!C" & (ROW(C20) + 2))} -> 0 | D20: {=INDIRECT("B1.5!N"&(ROW(D20)+2))} -> 0 | E20: =F20+G20 -> 0 | F20: {=INDIRECT("B1.5!L" & (ROW(F20) + 2))} -> 0 | G20: {=INDIRECT("B1.5!M" & (ROW(G20) + 2))} -> 0 | I20: =E20/100*H20 -> 0
A21: {=INDIRECT("B1.5!A" & (ROW(A21) +2))} -> 0 | B21: {=INDIRECT("B1.5!B" & (ROW(B21) + 2))} -> 0 | C21: {=INDIRECT("B1.5!C" & (ROW(C21) + 2))} -> 0 | D21: {=INDIRECT("B1.5!N"&(ROW(D21)+2))} -> 0 | E21: =F21+G21 -> 0 | F21: {=INDIRECT("B1.5!L" & (ROW(F21) + 2))} -> 0 | G21: {=INDIRECT("B1.5!M" & (ROW(G21) + 2))} -> 0 | I21: =E21/100*H21 -> 0
... A502: {=INDIRECT("B1.5!A" & (ROW(A502) +2))} -> 0 | B502: {=INDIRECT("B1.5!B" & (ROW(B502) + 2))} -> 0 | C502: {=INDIRECT("B1.5!C" & (ROW(C502) + 2))} -> 0 | D502: {=INDIRECT("B1.5!N"&(ROW(D502)+2))} -> 0 | E502: =F502+G502 -> 0 | F502: {=INDIRECT("B1.5!L" & (ROW(F502) + 2))} -> 0 | G502: {=INDIRECT("B1.5!M" & (ROW(G502) + 2))} -> 0 | I502: =E502/100*H502 -> 0

Sheet Hodnotenie projektu B2
A1: Aktivita | B1: Podaktivita | C1: Účel | D1: BV/KV | E1: Rozpočet | F1: Požadovaná dotácia | G1: Vlastné zdroje | H1: Hodnotenie | I1: Navrhované | J1: Komentár k hodnoteniu | L1: Sumár
A2: {=INDIRECT("B2.5!A" & (ROW(A2) +2))} -> 0 | B2: {=INDIRECT("B2.5!B" & (ROW(B2) + 2))} -> 0 | C2: {=INDIRECT("B2.5!C" & (ROW(C2) + 2))} -> 0 | D2: {=INDIRECT("B2.5!N"&(ROW(D2)+2))} -> 0 | E2: =F2+G2 -> 0 | F2: {=INDIRECT("B2.5!L" & (ROW(F2) + 2))} -> 0 | G2: {=INDIRECT("B2.5!M" & (ROW(G2) + 2))} -> 0 | I2: =E2/100*H2 -> 0 | M2: Celkový rozpočet | N2: Požadovaná dotácia | O2: Navrhnuté
A3: {=INDIRECT("B2.5!A" & (ROW(A3) +2))} -> 0 | B3: {=INDIRECT("B2.5!B" & (ROW(B3) + 2))} -> 0 | C3: {=INDIRECT("B2.5!C" & (ROW(C3) + 2))} -> 0 | D3: {=INDIRECT("B2.5!N"&(ROW(D3)+2))} -> 0 | E3: =F3+G3 -> 0 | F3: {=INDIRECT("B2.5!L" & (ROW(F3) + 2))} -> 0 | G3: {=INDIRECT("B2.5!M" & (ROW(G3) + 2))} -> 0 | I3: =E3/100*H3 -> 0 | M3: =SUM(E2:E502) -> 0 | N3: =SUM(F2:F502) -> 0 | O3: =SUM(I2:I502) -> 0
A4: {=INDIRECT("B2.5!A" & (ROW(A4) +2))} -> 0 | B4: {=INDIRECT("B2.5!B" & (ROW(B4) + 2))} -> 0 | C4: {=INDIRECT("B2.5!C" & (ROW(C4) + 2))} -> 0 | D4: {=INDIRECT("B2.5!N"&(ROW(D4)+2))} -> 0 | E4: =F4+G4 -> 0 | F4: {=INDIRECT("B2.5!L" & (ROW(F4) + 2))} -> 0 | G4: {=INDIRECT("B2.5!M" & (ROW(G4) + 2))} -> 0 | I4: =E4/100*H4 -> 0 | L4: z toho bežné | M4: =SUM('B2.6'!C3:C9) -> 0
A5: {=INDIRECT("B2.5!A" & (ROW(A5) +2))} -> 0 | B5: {=INDIRECT("B2.5!B" & (ROW(B5) + 2))} -> 0 | C5: {=INDIRECT("B2.5!C" & (ROW(C5) + 2))} -> 0 | D5: {=INDIRECT("B2.5!N"&(ROW(D5)+2))} -> 0 | E5: =F5+G5 -> 0 | F5: {=INDIRECT("B2.5!L" & (ROW(F5) + 2))} -> 0 | G5: {=INDIRECT("B2.5!M" & (ROW(G5) + 2))} -> 0 | I5: =E5/100*H5 -> 0 | L5: z toho kapitálové | M5: =SUM('B2.6'!D3:D9) -> 0
A6: {=INDIRECT("B2.5!A" & (ROW(A6) +2))} -> 0 | B6: {=INDIRECT("B2.5!B" & (ROW(B6) + 2))} -> 0 | C6: {=INDIRECT("B2.5!C" & (ROW(C6) + 2))} -> 0 | D6: {=INDIRECT("B2.5!N"&(ROW(D6)+2))} -> 0 | E6: =F6+G6 -> 0 | F6: {=INDIRECT("B2.5!L" & (ROW(F6) + 2))} -> 0 | G6: {=INDIRECT("B2.5!M" & (ROW(G6) + 2))} -> 0 | I6: =E6/100*H6 -> 0
A7: {=INDIRECT("B2.5!A" & (ROW(A7) +2))} -> 0 | B7: {=INDIRECT("B2.5!B" & (ROW(B7) + 2))} -> 0 | C7: {=INDIRECT("B2.5!C" & (ROW(C7) + 2))} -> 0 | D7: {=INDIRECT("B2.5!N"&(ROW(D7)+2))} -> 0 | E7: =F7+G7 -> 0 | F7: {=INDIRECT("B2.5!L" & (ROW(F7) + 2))} -> 0 | G7: {=INDIRECT("B2.5!M" & (ROW(G7) + 2))} -> 0 | I7: =E7/100*H7 -> 0
A8: {=INDIRECT("B2.5!A" & (ROW(A8) +2))} -> 0 | B8: {=INDIRECT("B2.5!B" & (ROW(B8) + 2))} -> 0 | C8: {=INDIRECT("B2.5!C" & (ROW(C8) + 2))} -> 0 | D8: {=INDIRECT("B2.5!N"&(ROW(D8)+2))} -> 0 | E8: =F8+G8 -> 0 | F8: {=INDIRECT("B2.5!L" & (ROW(F8) + 2))} -> 0 | G8: {=INDIRECT("B2.5!M" & (ROW(G8) + 2))} -> 0 | I8: =E8/100*H8 -> 0 | N8: ............................................
A9: {=INDIRECT("B2.5!A" & (ROW(A9) +2))} -> 0 | B9: {=INDIRECT("B2.5!B" & (ROW(B9) + 2))} -> 0 | C9: {=INDIRECT("B2.5!C" & (ROW(C9) + 2))} -> 0 | D9: {=INDIRECT("B2.5!N"&(ROW(D9)+2))} -> 0 | E9: =F9+G9 -> 0 | F9: {=INDIRECT("B2.5!L" & (ROW(F9) + 2))} -> 0 | G9: {=INDIRECT("B2.5!M" & (ROW(G9) + 2))} -> 0 | I9: =E9/100*H9 -> 0 | N9: Podpis
A10: {=INDIRECT("B2.5!A" & (ROW(A10) +2))} -> 0 | B10: {=INDIRECT("B2.5!B" & (ROW(B10) + 2))} -> 0 | C10: {=INDIRECT("B2.5!C" & (ROW(C10) + 2))} -> 0 | D10: {=INDIRECT("B2.5!N"&(ROW(D10)+2))} -> 0 | E10: =F10+G10 -> 0 | F10: {=INDIRECT("B2.5!L" & (ROW(F10) + 2))} -> 0 | G10: {=INDIRECT("B2.5!M" & (ROW(G10) + 2))} -> 0 | I10: =E10/100*H10 -> 0
A11: {=INDIRECT("B2.5!A" & (ROW(A11) +2))} -> 0 | B11: {=INDIRECT("B2.5!B" & (ROW(B11) + 2))} -> 0 | C11: {=INDIRECT("B2.5!C" & (ROW(C11) + 2))} -> 0 | D11: {=INDIRECT("B2.5!N"&(ROW(D11)+2))} -> 0 | E11: =F11+G11 -> 0 | F11: {=INDIRECT("B2.5!L" & (ROW(F11) + 2))} -> 0 | G11: {=INDIRECT("B2.5!M" & (ROW(G11) + 2))} -> 0 | I11: =E11/100*H11 -> 0
A12: {=INDIRECT("B2.5!A" & (ROW(A12) +2))} -> 0 | B12: {=INDIRECT("B2.5!B" & (ROW(B12) + 2))} -> 0 | C12: {=INDIRECT("B2.5!C" & (ROW(C12) + 2))} -> 0 | D12: {=INDIRECT("B2.5!N"&(ROW(D12)+2))} -> 0 | E12: =F12+G12 -> 0 | F12: {=INDIRECT("B2.5!L" & (ROW(F12) + 2))} -> 0 | G12: {=INDIRECT("B2.5!M" & (ROW(G12) + 2))} -> 0 | I12: =E12/100*H12 -> 0
A13: {=INDIRECT("B2.5!A" & (ROW(A13) +2))} -> 0 | B13: {=INDIRECT("B2.5!B" & (ROW(B13) + 2))} -> 0 | C13: {=INDIRECT("B2.5!C" & (ROW(C13) + 2))} -> 0 | D13: {=INDIRECT("B2.5!N"&(ROW(D13)+2))} -> 0 | E13: =F13+G13 -> 0 | F13: {=INDIRECT("B2.5!L" & (ROW(F13) + 2))} -> 0 | G13: {=INDIRECT("B2.5!M" & (ROW(G13) + 2))} -> 0 | I13: =E13/100*H13 -> 0
A14: {=INDIRECT("B2.5!A" & (ROW(A14) +2))} -> 0 | B14: {=INDIRECT("B2.5!B" & (ROW(B14) + 2))} -> 0 | C14: {=INDIRECT("B2.5!C" & (ROW(C14) + 2))} -> 0 | D14: {=INDIRECT("B2.5!N"&(ROW(D14)+2))} -> 0 | E14: =F14+G14 -> 0 | F14: {=INDIRECT("B2.5!L" & (ROW(F14) + 2))} -> 0 | G14: {=INDIRECT("B2.5!M" & (ROW(G14) + 2))} -> 0 | I14: =E14/100*H14 -> 0
A15: {=INDIRECT("B2.5!A" & (ROW(A15) +2))} -> 0 | B15: {=INDIRECT("B2.5!B" & (ROW(B15) + 2))} -> 0 | C15: {=INDIRECT("B2.5!C" & (ROW(C15) + 2))} -> 0 | D15: {=INDIRECT("B2.5!N"&(ROW(D15)+2))} -> 0 | E15: =F15+G15 -> 0 | F15: {=INDIRECT("B2.5!L" & (ROW(F15) + 2))} -> 0 | G15: {=INDIRECT("B2.5!M" & (ROW(G15) + 2))} -> 0 | I15: =E15/100*H15 -> 0
A16: {=INDIRECT("B2.5!A" & (ROW(A16) +2))} -> 0 | B16: {=INDIRECT("B2.5!B" & (ROW(B16) + 2))} -> 0 | C16: {=INDIRECT("B2.5!C" & (ROW(C16) + 2))} -> 0 | D16: {=INDIRECT("B2.5!N"&(ROW(D16)+2))} -> 0 | E16: =F16+G16 -> 0 | F16: {=INDIRECT("B2.5!L" & (ROW(F16) + 2))} -> 0 | G16: {=INDIRECT("B2.5!M" & (ROW(G16) + 2))} -> 0 | I16: =E16/100*H16 -> 0
A17: {=INDIRECT("B2.5!A" & (ROW(A17) +2))} -> 0 | B17: {=INDIRECT("B2.5!B" & (ROW(B17) + 2))} -> 0 | C17: {=INDIRECT("B2.5!C" & (ROW(C17) + 2))} -> 0 | D17: {=INDIRECT("B2.5!N"&(ROW(D17)+2))} -> 0 | E17: =F17+G17 -> 0 | F17: {=INDIRECT("B2.5!L" & (ROW(F17) + 2))} -> 0 | G17: {=INDIRECT("B2.5!M" & (ROW(G17) + 2))} -> 0 | I17: =E17/100*H17 -> 0
A18: {=INDIRECT("B2.5!A" & (ROW(A18) +2))} -> 0 | B18: {=INDIRECT("B2.5!B" & (ROW(B18) + 2))} -> 0 | C18: {=INDIRECT("B2.5!C" & (ROW(C18) + 2))} -> 0 | D18: {=INDIRECT("B2.5!N"&(ROW(D18)+2))} -> 0 | E18: =F18+G18 -> 0 | F18: {=INDIRECT("B2.5!L" & (ROW(F18) + 2))} -> 0 | G18: {=INDIRECT("B2.5!M" & (ROW(G18) + 2))} -> 0 | I18: =E18/100*H18 -> 0
A19: {=INDIRECT("B2.5!A" & (ROW(A19) +2))} -> 0 | B19: {=INDIRECT("B2.5!B" & (ROW(B19) + 2))} -> 0 | C19: {=INDIRECT("B2.5!C" & (ROW(C19) + 2))} -> 0 | D19: {=INDIRECT("B2.5!N"&(ROW(D19)+2))} -> 0 | E19: =F19+G19 -> 0 | F19: {=INDIRECT("B2.5!L" & (ROW(F19) + 2))} -> 0 | G19: {=INDIRECT("B2.5!M" & (ROW(G19) + 2))} -> 0 | I19: =E19/100*H19 -> 0
A20: {=INDIRECT("B2.5!A" & (ROW(A20) +2))} -> 0 | B20: {=INDIRECT("B2.5!B" & (ROW(B20) + 2))} -> 0 | C20: {=INDIRECT("B2.5!C" & (ROW(C20) + 2))} -> 0 | D20: {=INDIRECT("B2.5!N"&(ROW(D20)+2))} -> 0 | E20: =F20+G20 -> 0 | F20: {=INDIRECT("B2.5!L" & (ROW(F20) + 2))} -> 0 | G20: {=INDIRECT("B2.5!M" & (ROW(G20) + 2))} -> 0 | I20: =E20/100*H20 -> 0
A21: {=INDIRECT("B2.5!A" & (ROW(A21) +2))} -> 0 | B21: {=INDIRECT("B2.5!B" & (ROW(B21) + 2))} -> 0 | C21: {=INDIRECT("B2.5!C" & (ROW(C21) + 2))} -> 0 | D21: {=INDIRECT("B2.5!N"&(ROW(D21)+2))} -> 0 | E21: =F21+G21 -> 0 | F21: {=INDIRECT("B2.5!L" & (ROW(F21) + 2))} -> 0 | G21: {=INDIRECT("B2.5!M" & (ROW(G21) + 2))} -> 0 | I21: =E21/100*H21 -> 0
... A502: {=INDIRECT("B2.5!A" & (ROW(A502) +2))} -> 0 | B502: {=INDIRECT("B2.5!B" & (ROW(B502) + 2))} -> 0 | C502: {=INDIRECT("B2.5!C" & (ROW(C502) + 2))} -> 0 | D502: {=INDIRECT("B2.5!N"&(ROW(D502)+2))} -> 0 | E502: =F502+G502 -> 0 | F502: {=INDIRECT("B2.5!L" & (ROW(F502) + 2))} -> 0 | G502: {=INDIRECT("B2.5!M" & (ROW(G502) + 2))} -> 0 | I502: =E502/100*H502 -> 0

Sheet Hodnotenie projektu B3
A1: Aktivita | B1: Podaktivita | C1: Účel | D1: BV/KV | E1: Rozpočet | F1: Požadovaná dotácia | G1: Vlastné zdroje | H1: Hodnotenie | I1: Navrhované | J1: Komentár k hodnoteniu | L1: Sumár
A2: {=INDIRECT("B3.5!A" & (ROW(A2) +2))} -> 0 | B2: {=INDIRECT("B3.5!B" & (ROW(B2) + 2))} -> 0 | C2: {=INDIRECT("B3.5!C" & (ROW(C2) + 2))} -> 0 | D2: {=INDIRECT("B3.5!N"&(ROW(D2)+2))} -> 0 | E2: =F2+G2 -> 0 | F2: {=INDIRECT("B3.5!L" & (ROW(F2) + 2))} -> 0 | G2: {=INDIRECT("B3.5!M" & (ROW(G2) + 2))} -> 0 | I2: =E2/100*H2 -> 0 | M2: Celkový rozpočet | N2: Požadovaná dotácia | O2: Navrhnuté
A3: {=INDIRECT("B3.5!A" & (ROW(A3) +2))} -> 0 | B3: {=INDIRECT("B3.5!B" & (ROW(B3) + 2))} -> 0 | C3: {=INDIRECT("B3.5!C" & (ROW(C3) + 2))} -> 0 | D3: {=INDIRECT("B3.5!N"&(ROW(D3)+2))} -> 0 | E3: =F3+G3 -> 0 | F3: {=INDIRECT("B3.5!L" & (ROW(F3) + 2))} -> 0 | G3: {=INDIRECT("B3.5!M" & (ROW(G3) + 2))} -> 0 | I3: =E3/100*H3 -> 0 | M3: =SUM(E2:E502) -> 0 | N3: =SUM(F2:F502) -> 0 | O3: =SUM(I2:I502) -> 0
A4: {=INDIRECT("B3.5!A" & (ROW(A4) +2))} -> 0 | B4: {=INDIRECT("B3.5!B" & (ROW(B4) + 2))} -> 0 | C4: {=INDIRECT("B3.5!C" & (ROW(C4) + 2))} -> 0 | D4: {=INDIRECT("B3.5!N"&(ROW(D4)+2))} -> 0 | E4: =F4+G4 -> 0 | F4: {=INDIRECT("B3.5!L" & (ROW(F4) + 2))} -> 0 | G4: {=INDIRECT("B3.5!M" & (ROW(G4) + 2))} -> 0 | I4: =E4/100*H4 -> 0 | L4: z toho bežné | M4: =SUM('B3.6'!C3:C9) -> 0
A5: {=INDIRECT("B3.5!A" & (ROW(A5) +2))} -> 0 | B5: {=INDIRECT("B3.5!B" & (ROW(B5) + 2))} -> 0 | C5: {=INDIRECT("B3.5!C" & (ROW(C5) + 2))} -> 0 | D5: {=INDIRECT("B3.5!N"&(ROW(D5)+2))} -> 0 | E5: =F5+G5 -> 0 | F5: {=INDIRECT("B3.5!L" & (ROW(F5) + 2))} -> 0 | G5: {=INDIRECT("B3.5!M" & (ROW(G5) + 2))} -> 0 | I5: =E5/100*H5 -> 0 | L5: z toho kapitálové | M5: =SUM('B3.6'!D3:D9) -> 0
A6: {=INDIRECT("B3.5!A" & (ROW(A6) +2))} -> 0 | B6: {=INDIRECT("B3.5!B" & (ROW(B6) + 2))} -> 0 | C6: {=INDIRECT("B3.5!C" & (ROW(C6) + 2))} -> 0 | D6: {=INDIRECT("B3.5!N"&(ROW(D6)+2))} -> 0 | E6: =F6+G6 -> 0 | F6: {=INDIRECT("B3.5!L" & (ROW(F6) + 2))} -> 0 | G6: {=INDIRECT("B3.5!M" & (ROW(G6) + 2))} -> 0 | I6: =E6/100*H6 -> 0
A7: {=INDIRECT("B3.5!A" & (ROW(A7) +2))} -> 0 | B7: {=INDIRECT("B3.5!B" & (ROW(B7) + 2))} -> 0 | C7: {=INDIRECT("B3.5!C" & (ROW(C7) + 2))} -> 0 | D7: {=INDIRECT("B3.5!N"&(ROW(D7)+2))} -> 0 | E7: =F7+G7 -> 0 | F7: {=INDIRECT("B3.5!L" & (ROW(F7) + 2))} -> 0 | G7: {=INDIRECT("B3.5!M" & (ROW(G7) + 2))} -> 0 | I7: =E7/100*H7 -> 0
A8: {=INDIRECT("B3.5!A" & (ROW(A8) +2))} -> 0 | B8: {=INDIRECT("B3.5!B" & (ROW(B8) + 2))} -> 0 | C8: {=INDIRECT("B3.5!C" & (ROW(C8) + 2))} -> 0 | D8: {=INDIRECT("B3.5!N"&(ROW(D8)+2))} -> 0 | E8: =F8+G8 -> 0 | F8: {=INDIRECT("B3.5!L" & (ROW(F8) + 2))} -> 0 | G8: {=INDIRECT("B3.5!M" & (ROW(G8) + 2))} -> 0 | I8: =E8/100*H8 -> 0 | N8: ............................................
A9: {=INDIRECT("B3.5!A" & (ROW(A9) +2))} -> 0 | B9: {=INDIRECT("B3.5!B" & (ROW(B9) + 2))} -> 0 | C9: {=INDIRECT("B3.5!C" & (ROW(C9) + 2))} -> 0 | D9: {=INDIRECT("B3.5!N"&(ROW(D9)+2))} -> 0 | E9: =F9+G9 -> 0 | F9: {=INDIRECT("B3.5!L" & (ROW(F9) + 2))} -> 0 | G9: {=INDIRECT("B3.5!M" & (ROW(G9) + 2))} -> 0 | I9: =E9/100*H9 -> 0 | N9: Podpis
A10: {=INDIRECT("B3.5!A" & (ROW(A10) +2))} -> 0 | B10: {=INDIRECT("B3.5!B" & (ROW(B10) + 2))} -> 0 | C10: {=INDIRECT("B3.5!C" & (ROW(C10) + 2))} -> 0 | D10: {=INDIRECT("B3.5!N"&(ROW(D10)+2))} -> 0 | E10: =F10+G10 -> 0 | F10: {=INDIRECT("B3.5!L" & (ROW(F10) + 2))} -> 0 | G10: {=INDIRECT("B3.5!M" & (ROW(G10) + 2))} -> 0 | I10: =E10/100*H10 -> 0
A11: {=INDIRECT("B3.5!A" & (ROW(A11) +2))} -> 0 | B11: {=INDIRECT("B3.5!B" & (ROW(B11) + 2))} -> 0 | C11: {=INDIRECT("B3.5!C" & (ROW(C11) + 2))} -> 0 | D11: {=INDIRECT("B3.5!N"&(ROW(D11)+2))} -> 0 | E11: =F11+G11 -> 0 | F11: {=INDIRECT("B3.5!L" & (ROW(F11) + 2))} -> 0 | G11: {=INDIRECT("B3.5!M" & (ROW(G11) + 2))} -> 0 | I11: =E11/100*H11 -> 0
A12: {=INDIRECT("B3.5!A" & (ROW(A12) +2))} -> 0 | B12: {=INDIRECT("B3.5!B" & (ROW(B12) + 2))} -> 0 | C12: {=INDIRECT("B3.5!C" & (ROW(C12) + 2))} -> 0 | D12: {=INDIRECT("B3.5!N"&(ROW(D12)+2))} -> 0 | E12: =F12+G12 -> 0 | F12: {=INDIRECT("B3.5!L" & (ROW(F12) + 2))} -> 0 | G12: {=INDIRECT("B3.5!M" & (ROW(G12) + 2))} -> 0 | I12: =E12/100*H12 -> 0
A13: {=INDIRECT("B3.5!A" & (ROW(A13) +2))} -> 0 | B13: {=INDIRECT("B3.5!B" & (ROW(B13) + 2))} -> 0 | C13: {=INDIRECT("B3.5!C" & (ROW(C13) + 2))} -> 0 | D13: {=INDIRECT("B3.5!N"&(ROW(D13)+2))} -> 0 | E13: =F13+G13 -> 0 | F13: {=INDIRECT("B3.5!L" & (ROW(F13) + 2))} -> 0 | G13: {=INDIRECT("B3.5!M" & (ROW(G13) + 2))} -> 0 | I13: =E13/100*H13 -> 0
A14: {=INDIRECT("B3.5!A" & (ROW(A14) +2))} -> 0 | B14: {=INDIRECT("B3.5!B" & (ROW(B14) + 2))} -> 0 | C14: {=INDIRECT("B3.5!C" & (ROW(C14) + 2))} -> 0 | D14: {=INDIRECT("B3.5!N"&(ROW(D14)+2))} -> 0 | E14: =F14+G14 -> 0 | F14: {=INDIRECT("B3.5!L" & (ROW(F14) + 2))} -> 0 | G14: {=INDIRECT("B3.5!M" & (ROW(G14) + 2))} -> 0 | I14: =E14/100*H14 -> 0
A15: {=INDIRECT("B3.5!A" & (ROW(A15) +2))} -> 0 | B15: {=INDIRECT("B3.5!B" & (ROW(B15) + 2))} -> 0 | C15: {=INDIRECT("B3.5!C" & (ROW(C15) + 2))} -> 0 | D15: {=INDIRECT("B3.5!N"&(ROW(D15)+2))} -> 0 | E15: =F15+G15 -> 0 | F15: {=INDIRECT("B3.5!L" & (ROW(F15) + 2))} -> 0 | G15: {=INDIRECT("B3.5!M" & (ROW(G15) + 2))} -> 0 | I15: =E15/100*H15 -> 0
A16: {=INDIRECT("B3.5!A" & (ROW(A16) +2))} -> 0 | B16: {=INDIRECT("B3.5!B" & (ROW(B16) + 2))} -> 0 | C16: {=INDIRECT("B3.5!C" & (ROW(C16) + 2))} -> 0 | D16: {=INDIRECT("B3.5!N"&(ROW(D16)+2))} -> 0 | E16: =F16+G16 -> 0 | F16: {=INDIRECT("B3.5!L" & (ROW(F16) + 2))} -> 0 | G16: {=INDIRECT("B3.5!M" & (ROW(G16) + 2))} -> 0 | I16: =E16/100*H16 -> 0
A17: {=INDIRECT("B3.5!A" & (ROW(A17) +2))} -> 0 | B17: {=INDIRECT("B3.5!B" & (ROW(B17) + 2))} -> 0 | C17: {=INDIRECT("B3.5!C" & (ROW(C17) + 2))} -> 0 | D17: {=INDIRECT("B3.5!N"&(ROW(D17)+2))} -> 0 | E17: =F17+G17 -> 0 | F17: {=INDIRECT("B3.5!L" & (ROW(F17) + 2))} -> 0 | G17: {=INDIRECT("B3.5!M" & (ROW(G17) + 2))} -> 0 | I17: =E17/100*H17 -> 0
A18: {=INDIRECT("B3.5!A" & (ROW(A18) +2))} -> 0 | B18: {=INDIRECT("B3.5!B" & (ROW(B18) + 2))} -> 0 | C18: {=INDIRECT("B3.5!C" & (ROW(C18) + 2))} -> 0 | D18: {=INDIRECT("B3.5!N"&(ROW(D18)+2))} -> 0 | E18: =F18+G18 -> 0 | F18: {=INDIRECT("B3.5!L" & (ROW(F18) + 2))} -> 0 | G18: {=INDIRECT("B3.5!M" & (ROW(G18) + 2))} -> 0 | I18: =E18/100*H18 -> 0
A19: {=INDIRECT("B3.5!A" & (ROW(A19) +2))} -> 0 | B19: {=INDIRECT("B3.5!B" & (ROW(B19) + 2))} -> 0 | C19: {=INDIRECT("B3.5!C" & (ROW(C19) + 2))} -> 0 | D19: {=INDIRECT("B3.5!N"&(ROW(D19)+2))} -> 0 | E19: =F19+G19 -> 0 | F19: {=INDIRECT("B3.5!L" & (ROW(F19) + 2))} -> 0 | G19: {=INDIRECT("B3.5!M" & (ROW(G19) + 2))} -> 0 | I19: =E19/100*H19 -> 0
A20: {=INDIRECT("B3.5!A" & (ROW(A20) +2))} -> 0 | B20: {=INDIRECT("B3.5!B" & (ROW(B20) + 2))} -> 0 | C20: {=INDIRECT("B3.5!C" & (ROW(C20) + 2))} -> 0 | D20: {=INDIRECT("B3.5!N"&(ROW(D20)+2))} -> 0 | E20: =F20+G20 -> 0 | F20: {=INDIRECT("B3.5!L" & (ROW(F20) + 2))} -> 0 | G20: {=INDIRECT("B3.5!M" & (ROW(G20) + 2))} -> 0 | I20: =E20/100*H20 -> 0
A21: {=INDIRECT("B3.5!A" & (ROW(A21) +2))} -> 0 | B21: {=INDIRECT("B3.5!B" & (ROW(B21) + 2))} -> 0 | C21: {=INDIRECT("B3.5!C" & (ROW(C21) + 2))} -> 0 | D21: {=INDIRECT("B3.5!N"&(ROW(D21)+2))} -> 0 | E21: =F21+G21 -> 0 | F21: {=INDIRECT("B3.5!L" & (ROW(F21) + 2))} -> 0 | G21: {=INDIRECT("B3.5!M" & (ROW(G21) + 2))} -> 0 | I21: =E21/100*H21 -> 0
... A502: {=INDIRECT("B3.5!A" & (ROW(A502) +2))} -> 0 | B502: {=INDIRECT("B3.5!B" & (ROW(B502) + 2))} -> 0 | C502: {=INDIRECT("B3.5!C" & (ROW(C502) + 2))} -> 0 | D502: {=INDIRECT("B3.5!N"&(ROW(D502)+2))} -> 0 | E502: =F502+G502 -> 0 | F502: {=INDIRECT("B3.5!L" & (ROW(F502) + 2))} -> 0 | G502: {=INDIRECT("B3.5!M" & (ROW(G502) + 2))} -> 0 | I502: =E502/100*H502 -> 0

Sheet ID číselník
A1: Abec.por. | B1: P.č | C1: IČO | D1: Názov OOCR | E1: ID_OOCR | F1: Názov OOCR_skrátený | G1: Názov OOCR_EN | H1: ID_KOCR | I1: Názov KOCR_skrátený | J1: VUC | K1: AOCR | L1: Číslo spisu_Register MCRS | M1: Aktualizácia_Register MCRS | N1: Vznik | O1: Hlavná činnosť_od | P1: Sídlo | Q1: Ulica a číslo domu | R1: PSČ | S1: Mesto | T1: Okres | U1: Kraj
C2: prázdne | D2: 0 | E2: 0
A3: 19 | B3: 1 | C3: ="42197813" -> 42197813 | D3: Región Banská Štiavnica | E3: OOCR_01 | F3: Región Banská Štiavnica | G3: Banská Štiavnica Tourism | H3: KOCR_6 | I3: =IFERROR(VLOOKUP(H3,[1]Filter_KOCR!$C$1:$G$9,3,FALSE),"_nie je členom KOCR") -> Banskobystrický kraj Turizmus | J3: =IFERROR(VLOOKUP([1]Filter_OOCR!G2,[1]Filter_KOCR!$C$1:$G$9,5,FALSE),"") -> BBSK | K3: člen AOCR | L3: 27248/2011/SCR | M3: marec 2024 | N3: 40892 | O3: 2012 | P3: Námestie sv. Trojice 1, 969 01 Banská Štiavnica | Q3: Námestie sv. Trojice 1 | R3: 969 01 | S3: Banská Štiavnica | T3: Banská Štiavnica | U3: Banskobystrický kraj
A4: 1 | B4: 2 | C4: ="42259088" -> 42259088 | D4: Bratislavská organizácia cestovného ruchu | E4: OOCR_02 | F4: Bratislavská OCR | G4: Bratislava Tourist Board | H4: KOCR_1 | I4: =IFERROR(VLOOKUP(H4,[1]Filter_KOCR!$C$1:$G$9,3,FALSE),"_nie je členom KOCR") -> Turizmus regiónu Bratislava | J4: =IFERROR(VLOOKUP([1]Filter_OOCR!G3,[1]Filter_KOCR!$C$1:$G$9,5,FALSE),"") -> BSK | K4: člen AOCR | L4: 28351/2011/SCR | M4: marec 2024 | N4: 40905 | O4: 2012 | P4: Primaciálne námestie 1, 814 99 Bratislava | Q4: Primaciálne námestie 1 | R4: 814 99 | S4: Bratislava | T4: Bratislava I | U4: Bratislavský kraj
A5: 3 | B5: 4 | C5: ="42219701" -> 42219701 | D5: Klaster Orava | E5: OOCR_04 | F5: Klaster Orava | H5: KOCR_2 | I5: =IFERROR(VLOOKUP(H5,[1]Filter_KOCR!$C$1:$G$9,3,FALSE),"_nie je členom KOCR") -> Žilinský turistický kraj | J5: =IFERROR(VLOOKUP([1]Filter_OOCR!G5,[1]Filter_KOCR!$C$1:$G$9,5,FALSE),"") -> ZSK | K5: člen AOCR | L5: 69768/2011/SCR | M5: február 2024 | N5: 40917 | O5: 2012 | P5: Hviezdoslavovo námestie 1651/2, 026 01 Dolný Kubín | Q5: Hviezdoslavovo námestie 1651/2 | R5: 026 01 | S5: Dolný Kubín | T5: Dolný Kubín | U5: Žilinský kraj
A6: 4 | B6: 5 | C6: ="42219574" -> 42219574 | D6: Malá Fatra | E6: OOCR_05 | F6: Malá Fatra | H6: KOCR_2 | I6: =IFERROR(VLOOKUP(H6,[1]Filter_KOCR!$C$1:$G$9,3,FALSE),"_nie je členom KOCR") -> Žilinský turistický kraj | J6: =IFERROR(VLOOKUP([1]Filter_OOCR!G6,[1]Filter_KOCR!$C$1:$G$9,5,FALSE),"") -> PSK | K6: člen AOCR | L6: 06589/2012/SCR | M6: január 2024 | N6: 40924 | O6: 2012 | P6: Námestie Obetí Komunizmu 1, 011 31 Žilina | Q6: Námestie Obetí Komunizmu 1 | R6: 011 31 | S6: Žilina | T6: Žilina | U6: Žilinský kraj
A7: 29 | B7: 7 | C7: ="42234182" -> 42234182 | D7: Severný Spiš – Pieniny | E7: OOCR_07 | F7: Severný Spiš – Pieniny | H7: KOCR_3 | I7: =IFERROR(VLOOKUP(H7,[1]Filter_KOCR!$C$1:$G$9,3,FALSE),"_nie je členom KOCR") -> Severovýchod Slovenska | J7: =IFERROR(VLOOKUP([1]Filter_OOCR!G8,[1]Filter_KOCR!$C$1:$G$9,5,FALSE),"") -> BBSK | K7: člen AOCR | L7: 07984/2012/SCR | M7: január 2023 | N7: 40945 | O7: 2012 | P7: Obchodná 1, 064 01 Stará Ľubovňa | Q7: Obchodná 1 | R7: 064 01 | S7: Stará Ľubovňa | T7: Stará Ľubovňa | U7: Prešovský kraj
A8: 24 | B8: 8 | C8: ="42219906" -> 42219906 | D8: REGION LIPTOV | E8: OOCR_08 | F8: Region Liptov | H8: KOCR_2 | I8: =IFERROR(VLOOKUP(H8,[1]Filter_KOCR!$C$1:$G$9,3,FALSE),"_nie je členom KOCR") -> Žilinský turistický kraj | J8: =IFERROR(VLOOKUP([1]Filter_OOCR!G9,[1]Filter_KOCR!$C$1:$G$9,5,FALSE),"") -> TTSK | K8: člen AOCR | L8: 08557/2012/SCR | M8: február 2024 | N8: 40949 | O8: 2012 | P8: Štúrova 1989/41, 031 42 Liptovský Mikuláš | Q8: Štúrova 1989/41 | R8: 031 42 | S8: Liptovský Mikuláš | T8: Liptovský Mikuláš | U8: Žilinský kraj
A9: 30 | B9: 9 | C9: ="42199212" -> 42199212 | D9: Slnečný Hont | E9: OOCR_09 | F9: Slnečný Hont | G9: SUNNY HONT Tourism | H9: KOCR_6 | I9: =IFERROR(VLOOKUP(H9,[1]Filter_KOCR!$C$1:$G$9,3,FALSE),"_nie je členom KOCR") -> Banskobystrický kraj Turizmus | J9: =IFERROR(VLOOKUP([1]Filter_OOCR!G10,[1]Filter_KOCR!$C$1:$G$9,5,FALSE),"") -> TTSK | K9: člen AOCR | L9: 08816/2012/SCR | M9: február 2024 | N9: 40954 | O9: 2012 | P9: Kúpeľná 109, 962 71 Dudince | Q9: Kúpeľná 109 | R9: 962 71 | S9: Dudince | T9: Krupina | U9: Banskobystrický kraj
A10: 28 | B10: 10 | C10: ="42288916" -> 42288916 | D10: REZORT PIEŠŤANY | E10: OOCR_10 | F10: Rezort Piešťany | H10: KOCR_7 | I10: =IFERROR(VLOOKUP(H10,[1]Filter_KOCR!$C$1:$G$9,3,FALSE),"_nie je členom KOCR") -> Trnavský kraj | J10: =IFERROR(VLOOKUP([1]Filter_OOCR!G11,[1]Filter_KOCR!$C$1:$G$9,5,FALSE),"") -> TTSK | K10: člen AOCR | L10: 09051/2012/SCR | M10: február 2024 | N10: 40956 | O10: 2012 | P10: Kukučínova č. 21, 921 01 Piešťany | Q10: Kukučínova č. 21 | R10: 921 01 | S10: Piešťany | T10: Piešťany | U10: Trnavský kraj
A11: 15 | B11: 11 | C11: ="42288967" -> 42288967 | D11: Oblastná organizácia cestovného ruchu Žitný ostrov – Csallóköz | E11: OOCR_11 | F11: OOCR Žitný ostrov – Csallóköz | H11: KOCR_7 | I11: =IFERROR(VLOOKUP(H11,[1]Filter_KOCR!$C$1:$G$9,3,FALSE),"_nie je členom KOCR") -> Trnavský kraj | J11: =IFERROR(VLOOKUP([1]Filter_OOCR!G12,[1]Filter_KOCR!$C$1:$G$9,5,FALSE),"") -> PSK | K11: člen AOCR | L11: 09385/2012/SCR | M11: február 2024 | N11: 40962 | O11: 2012 | P11: Promenádna 3221/20, 932 01 Veľký Meder | Q11: Promenádna 3221/20 | R11: 932 01 | S11: Veľký Meder | T11: Dunajská Streda | U11: Trnavský kraj
A12: 34 | B12: 12 | C12: ="42288924" -> 42288924 | D12: Trnava Tourism | E12: OOCR_12 | F12: Trnava Tourism | H12: KOCR_7 | I12: =IFERROR(VLOOKUP(H12,[1]Filter_KOCR!$C$1:$G$9,3,FALSE),"_nie je členom KOCR") -> Trnavský kraj | J12: =IFERROR(VLOOKUP([1]Filter_OOCR!G13,[1]Filter_KOCR!$C$1:$G$9,5,FALSE),"") -> BSK | K12: člen AOCR | L12: 09366/2012/SCR | M12: február 2024 | N12: 40962 | O12: 2012 | P12: Hospodárska 33, 917 01 Trnava | Q12: Hospodárska 33 | R12: 917 01 | S12: Trnava | T12: Trnava | U12: Trnavský kraj
A13: 2 | B13: 13 | C13: ="42234531" -> 42234531 | D13: Horný Zemplín | E13: OOCR_13 | F13: Horný Zemplín | H13: KOCR_3 | I13: =IFERROR(VLOOKUP(H13,[1]Filter_KOCR!$C$1:$G$9,3,FALSE),"_nie je členom KOCR") -> Severovýchod Slovenska | J13: =IFERROR(VLOOKUP([1]Filter_OOCR!G14,[1]Filter_KOCR!$C$1:$G$9,5,FALSE),"") -> KSK | K13: člen AOCR | L13: 09457/2012/SCR | M13: marec 2024 | N13: 40963 | O13: 2012 | P13: Malá Domaša č. 106, 094 02 Slovenská Kajňa | Q13: Malá Domaša č. 106 | R13: 094 02 | S13: Slovenská Kajňa | T13: Vranov nad Topľou | U13: Prešovský kraj
A14: 25 | B14: 14 | C14: ="42260337" -> 42260337 | D14: Región Senec | E14: OOCR_14 | F14: Región Senec | G14: Senec Region | H14: KOCR_1 | I14: =IFERROR(VLOOKUP(H14,[1]Filter_KOCR!$C$1:$G$9,3,FALSE),"_nie je členom KOCR") -> Turizmus regiónu Bratislava | J14: =IFERROR(VLOOKUP([1]Filter_OOCR!G15,[1]Filter_KOCR!$C$1:$G$9,5,FALSE),"") -> ZSK | K14: člen AOCR | L14: 09485/2012/SCR | M14: február 2024 | N14: 40966 | O14: 2012 | P14: Nám. 1. mája 4, 903 01 Senec | Q14: Nám. 1. mája 4 | R14: 903 01 | S14: Senec | T14: Senec | U14: Bratislavský kraj
A15: 37 | B15: 15 | C15: ="42247632" -> 42247632 | D15: Visit Košice | E15: OOCR_15 | F15: Visit Košice | G15: Visit Košice | H15: KOCR_4 | I15: =IFERROR(VLOOKUP(H15,[1]Filter_KOCR!$C$1:$G$9,3,FALSE),"_nie je členom KOCR") -> Košice Región Turizmus | J15: =IFERROR(VLOOKUP([1]Filter_OOCR!G16,[1]Filter_KOCR!$C$1:$G$9,5,FALSE),"") -> BBSK | K15: člen AOCR | L15: 09668/2012/SCR | M15: február 2024 | N15: 40967 | O15: 2012 | P15: Hlavná 59, 040 01 Košice | Q15: Hlavná 59 | R15: 040 01 | S15: Košice | T15: Košice I | U15: Košický kraj
A16: 16 | B16: 16 | C16: ="42220009" -> 42220009 | D16: Organizácia cestovného ruchu Kysuce | E16: OOCR_16 | F16: OCR Kysuce | G16: Kysuce tourist board | H16: KOCR_2 | I16: =IFERROR(VLOOKUP(H16,[1]Filter_KOCR!$C$1:$G$9,3,FALSE),"_nie je členom KOCR") -> Žilinský turistický kraj | J16: =IFERROR(VLOOKUP([1]Filter_OOCR!G17,[1]Filter_KOCR!$C$1:$G$9,5,FALSE),"") -> NSK | K16: člen AOCR | L16: 09587/2012/SCR | M16: február 2024 | N16: 40967 | O16: 2012 | P16: Námestie slobody 30, 022 01 Čadca | Q16: Námestie slobody 30 | R16: 022 01 | S16: Čadca | T16: Čadca | U16: Žilinský kraj
A17: 32 | B17: 18 | C17: ="42299268" -> 42299268 | D17: Stredné Slovensko | E17: OOCR_18 | F17: Stredné Slovensko | G17: Central Slovakia Tourist Board | H17: KOCR_6 | I17: =IFERROR(VLOOKUP(H17,[1]Filter_KOCR!$C$1:$G$9,3,FALSE),"_nie je členom KOCR") -> Banskobystrický kraj Turizmus | J17: =IFERROR(VLOOKUP([1]Filter_OOCR!G19,[1]Filter_KOCR!$C$1:$G$9,5,FALSE),"") -> BBSK | K17: člen AOCR | L17: 10206/2012/SCR | M17: február 2024 | N17: 40974 | O17: 2012 | P17: Námestie SNP 1, 974 01 Banská Bystrica | Q17: Námestie SNP 1 | R17: 974 01 | S17: Banská Bystrica | T17: Banská Bystrica | U17: Banskobystrický kraj
A18: 6 | B18: 19 | C18: ="42209005" -> 42209005 | D18: Nitrianska organizácia cestovného ruchu | E18: OOCR_19 | F18: Nitrianska OCR | G18: Nitra tourist board | H18: KOCR_8 | I18: =IFERROR(VLOOKUP(H18,[1]Filter_KOCR!$C$1:$G$9,3,FALSE),"_nie je členom KOCR") -> KOCR Nitriansky kraj | J18: =IFERROR(VLOOKUP([1]Filter_OOCR!G20,[1]Filter_KOCR!$C$1:$G$9,5,FALSE),"") -> ZSK | K18: člen AOCR | L18: 10188/2012/SCR | M18: marec 2024 | N18: 40974 | O18: 2012 | P18: Štefánikova trieda 60, Nitra 950 06 | Q18: Štefánikova trieda 60 | R18: 950 06 | S18: Nitra | T18: Nitra | U18: Nitriansky kraj
A19: 39 | B19: 22 | C19: ="42247748" -> 42247748 | D19: Zemplínska oblastná organizácia cestovného ruchu | E19: OOCR_22 | F19: Zemplínska OOCR | H19: KOCR_4 | I19: =IFERROR(VLOOKUP(H19,[1]Filter_KOCR!$C$1:$G$9,3,FALSE),"_nie je členom KOCR") -> Košice Región Turizmus | J19: =IFERROR(VLOOKUP([1]Filter_OOCR!G23,[1]Filter_KOCR!$C$1:$G$9,5,FALSE),"") -> PSK | K19: člen AOCR | L19: 10337/2012/SCR | M19: február 2024 | N19: 40976 | O19: 2012 | P19: Námestie osloboditeľov 30, 071 01 Michalovce | Q19: Námestie osloboditeľov 30 | R19: 071 01 | S19: Michalovce | T19: Michalovce | U19: Košický kraj
A20: 21 | B20: 26 | C20: ="42299381" -> 42299381 | D20: REGIÓN HOREHRONIE | E20: OOCR_26 | F20: Región Horehronie | H20: KOCR_6 | I20: =IFERROR(VLOOKUP(H20,[1]Filter_KOCR!$C$1:$G$9,3,FALSE),"_nie je členom KOCR") -> Banskobystrický kraj Turizmus | J20: =IFERROR(VLOOKUP([1]Filter_OOCR!G27,[1]Filter_KOCR!$C$1:$G$9,5,FALSE),"") -> TTSK | K20: člen AOCR | L20: 10672/2012/SCR | M20: február 2024 | N20: 40983 | O20: 2012 | P20: Námestie gen. M. R. Štefánika 3, 977 01 Brezno | Q20: Námestie gen. M. R. Štefánika 3 | R20: 977 01 | S20: Brezno | T20: Brezno | U20: Banskobystrický kraj
A21: 35 | B21: 27 | C21: ="42220360" -> 42220360 | D21: Turiec | E21: OOCR_27 | F21: Turiec | H21: KOCR_2 | I21: =IFERROR(VLOOKUP(H21,[1]Filter_KOCR!$C$1:$G$9,3,FALSE),"_nie je členom KOCR") -> Žilinský turistický kraj | J21: =IFERROR(VLOOKUP([1]Filter_OOCR!G28,[1]Filter_KOCR!$C$1:$G$9,5,FALSE),"") -> ZSK | K21: člen AOCR | L21: 11242/2012/SCR | M21: február 2024 | N21: 40994 | O21: 2012 | P21: Nám. S.H. Vajanského 1, 036 49 Martin | Q21: Nám. S.H. Vajanského 1 | R21: 036 49 | S21: Martin | T21: Martin | U21: Žilinský kraj
A22: 14 | B22: 29 | C22: ="42292174" -> 42292174 | D22: Oblastná organizácia cestovného ruchu Záhorie a Kopanice | E22: OOCR_29 | F22: OOCR Záhorie a Kopanice | G22: Regional Tourism Organisation Záhorie | H22: KOCR_1 | I22: =IFERROR(VLOOKUP(H22,[1]Filter_KOCR!$C$1:$G$9,3,FALSE),"_nie je členom KOCR") -> Turizmus regiónu Bratislava | J22: =IFERROR(VLOOKUP([1]Filter_OOCR!G30,[1]Filter_KOCR!$C$1:$G$9,5,FALSE),"") -> TSK | K22: člen AOCR | L22: 26017/2012/SCR | M22: január 2024 | N22: 41260 | O22: 2013 | P22: 906 03 Smrdáky 146 | Q22: Smrdáky 146 | R22: 906 03 | S22: Smrdáky | T22: Senica | U22: Trnavský kraj
A23: 20 | B23: 30 | C23: ="42304482" -> 42304482 | D23: REGIÓN GRON | E23: OOCR_30 | F23: Región Gron | G23: Region GRON | H23: KOCR_6 | I23: =IFERROR(VLOOKUP(H23,[1]Filter_KOCR!$C$1:$G$9,3,FALSE),"_nie je členom KOCR") -> Banskobystrický kraj Turizmus | J23: =IFERROR(VLOOKUP([1]Filter_OOCR!G31,[1]Filter_KOCR!$C$1:$G$9,5,FALSE),"") -> PSK | K23: člen AOCR | L23: 26578/2012/SCR | M23: marec 2024 | N23: 41270 | O23: 2013 | P23: Mestský úrad Žarnovica, Námestie SNP 33, 966 81 Žarnovica | Q23: Námestie SNP 33 | R23: 966 81 | S23: Žarnovica | T23: Žarnovica | U23: Banskobystrický kraj
A24: 26 | B24: 31 | C24: ="50076515" -> 50076515 | D24: Región Šariš | E24: OOCR_31 | F24: Región Šariš | G24: Šariš Region | H24: KOCR_3 | I24: =IFERROR(VLOOKUP(H24,[1]Filter_KOCR!$C$1:$G$9,3,FALSE),"_nie je členom KOCR") -> Severovýchod Slovenska | J24: =IFERROR(VLOOKUP([1]Filter_OOCR!G32,[1]Filter_KOCR!$C$1:$G$9,5,FALSE),"") -> BBSK | K24: člen AOCR | L24: 26683/2015/SCR | M24: február 2024 | N24: 42320 | O24: 2016 | P24: Hlavná 73, 080 01 Prešov | Q24: Hlavná 73 | R24: 080 01 | S24: Prešov | T24: Prešov | U24: Prešovský kraj
A25: 12 | B25: 36 | C25: ="51019914" -> 51019914 | D25: Oblastná organizácia cestovného ruchu Tekov | E25: OOCR_36 | F25: OOCR Tekov | G25: Regional Tourism Association Tekov | H25: KOCR_8 | I25: =IFERROR(VLOOKUP(H25,[1]Filter_KOCR!$C$1:$G$9,3,FALSE),"_nie je členom KOCR") -> KOCR Nitriansky kraj | J25: =IFERROR(VLOOKUP([1]Filter_OOCR!G37,[1]Filter_KOCR!$C$1:$G$9,5,FALSE),"") -> NSK | K25: člen AOCR | L25: 17466/2017/SCR | M25: jún 2023 | N25: 42915 | O25: 2017 | P25: Námestie hrdinov 1, 934 01 Levice | Q25: Námestie hrdinov 1 | R25: 934 01 | S25: Levice | T25: Levice | U25: Nitriansky kraj
A26: 9 | B26: 37 | C26: ="51837099" -> 51837099 | D26: Oblastná organizácia cestovného ruchu GEMER | E26: OOCR_37 | F26: OOCR Gemer | G26: Regional destination management organization GEMER | I26: =IFERROR(VLOOKUP(H26,[1]Filter_KOCR!$C$1:$G$9,3,FALSE),"_nie je členom KOCR") -> _nie je členom KOCR | J26: =IFERROR(VLOOKUP([1]Filter_OOCR!G38,[1]Filter_KOCR!$C$1:$G$9,5,FALSE),"") -> TSK | K26: člen AOCR | L26: 18722/2018/SCR | M26: február 2024 | N26: 43280 | O26: 2018 | P26: Muránska 1331/4, 050 01 Revúca | Q26: Muránska 1331/4 | R26: 050 01 | S26: Revúca | T26: Revúca | U26: Banskobystrický kraj
A27: 33 | B27: 38 | C27: ="53485190" -> 53485190 | D27: Štúrovo - Parkan | E27: OOCR_38 | F27: Štúrovo - Parkan | H27: KOCR_8 | I27: =IFERROR(VLOOKUP(H27,[1]Filter_KOCR!$C$1:$G$9,3,FALSE),"_nie je členom KOCR") -> KOCR Nitriansky kraj | J27: =IFERROR(VLOOKUP([1]Filter_OOCR!G39,[1]Filter_KOCR!$C$1:$G$9,5,FALSE),"") -> BSK | K27: člen AOCR | L27: 32032/2020/SCR | M27: február 2024 | N27: 44168 | O27: 2021 | P27: Námestie slobody 1, 943 01 Štúrovo | Q27: Námestie slobody 1 | R27: 943 01 | S27: Štúrovo | T27: Nové Zámky | U27: Nitriansky kraj
A28: 10 | B28: 39 | C28: ="54307406" -> 54307406 | D28: Oblastná organizácia cestovného ruchu Matúšova zem – Mátyusföld | E28: OOCR_39 | F28: OOCR Matúšova zem – Mátyusföld | H28: KOCR_7 | I28: =IFERROR(VLOOKUP(H28,[1]Filter_KOCR!$C$1:$G$9,3,FALSE),"_nie je členom KOCR") -> Trnavský kraj | J28: =IFERROR(VLOOKUP([1]Filter_OOCR!G40,[1]Filter_KOCR!$C$1:$G$9,5,FALSE),"") -> KSK | K28: člen AOCR | L28: 53297/2021/SCR | M28: február 2024 | N28: 44545 | O28: 2022 | P28: Hlavná 1006/18, 924 01 Galanta | Q28: Hlavná 1006/18 | R28: 924 01 | S28: Galanta | T28: Galanta | U28: Trnavský kraj
A29: 18 | B29: 3 | C29: ="42219281" -> 42219281 | D29: Rajecká dolina | E29: OOCR_03 | F29: Rajecká dolina | H29: KOCR_2 | I29: =IFERROR(VLOOKUP(H29,[1]Filter_KOCR!$C$1:$G$9,3,FALSE),"_nie je členom KOCR") -> Žilinský turistický kraj | J29: =IFERROR(VLOOKUP([1]Filter_OOCR!G4,[1]Filter_KOCR!$C$1:$G$9,5,FALSE),"") -> ZSK | K29: nečlen AOCR | L29: 28358/2011/SCR | M29: november 2023 | N29: 40905 | O29: 2012 | P29: Nám. SNP č.1, 013 13 Rajecké Teplice | Q29: Nám. SNP č.1 | R29: 013 13 | S29: Rajecké Teplice | T29: Žilina | U29: Žilinský kraj
A30: 27 | B30: 6 | C30: ="42234077" -> 42234077 | D30: Región Vysoké Tatry | E30: OOCR_06 | F30: Región Vysoké Tatry | H30: KOCR_3 | I30: =IFERROR(VLOOKUP(H30,[1]Filter_KOCR!$C$1:$G$9,3,FALSE),"_nie je členom KOCR") -> Severovýchod Slovenska | J30: =IFERROR(VLOOKUP([1]Filter_OOCR!G7,[1]Filter_KOCR!$C$1:$G$9,5,FALSE),"") -> ZSK | K30: nečlen AOCR | L30: 02807/2012/SCR | M30: február 2024 | N30: 40925 | O30: 2012 | P30: 062 01 Vysoké Tatry, Starý Smokovec 1 | Q30: Starý Smokovec 1 | R30: 062 01 | S30: Vysoké Tatry | T30: Poprad | U30: Prešovský kraj
A31: 22 | B31: 17 | C31: ="42274770" -> 42274770 | D31: Región HORNÁ NITRA - BOJNICE | E31: OOCR_17 | F31: Región Horná Nitra - Bojnice | G31: Region HORNÁ NITRA - BOJNICE | H31: KOCR_5 | I31: =IFERROR(VLOOKUP(H31,[1]Filter_KOCR!$C$1:$G$9,3,FALSE),"_nie je členom KOCR") -> Trenčín región | J31: =IFERROR(VLOOKUP([1]Filter_OOCR!G18,[1]Filter_KOCR!$C$1:$G$9,5,FALSE),"") -> KSK | K31: nečlen AOCR | L31: 09881/2012/SCR | M31: marec 2024 | N31: 40969 | O31: 2012 | P31: Hurbanovo námestie 47/36, 972 01 Bojnice | Q31: Hurbanovo námestie 47/36 | R31: 972 01 | S31: Bojnice | T31: Prievidza | U31: Trenčiansky kraj
A32: 11 | B32: 20 | C32: ="42234565" -> 42234565 | D32: Oblastná organizácia cestovného ruchu Tatry - Spiš - Pieniny | E32: OOCR_20 | F32: OOCR Tatry - Spiš - Pieniny | H32: KOCR_3 | I32: =IFERROR(VLOOKUP(H32,[1]Filter_KOCR!$C$1:$G$9,3,FALSE),"_nie je členom KOCR") -> Severovýchod Slovenska | J32: =IFERROR(VLOOKUP([1]Filter_OOCR!G21,[1]Filter_KOCR!$C$1:$G$9,5,FALSE),"") -> BSK | K32: nečlen AOCR | L32: 10199/2012/SCR | M32: február 2024 | N32: 40974 | O32: 2012 | P32: Hlavné námestie 1, 060 01 Kežmarok | Q32: Hlavné námestie 1 | R32: 060 01 | S32: Kežmarok | T32: Kežmarok | U32: Prešovský kraj
A33: 36 | B33: 21 | C33: ="42199425" -> 42199425 | D33: TURISTICKÝ NOVOHRAD A PODPOĽANIE | E33: OOCR_21 | F33: Turistický Novohrad a Podpoľanie | G33: TOUR NOVOHRAD AND PODPOĽANIE | H33: KOCR_6 | I33: =IFERROR(VLOOKUP(H33,[1]Filter_KOCR!$C$1:$G$9,3,FALSE),"_nie je členom KOCR") -> Banskobystrický kraj Turizmus | J33: =IFERROR(VLOOKUP([1]Filter_OOCR!G22,[1]Filter_KOCR!$C$1:$G$9,5,FALSE),"") -> BBSK | K33: nečlen AOCR | L33: 10338/2012/SCR | M33: február 2024 | N33: 40976 | O33: 2012 | P33: Dr. Herza 240/1, 984 01 Lučenec | Q33: Dr. Herza 240/1 | R33: 984 01 | S33: Lučenec | T33: Lučenec | U33: Banskobystrický kraj
A34: 38 | B34: 23 | C34: ="42234573" -> 42234573 | D34: Vysoké Tatry - Podhorie | E34: OOCR_23 | F34: Vysoké Tatry - Podhorie | G34: Vysoké Tatry - Foothills | H34: KOCR_3 | I34: =IFERROR(VLOOKUP(H34,[1]Filter_KOCR!$C$1:$G$9,3,FALSE),"_nie je členom KOCR") -> Severovýchod Slovenska | J34: =IFERROR(VLOOKUP([1]Filter_OOCR!G24,[1]Filter_KOCR!$C$1:$G$9,5,FALSE),"") -> NSK | K34: nečlen AOCR | L34: 10323/2012/SCR | M34: február 2024 | N34: 40976 | O34: 2012 | P34: Tatranská 175/23, 059 52 Veľká Lomnica | Q34: Tatranská 175/23 | R34: 059 52 | S34: Veľká Lomnica | T34: Poprad | U34: Prešovský kraj
A35: 23 | B35: 24 | C35: ="42274818" -> 42274818 | D35: Región Horné Považie | E35: OOCR_24 | F35: Región Horné Považie | G35: Horné Považie Tourist Association | H35: KOCR_5 | I35: =IFERROR(VLOOKUP(H35,[1]Filter_KOCR!$C$1:$G$9,3,FALSE),"_nie je členom KOCR") -> Trenčín región | J35: =IFERROR(VLOOKUP([1]Filter_OOCR!G25,[1]Filter_KOCR!$C$1:$G$9,5,FALSE),"") | K35: nečlen AOCR | L35: 10347/2012/SCR | M35: február 2024 | N35: 40976 | O35: 2012 | P35: Centrum 16/21, 017 01 Považská Bystrica | Q35: Centrum 16/21 | R35: 017 01 | S35: Považská Bystrica | T35: Považská Bystrica | U35: Trenčiansky kraj
A36: 13 | B36: 25 | C36: ="42274885" -> 42274885 | D36: Oblastná organizácia cestovného ruchu Trenčianske Teplice | E36: OOCR_25 | F36: OOCR Trenčianske Teplice | G36: Regional Tourism Organisation Trenčianske Teplice | H36: KOCR_5 | I36: =IFERROR(VLOOKUP(H36,[1]Filter_KOCR!$C$1:$G$9,3,FALSE),"_nie je členom KOCR") -> Trenčín región | J36: =IFERROR(VLOOKUP([1]Filter_OOCR!G26,[1]Filter_KOCR!$C$1:$G$9,5,FALSE),"") -> NSK | K36: nečlen AOCR | L36: 10415/2012/SCR | M36: február 2024 | N36: 40982 | O36: 2012 | P36: M. R. Štefánika 4, 914 51 Trenčianske Teplice | Q36: M. R. Štefánika 4 | R36: 914 51 | S36: Trenčianske Teplice | T36: Trenčín | U36: Trenčiansky kraj
A37: 7 | B37: 28 | C37: ="42238714" -> 42238714 | D37: Oblastná organizácia cestovného ruchu „ŠARIŠ“ - BARDEJOV | E37: OOCR_28 | F37: OOCR „Šariš“ - Bardejov | H37: KOCR_3 | I37: =IFERROR(VLOOKUP(H37,[1]Filter_KOCR!$C$1:$G$9,3,FALSE),"_nie je členom KOCR") -> Severovýchod Slovenska | J37: =IFERROR(VLOOKUP([1]Filter_OOCR!G29,[1]Filter_KOCR!$C$1:$G$9,5,FALSE),"") -> PSK | K37: nečlen AOCR | L37: 25079/2012/3140/SCR | M37: február 2024 | N37: 41250 | O37: 2013 | P37: Radničné námestie č. 16, 085 01 Bardejov | Q37: Radničné námestie č. 16 | R37: 085 01 | S37: Bardejov | T37: Bardejov | U37: Prešovský kraj
A38: 17 | B38: 32 | C38: ="50092499" -> 50092499 | D38: PODUNAJSKO | E38: OOCR_32 | F38: Podunajsko | G38: DUNAMENTE | H38: KOCR_8 | I38: =IFERROR(VLOOKUP(H38,[1]Filter_KOCR!$C$1:$G$9,3,FALSE),"_nie je členom KOCR") -> KOCR Nitriansky kraj | J38: =IFERROR(VLOOKUP([1]Filter_OOCR!G33,[1]Filter_KOCR!$C$1:$G$9,5,FALSE),"") -> PSK | K38: nečlen AOCR | L38: 27867/2015/SCR | M38: február 2024 | N38: 42339 | O38: 2016 | P38: Nám. Gen. Klapku 1, 945 01 Komárno | Q38: Nám. Gen. Klapku 1 | R38: 945 01 | S38: Komárno | T38: Komárno | U38: Nitriansky kraj
A39: 8 | B39: 33 | C39: ="50113577" -> 50113577 | D39: Oblastná organizácia cestovného ruchu „Trenčín a okolie“ | E39: OOCR_33 | F39: OOCR „Trenčín a okolie“ | G39: „Trenčín-Country-Surrounding“ | H39: KOCR_5 | I39: =IFERROR(VLOOKUP(H39,[1]Filter_KOCR!$C$1:$G$9,3,FALSE),"_nie je členom KOCR") -> Trenčín región | J39: =IFERROR(VLOOKUP([1]Filter_OOCR!G34,[1]Filter_KOCR!$C$1:$G$9,5,FALSE),"") -> TSK | K39: nečlen AOCR | L39: 28857/2015/SCR | M39: január 2023 | N39: 42354 | O39: 2016 | P39: Kálnica 100, 916 37 Kálnica | Q39: Kálnica 100 | R39: 916 37 | S39: Kálnica | T39: Nové Mesto nad Váhom | U39: Trenčiansky kraj
A40: 5 | B40: 34 | C40: ="50110641" -> 50110641 | D40: Malé Karpaty | E40: OOCR_34 | F40: Malé Karpaty | G40: „The Small Carpathians“ | H40: KOCR_1 | I40: =IFERROR(VLOOKUP(H40,[1]Filter_KOCR!$C$1:$G$9,3,FALSE),"_nie je členom KOCR") -> Turizmus regiónu Bratislava | J40: =IFERROR(VLOOKUP([1]Filter_OOCR!G35,[1]Filter_KOCR!$C$1:$G$9,5,FALSE),"") -> TSK | K40: nečlen AOCR | L40: 29321/2015/SCR | M40: február 2024 | N40: 42359 | O40: 2016 | P40: Štúrova 59, 900 01 Modra | Q40: Štúrova 59 | R40: 900 01 | S40: Modra | T40: Pezinok | U40: Bratislavský kraj
A41: 31 | B41: 35 | C41: ="42319331" -> 42319331 | D41: Slovenský raj & Spiš | E41: OOCR_35 | F41: Slovenský raj & Spiš | H41: KOCR_4 | I41: =IFERROR(VLOOKUP(H41,[1]Filter_KOCR!$C$1:$G$9,3,FALSE),"_nie je členom KOCR") -> Košice Región Turizmus | J41: =IFERROR(VLOOKUP([1]Filter_OOCR!G36,[1]Filter_KOCR!$C$1:$G$9,5,FALSE),"") -> PSK | K41: nečlen AOCR | L41: 23401/2012/SCR | M41: február 2024 | N41: 42430 | O41: 2016 | P41: Nábrežie Hornádu č.14, 052 01 Spišská Nová Ves, elokované pracovisko: Turistické informačné centrum Dobšinská Ľadová Jaskyňa, Dobšinská Ľadová Jaskyňa 5, 049 71 Stratená | Q41: Nábrežie Hornádu č.14 | R41: 052 01 | S41: Spišská Nová Ves | T41: Spišská Nová Ves | U41: Košický kraj
A42: 7 | B42: 1 | C42: ="42259967" -> 42259967 | D42: Turizmus regiónu Bratislava | E42: KOCR_1 | F42: Turizmus regiónu Bratislava | G42: Bratislava Region Tourism | H42: KOCR_1 | I42: Turizmus regiónu Bratislava | J42: VÚC | K42: nečlen AOCR | L42: 08557/2012/SCR | N42: 40954 | O42: 2012 | P42: Sabinovská ul. č. 16, 820 05 Bratislava | Q42: Sabinovská ul. č. 16 | R42: 820 05 | S42: Bratislava | T42: Bratislava | U42: Bratislavský
A43: 8 | B43: 2 | C43: ="42220238" -> 42220238 | D43: Žilinský turistický kraj | E43: KOCR_2 | F43: Žilinský turistický kraj | H43: KOCR_2 | I43: Žilinský turistický kraj | J43: BSK | K43: nečlen AOCR | L43: 10433/2012/SCR | M43: február 2024 | N43: 40977 | O43: 2012 | P43: Komenského 48, 011 09 Žilina | Q43: Komenského 48 | R43: 011 09 | S43: Žilina | T43: Žilina | U43: Žilinský kraj
A44: 4 | B44: 3 | C44: ="42238536" -> 42238536 | D44: Severovýchod Slovenska | E44: KOCR_3 | F44: Severovýchod Slovenska | H44: KOCR_3 | I44: Severovýchod Slovenska | J44: ZSK | K44: nečlen AOCR | L44: 25408/2012/SCR | M44: február 2024 | N44: 41248 | O44: 2013 | P44: Námestie mieru 2, 080 01 Prešov | Q44: Námestie mieru 2 | R44: 080 01 | S44: Prešov | T44: Prešov | U44: Prešovský kraj
A45: 3 | B45: 4 | C45: ="42319269" -> 42319269 | D45: Košice Región Turizmus | E45: KOCR_4 | F45: Košice Región Turizmus | H45: KOCR_4 | I45: Košice Región Turizmus | J45: PSK | K45: nečlen AOCR | L45: 25659/2012/SCR | M45: február 2024 | N45: 41253 | O45: 2013 | P45: Bačíkova 7, 040 01 Košice | Q45: Bačíkova 7 | R45: 040 01 | S45: Košice | T45: Košice | U45: Košický kraj
A46: 5 | B46: 5 | C46: ="42377897" -> 42377897 | D46: Trenčín región | E46: KOCR_5 | F46: Trenčín región | G46: Trenčín Region | H46: KOCR_5 | I46: Trenčín región | J46: KSK | K46: nečlen AOCR | L46: 15803/2015/SCR | M46: február 2024 | N46: 42153 | O46: 2015 | P46: K dolnej stanici 7282/20A, 911 01 Trenčín | Q46: K dolnej stanici 7282/20A | R46: 911 01 | S46: Trenčín | T46: Trenčín | U46: Trenčiansky kraj
A47: 1 | B47: 6 | C47: ="52132072" -> 52132072 | D47: Banskobystrický kraj Turizmus | E47: KOCR_6 | F47: Banskobystrický kraj Turizmus | G47: Banská Bystrica Tourism Region | H47: KOCR_6 | I47: Banskobystrický kraj Turizmus | J47: TSK | K47: člen AOCR | L47: 31943/2018/SCR | M47: február 2024 | N47: 43451 | O47: 2019 | P47: Námestie SNP č. 1, 974 01 Banská Bystrica | Q47: Námestie SNP č. 1 | R47: 974 01 | S47: Banská Bystrica | T47: Banská Bystrica | U47: Banskobystrický kraj
A48: 6 | B48: 7 | C48: ="52285758" -> 52285758 | D48: Trnavský kraj | E48: KOCR_7 | F48: Trnavský kraj | H48: KOCR_7 | I48: Trnavský kraj | J48: BBSK | K48: člen AOCR | L48: 07077/2019/SCR | N48: 43528 | O48: 2019 | P48: Starohájska 10, 917 01 Trnava | Q48: Starohájska 10 | R48: 917 01 | S48: Trnava | T48: Trnava | U48: Trnavský kraj
A49: 2 | B49: 8 | C49: ="54267765" -> 54267765 | D49: Krajská organizácia cestovného ruchu Nitriansky kraj | E49: KOCR_8 | F49: KOCR Nitriansky kraj | H49: KOCR_8 | I49: KOCR Nitriansky kraj | J49: TTSK | K49: člen AOCR | L49: 48924/2021/SCR | M49: február 2024 | N49: 44516 | O49: 2022 | P49: Rázusova 2A, 949 01 Nitra | Q49: Rázusova 2A | R49: 949 01 | S49: Nitra | T49: Nitra | U49: Nitriansky kraj
J50: NSK

Sheet Filter
A1: Aktivita | B1: Podaktivita | C1: Merateľný ukazovateľ | D1: Cieľová skupina | E1: Motív návštevy | F1: Vek návštevníka | G1: Typ návštevníka | H1: Status návštevníka | I1: Znevýhodnené skupiny | J1: BV/KV
A2: 1. Marketing a propagácia | B2: 1.1 Mediálny servis | D2: domáci | E2: pobytový/dovolenka | F2: do 15 rokov | G2: jednodňový návštevník (bez prenocovania) | H2: slobodní | I2: Áno | J2: BV
A3: 2. Činnosť turistického informačného centra zriadeného organizáciou cestovného ruchu | B3: 1.2 Rozvoj značky a komunikačnej identity destinácie | C3: 1.1.1 Počet mediálnych výstupov OCR v podobe tlačových správ | D3: zahraniční | E3: kultúrno/poznávací | F3: od 15 do 25 rokov | G3: víkendový návštevník (do 2 prenocovaní) | H3: rodiny s deťmi | I3: Nie | J3: KV
A4: 3. Tvorba a podpora udržateľných produktov cestovného ruchu | B4: 1.3 Tvorba foto a video obsahu, edičná tvorba (okrem knižných publikácií) | C4: 1.1.2 Počet výstupov mediálneho servisu | D4: Všetci | E4: relaxačno/kúpeľný | F4: od 26 do 49 rokov | G4: viacdňový návštevník (3 a viac prenocovaní) | H4: dôchodcovia
A5: 4. Podpora atrakivít danej lokality | B5: 1.4 Veľtrhy, výstavy a prezentácie Infocesty, fam a press tripy (vrátane spolupráce s influencermi) | C5: 1.2.1 Nová komunikačná identita (áno) | E5: pracovno/vzdelávací | F5: od 50 a viac rokov | G5: Všetci | H5: páry
A6: 5. Infraštruktúra cestovného ruchu | B6: 1.5 Merkantil/merchandising | C6: 1.2.2 Počet nových prvkov rozvíjajúcich komunikačnú identitu destinácie v nosných produktových líniách | E6: aktívny/športový | F6: Iné | H6: všetci
A7: 6. Zabezpečenie strategických, koncepčných a analytických materiálov a dokumentov, štatistík a prieskumov | B7: 1.6 Online marketing | C7: 1.3.1 Počet nových fotografických materiálov | E7: kongresový
A8: 7. Vzdelávacie aktivity zamerané na skvalitnenie a rozvoj destinácie a cestovného ruchu v nej | B8: 1.7 Realizácia marketingových aktivít | C8: 1.3.2 Počet nových videozáznamov | E8: iný motív
A9: Bez nároku na dotáciu/nežiadaná dotácia | B9: 1.8 Iné marketingové a propagačné aktivity (typovo vyššie neuvedené) | C9: 1.3.3 Rozsah editovaného textu v normostranách (približný)
B10: 2.1 Propagačné a iné informačné materiály o destinačnej ponuke regiónu dostupné v TIC | C10: 1.3.4 Počet nových propagačných materiálov (obsahovo jedinečných výstupov)
B11: 2.2 Bežná prevádzka turistického centra (TIC) zriadeného organizáciou CR | C11: 1.3.5 Počet ks propagačných materiálov v printovej verzii
B12: 2.3 Zabezpečenie prístupného, funkčného a atraktívneho zázemia pre poskytovanie informačného a návštevníckeho servisu turistickým informačným centrom. | C12: 1.4.1 Počet podujatí, ktorých sa OCR zúčastní
B13: 2.4 Certifikácia TIC a iné aktivity súvisiace so zlepšovaním návštevníckeho a informačného servisu v TIC | C13: 1.4.2 Počet podujatí, ktorých hlavným organizátorom je OCR
B14: 2.5 Upomienkové predmety podporujúce rozpoznateľnosť lokalít | C14: 1.4.3 Počet podujatí, ktorých je OCR partnerom pri organizačnom zabezpečení
B15: 3.1 Podujatia a iné programy podporujúce hlavné produktové línie destinácie | C15: 1.4.4 Počet podujatí, ktorých je OCR partnerom v propagácií a iných komunikačných aktivitách
B16: 3.2 Úprava trás | C16: 1.5.1 Počet typových produktov
B17: 3.3 Zlepšenie dostupnosti atraktivít a iných bodov záujmu s využitím služieb nepravidelnej dopravy | C17: 1.5.2 Počet nových typových produktov
B18: 4.1 Infraštruktúra a/alebo vybavenie atraktivít | C18: 1.5.3 Počet udržaných typových produktov
B19: 4.2 Digitálne riešenia, ktoré sprístupňujú ponuku atraktivít | C19: 1.5.4 Počet typových produktov
B20: 4.3 Budovanie a obnova peších turistických, cykloturistických, bežeckých, vodných, konských a iných trás | C20: 1.5.5 Počet nových typových produktov
B21: 4.4 Náučné zariadenia v prírode | C21: 1.5.6 Počet udržaných typových produktov
... B28: 7.2 Zapojenie do vzdelávacích aktivít a podujatí | C28: 1.6.7 Počet označení
C29: 1.7.1 Počet marketingových kampaní
C30: 1.8.1 Iný výstup
C31: 2.1.1 Počet nových propagačných materiálov (obsahovo jedinečných výstupov)
C32: 2.1.2 Počet ks propagačných materiálov v printovej verzii
C33: 2.2.1 Počet dní v kalendárnom roku, počas ktorých je TIC v prevádzke (minimum)
C34: 2.3.1 Ročný počet návštevníkov TIC
C35: 2.3.2 Počet samostatne prevádzkyschopných nosičov/riešení
C36: 2.3.3 Počet debarierizačných prvkov
C37: 2.3.4 Počet tematických celkov nových foriem prezentácie (expozícií, konceptov a i.)
C38: 2.4.1 Počet získaných certifikácií
C39: 2.4.2 Počet zrealizovaných aktivít
C40: 2.4.3 Počet účastníkov aktivít
... C90: 7.2.2 Počet účastníkov/zástupcov OCR na vzdelávacích podujatiach
