Workbook

Sheet Prehľad
B1: #VALUE! | D1: FORMULÁR PROJEKTOVÝCH KONCEPTOV
D3: FORMULÁR | E3: A | F3: ČASŤ PROJEKTU ŽIADATEĽA (PRÍLOHY ŽIADOSTI)
D4: Projekt žiadateľa | E4: A1 | F4: Identifikácia žiadateľa a projektu
E5: A2 | F5: Východisková situácia a ciele projektu
E6: A3-A5 | F6: Aktivity projektu (Plán činností projektu žiadateľa)
E7: A6 | F7: Zhrnutie - rozpočet
B9: ŽIADOSŤ O POSKYTNUTIE DOTÁCIE | D9: FORMULÁR | E9: B1 | F9: ČASŤ KOOPERAČNÉHO PROJEKTU (PRÍLOHY ŽIADOSTI)
D10: Kooperačný projekt žiadateľa | E10: B1.1 | F10: Identifikácia spoločného projektového zámeru a partnerov
B11: Základné údaje, Členské príspevky, Príjmy žiadateľa, Prehľad o poskytnutých prostredkoch | E11: B1.2 | F11: Východisková situácia a ciele projektu
E12: B1.3-B1.5 | F12: Aktivity projektu (Plán činnosti kooperačného projektu žiadateľa)
E13: B1.6 | F13: Zhrnutie - rozpočet
D15: FORMULÁR | E15: B2 | F15: ČASŤ KOOPERAČNÉHO PROJEKTU (PRÍLOHY ŽIADOSTI)
D16: Kooperačný projekt žiadateľa | E16: B2.1 | F16: Identifikácia spoločného projektového zámeru a partnerov
E17: B2.2 | F17: Východisková situácia a ciele projektu
E18: B2.3-B2.5 | F18: Aktivity projektu (Plán činnosti kooperačného projektu žiadateľa)
E19: B2.6 | F19: Zhrnutie - rozpočet
D21: FORMULÁR | E21: B3 | F21: ČASŤ KOOPERAČNÉHO PROJEKTU (PRÍLOHY ŽIADOSTI)
D22: Kooperačný projekt žiadateľa | E22: B3.1 | F22: Identifikácia spoločného projektového zámeru a partnerov
E23: B3.2 | F23: Východisková situácia a ciele projektu
E24: B3.3-B3.5 | F24: Aktivity projektu (Plán činnosti kooperačného projektu žiadateľa)
E25: B3.6 | F25: Zhrnutie - rozpočet
D27: ZHRNUTIE PROJEKTU | E27: A+B1+B2+B3 | F27: VÝSTUPY & KPI
D28: Kooperačný projekt žiadateľa | F28: Prehľad aktivít, podaktivít a k nim vopred zadefinovaných výstupov a merateľných ukazovateľov (KPI), z ktorých je možný výber pri jednotlivých účeloch vďaka pripojenému zoznamu bunky.

Sheet Žiadosť
A1: ZÁKLADNÉ ÚDAJE | D1: ČLENSKÉ PRÍSPEVKY | G1: PRÍJMY ŽIADATEĽA | J1: PREHĽAD O POSKYTNUTÝCH FINANČNÝCH PROSTRIEDKOCH ZA POSLEDNÉ TRI ROKY
A3: Štatutárny orgán žiadateľa 1 | D3: Obce (rok 2023) | G3: Členské celkom (2023) | H3: =E15 -> 0 | J3: Rok
D4: Obce (rok 2024) | G4: Členské celkom (2024) | H4: =E16 -> 0
A5: Štatutárny orgán žiadateľa 2 | J5: Číslo zmluvy
D6: Podnikateľský subjekt (2023) | G6: Príjmy z vlastnej činnosti (2023)
A7: Kontaktná osoba | D7: Podnikateľský subjekt (2024) | G7: Príjmy z vlastnej činnosti (2024) | J7: Názov projektu
A9: Telefón | D9: Spolu (2023) | E9: =E6+E3 -> 0 | G9: Ostatné príjmy (2023) | J9: Celkové náklady na projekt
D10: Spolu (2024) | E10: =E7+E4 -> 0 | G10: Ostatné príjmy (2024)
A11: Mail | J11: Požadovaná dotácia od ministerstva
D12: Ostatné subjekty (2023) | G12: Príjmy celkom (2023) | H12: =H9+H6+H3 -> 0
A13: IBAN (BV) | D13: Ostatné subjekty (2024) | G13: Príjmy celkom (2024) | H13: =H10+H7+H4 -> 0 | J13: Pridelená dotácia z ministerstva
A15: IBAN (KV) | D15: Celkom (2023) | E15: =E12+E9 -> 0 | G15: Daň z ubytovania FIN 1-12 OCR (2024) | J15: Pridelená dotácia od iných subjektov verejnej správy z prostriedkov štátneho rozpočtu, Európskej únie a ďalších zdrojov
D16: Celkom (2024) | E16: =E13+E10 -> 0
A17: Počet zamestnancov (TPP) k 31.12.2024 | G17: Daň z ubytovania FIN 1-12 ŠÚ SR(2024)
A19: Počet zamestnancov (ostatní) k 31.12.2024 | G19: Počet prenocovaní CR 1-12 OCR (2024)
A21: Počet členov (obce, VÚC) | G21: Počet prenocovaní CR 1-12 ŠÚ SR (2024) | J21: Rok
A23: Počet členov (podnikateľský subjekt) | J23: Číslo zmluvy
A25: Počet členov (ostatní) | J25: Názov projektu
J27: Celkové náklady na projekt
J29: Požadovaná dotácia od ministerstva
J31: Pridelená dotácia z ministerstva
J33: Pridelená dotácia od iných subjektov verejnej správy z prostriedkov štátneho rozpočtu, Európskej únie a ďalších zdrojov
J39: Rok
J41: Číslo zmluvy
J43: Názov projektu
J45: Celkové náklady na projekt
J47: Požadovaná dotácia od ministerstva
J49: Pridelená dotácia z ministerstva
J51: Pridelená dotácia od iných subjektov verejnej správy z prostriedkov štátneho rozpočtu, Európskej únie a ďalších zdrojov
J59: ...................................................................
J60: PODPIS

Sheet A1
A1: Typ projektu | B1: Rok | C1: IČO žiadateľa | D1: Názov žiadateľa | E1: ID žiadateľa | F1: Názov projektu žiadateľa | G1: ID_projektu žiadateľa | H1: Predpokladaná doba ukončenia | I1: Predpokladaná doba ukončenia | J1: Hlavný cieľ (zámer projektu) | K1: Nárok na dotáciu
A2: automaticky doplnené | B2: predvolené | C2: číselný údaj | D2: automaticky doplnené | E2: automaticky doplnené | F2: text: max. 100 znakov | G2: automaticky doplnené | H2: mesiac | I2: rok | J2: text: max. 500 znakov | K2: číselný údaj
A4: A | B4: 2025 | C4: prázdne | D4: =VLOOKUP(C4, 'ID číselník'!C:D, 2, 0) -> 0 | E4: =VLOOKUP(D4, 'ID číselník'!D:E, 2, 0) -> 0 | G4: =CONCATENATE(E4,"_",H4,I4,"_",A4) -> 0__A

Sheet A2
A1: A 2.1 Východisková situácia/ identifikácia problému (ak relevantné) | B1: A 2.2 Ciele projektu a očakávané výsledky | C1: A 2.3 Súlad so stratégiou rozvoja CR destinácie | D1: Názov dokumentu | E1: A 2.4 Súlad s PHSR VÚC | F1: Názov dokumentu | G1: A 2.5 Súlad s plánom rozvoja NRO (ak relevantné) | H1: Odborný garant projektu
A2: text: max. 2500 znakov | B2: text: max. 2500 znakov | C2: text: max. 500 znakov | D2: text | E2: text: max. 500 znakov | F2: text | G2: text: max. 500 znakov | H2: text

Sheet A3
A1: Aktivita | B1: Merateľný ukazovateľ (KPI) | C1: Hodnota KPI - súčasná | D1: Hodnota KPI - očakávaná | E1: Rozpočet | F1: BV | G1: KV | H1: Požadovaná dotácia | I1: Spolufinancovanie
A2: výber zo zoznamu | B2: text: KPI na úrovni aktivity len v prípade absencie KPI pri účeloch | C2: text: pre porovnanie - nepovinné | D2: text | E2: sum podaktivít | F2: sum podaktivít | G2: sum podaktivít | H2: sum podaktivít | I2: sum podaktivít
E4: =SUMIFS('A4'!D:D,'A4'!$A:$A,'A3'!$A4) -> 0 | F4: =SUMIFS('A4'!E:E,'A4'!$A:$A,'A3'!$A4) -> 0 | G4: =SUMIFS('A4'!F:F,'A4'!$A:$A,'A3'!$A4) -> 0 | H4: =SUMIFS('A4'!G:G,'A4'!$A:$A,'A3'!$A4) -> 0 | I4: =SUMIFS('A4'!H:H,'A4'!$A:$A,'A3'!$A4) -> 0
E5: =SUMIFS('A4'!D:D,'A4'!$A:$A,'A3'!$A5) -> 0 | F5: =SUMIFS('A4'!E:E,'A4'!$A:$A,'A3'!$A5) -> 0 | G5: =SUMIFS('A4'!F:F,'A4'!$A:$A,'A3'!$A5) -> 0 | H5: =SUMIFS('A4'!G:G,'A4'!$A:$A,'A3'!$A5) -> 0 | I5: =SUMIFS('A4'!H:H,'A4'!$A:$A,'A3'!$A5) -> 0
E6: =SUMIFS('A4'!D:D,'A4'!$A:$A,'A3'!$A6) -> 0 | F6: =SUMIFS('A4'!E:E,'A4'!$A:$A,'A3'!$A6) -> 0 | G6: =SUMIFS('A4'!F:F,'A4'!$A:$A,'A3'!$A6) -> 0 | H6: =SUMIFS('A4'!G:G,'A4'!$A:$A,'A3'!$A6) -> 0 | I6: =SUMIFS('A4'!H:H,'A4'!$A:$A,'A3'!$A6) -> 0
E7: =SUMIFS('A4'!D:D,'A4'!$A:$A,'A3'!$A7) -> 0 | F7: =SUMIFS('A4'!E:E,'A4'!$A:$A,'A3'!$A7) -> 0 | G7: =SUMIFS('A4'!F:F,'A4'!$A:$A,'A3'!$A7) -> 0 | H7: =SUMIFS('A4'!G:G,'A4'!$A:$A,'A3'!$A7) -> 0 | I7: =SUMIFS('A4'!H:H,'A4'!$A:$A,'A3'!$A7) -> 0
E8: =SUMIFS('A4'!D:D,'A4'!$A:$A,'A3'!$A8) -> 0 | F8: =SUMIFS('A4'!E:E,'A4'!$A:$A,'A3'!$A8) -> 0 | G8: =SUMIFS('A4'!F:F,'A4'!$A:$A,'A3'!$A8) -> 0 | H8: =SUMIFS('A4'!G:G,'A4'!$A:$A,'A3'!$A8) -> 0 | I8: =SUMIFS('A4'!H:H,'A4'!$A:$A,'A3'!$A8) -> 0
E9: =SUMIFS('A4'!D:D,'A4'!$A:$A,'A3'!$A9) -> 0 | F9: =SUMIFS('A4'!E:E,'A4'!$A:$A,'A3'!$A9) -> 0 | G9: =SUMIFS('A4'!F:F,'A4'!$A:$A,'A3'!$A9) -> 0 | H9: =SUMIFS('A4'!G:G,'A4'!$A:$A,'A3'!$A9) -> 0 | I9: =SUMIFS('A4'!H:H,'A4'!$A:$A,'A3'!$A9) -> 0
E10: =SUMIFS('A4'!D:D,'A4'!$A:$A,'A3'!$A10) -> 0 | F10: =SUMIFS('A4'!E:E,'A4'!$A:$A,'A3'!$A10) -> 0 | G10: =SUMIFS('A4'!F:F,'A4'!$A:$A,'A3'!$A10) -> 0 | H10: =SUMIFS('A4'!G:G,'A4'!$A:$A,'A3'!$A10) -> 0 | I10: =SUMIFS('A4'!H:H,'A4'!$A:$A,'A3'!$A10) -> 0
E11: =SUMIFS('A4'!D:D,'A4'!$A:$A,'A3'!$A11) -> 0 | F11: =SUMIFS('A4'!E:E,'A4'!$A:$A,'A3'!$A11) -> 0 | G11: =SUMIFS('A4'!F:F,'A4'!$A:$A,'A3'!$A11) -> 0 | H11: =SUMIFS('A4'!G:G,'A4'!$A:$A,'A3'!$A11) -> 0 | I11: =SUMIFS('A4'!H:H,'A4'!$A:$A,'A3'!$A11) -> 0
E12: =SUMIFS('A4'!D:D,'A4'!$A:$A,'A3'!$A12) -> 0 | F12: =SUMIFS('A4'!E:E,'A4'!$A:$A,'A3'!$A12) -> 0 | G12: =SUMIFS('A4'!F:F,'A4'!$A:$A,'A3'!$A12) -> 0 | H12: =SUMIFS('A4'!G:G,'A4'!$A:$A,'A3'!$A12) -> 0 | I12: =SUMIFS('A4'!H:H,'A4'!$A:$A,'A3'!$A12) -> 0
E13: =SUMIFS('A4'!D:D,'A4'!$A:$A,'A3'!$A13) -> 0 | F13: =SUMIFS('A4'!E:E,'A4'!$A:$A,'A3'!$A13) -> 0 | G13: =SUMIFS('A4'!F:F,'A4'!$A:$A,'A3'!$A13) -> 0 | H13: =SUMIFS('A4'!G:G,'A4'!$A:$A,'A3'!$A13) -> 0 | I13: =SUMIFS('A4'!H:H,'A4'!$A:$A,'A3'!$A13) -> 0

Sheet A4
A1: Aktivita | B1: Podaktivita | C1: Opis podaktivity | D1: Rozpočet | E1: BV | F1: KV | G1: Požadovaná dotácia | H1: Spolufinancovanie
A2: výber zo zoznamu | B2: výber zo zoznamu | C2: text: max. 250 znakov | D2: sum účelov | E2: sum účelov | F2: sum účelov | G2: sum účelov | H2: sum účelov
D4: =SUM(SUMIFS('A5'!L:L,'A5'!$B:$B,'A4'!$B4)+SUMIFS('A5'!M:M,'A5'!$B:$B,'A4'!$B4)) -> 0 | E4: =SUMIFS('A5'!O:O,'A5'!$B:$B,'A4'!$B4) -> 0 | F4: =SUMIFS('A5'!P:P,'A5'!$B:$B,'A4'!$B4) -> 0 | G4: =SUMIFS('A5'!L:L,'A5'!$B:$B,'A4'!$B4) -> 0 | H4: =SUMIFS('A5'!M:M,'A5'!$B:$B,'A4'!$B4) -> 0
D5: =SUM(SUMIFS('A5'!L:L,'A5'!$B:$B,'A4'!$B5)+SUMIFS('A5'!M:M,'A5'!$B:$B,'A4'!$B5)) -> 0 | E5: =SUMIFS('A5'!O:O,'A5'!$B:$B,'A4'!$B5) -> 0 | F5: =SUMIFS('A5'!P:P,'A5'!$B:$B,'A4'!$B5) -> 0 | G5: =SUMIFS('A5'!L:L,'A5'!$B:$B,'A4'!$B5) -> 0 | H5: =SUMIFS('A5'!M:M,'A5'!$B:$B,'A4'!$B5) -> 0
D6: =SUM(SUMIFS('A5'!L:L,'A5'!$B:$B,'A4'!$B6)+SUMIFS('A5'!M:M,'A5'!$B:$B,'A4'!$B6)) -> 0 | E6: =SUMIFS('A5'!O:O,'A5'!$B:$B,'A4'!$B6) -> 0 | F6: =SUMIFS('A5'!P:P,'A5'!$B:$B,'A4'!$B6) -> 0 | G6: =SUMIFS('A5'!L:L,'A5'!$B:$B,'A4'!$B6) -> 0 | H6: =SUMIFS('A5'!M:M,'A5'!$B:$B,'A4'!$B6) -> 0
D7: =SUM(SUMIFS('A5'!L:L,'A5'!$B:$B,'A4'!$B7)+SUMIFS('A5'!M:M,'A5'!$B:$B,'A4'!$B7)) -> 0 | E7: =SUMIFS('A5'!O:O,'A5'!$B:$B,'A4'!$B7) -> 0 | F7: =SUMIFS('A5'!P:P,'A5'!$B:$B,'A4'!$B7) -> 0 | G7: =SUMIFS('A5'!L:L,'A5'!$B:$B,'A4'!$B7) -> 0 | H7: =SUMIFS('A5'!M:M,'A5'!$B:$B,'A4'!$B7) -> 0
D8: =SUM(SUMIFS('A5'!L:L,'A5'!$B:$B,'A4'!$B8)+SUMIFS('A5'!M:M,'A5'!$B:$B,'A4'!$B8)) -> 0 | E8: =SUMIFS('A5'!O:O,'A5'!$B:$B,'A4'!$B8) -> 0 | F8: =SUMIFS('A5'!P:P,'A5'!$B:$B,'A4'!$B8) -> 0 | G8: =SUMIFS('A5'!L:L,'A5'!$B:$B,'A4'!$B8) -> 0 | H8: =SUMIFS('A5'!M:M,'A5'!$B:$B,'A4'!$B8) -> 0
D9: =SUM(SUMIFS('A5'!L:L,'A5'!$B:$B,'A4'!$B9)+SUMIFS('A5'!M:M,'A5'!$B:$B,'A4'!$B9)) -> 0 | E9: =SUMIFS('A5'!O:O,'A5'!$B:$B,'A4'!$B9) -> 0 | F9: =SUMIFS('A5'!P:P,'A5'!$B:$B,'A4'!$B9) -> 0 | G9: =SUMIFS('A5'!L:L,'A5'!$B:$B,'A4'!$B9) -> 0 | H9: =SUMIFS('A5'!M:M,'A5'!$B:$B,'A4'!$B9) -> 0
D10: =SUM(SUMIFS('A5'!L:L,'A5'!$B:$B,'A4'!$B10)+SUMIFS('A5'!M:M,'A5'!$B:$B,'A4'!$B10)) -> 0 | E10: =SUMIFS('A5'!O:O,'A5'!$B:$B,'A4'!$B10) -> 0 | F10: =SUMIFS('A5'!P:P,'A5'!$B:$B,'A4'!$B10) -> 0 | G10: =SUMIFS('A5'!L:L,'A5'!$B:$B,'A4'!$B10) -> 0 | H10: =SUMIFS('A5'!M:M,'A5'!$B:$B,'A4'!$B10) -> 0
D11: =SUM(SUMIFS('A5'!L:L,'A5'!$B:$B,'A4'!$B11)+SUMIFS('A5'!M:M,'A5'!$B:$B,'A4'!$B11)) -> 0 | E11: =SUMIFS('A5'!O:O,'A5'!$B:$B,'A4'!$B11) -> 0 | F11: =SUMIFS('A5'!P:P,'A5'!$B:$B,'A4'!$B11) -> 0 | G11: =SUMIFS('A5'!L:L,'A5'!$B:$B,'A4'!$B11) -> 0 | H11: =SUMIFS('A5'!M:M,'A5'!$B:$B,'A4'!$B11) -> 0
D12: =SUM(SUMIFS('A5'!L:L,'A5'!$B:$B,'A4'!$B12)+SUMIFS('A5'!M:M,'A5'!$B:$B,'A4'!$B12)) -> 0 | E12: =SUMIFS('A5'!O:O,'A5'!$B:$B,'A4'!$B12) -> 0 | F12: =SUMIFS('A5'!P:P,'A5'!$B:$B,'A4'!$B12) -> 0 | G12: =SUMIFS('A5'!L:L,'A5'!$B:$B,'A4'!$B12) -> 0 | H12: =SUMIFS('A5'!M:M,'A5'!$B:$B,'A4'!$B12) -> 0
D13: =SUM(SUMIFS('A5'!L:L,'A5'!$B:$B,'A4'!$B13)+SUMIFS('A5'!M:M,'A5'!$B:$B,'A4'!$B13)) -> 0 | E13: =SUMIFS('A5'!O:O,'A5'!$B:$B,'A4'!$B13) -> 0 | F13: =SUMIFS('A5'!P:P,'A5'!$B:$B,'A4'!$B13) -> 0 | G13: =SUMIFS('A5'!L:L,'A5'!$B:$B,'A4'!$B13) -> 0 | H13: =SUMIFS('A5'!M:M,'A5'!$B:$B,'A4'!$B13) -> 0
D14: =SUM(SUMIFS('A5'!L:L,'A5'!$B:$B,'A4'!$B14)+SUMIFS('A5'!M:M,'A5'!$B:$B,'A4'!$B14)) -> 0 | E14: =SUMIFS('A5'!O:O,'A5'!$B:$B,'A4'!$B14) -> 0 | F14: =SUMIFS('A5'!P:P,'A5'!$B:$B,'A4'!$B14) -> 0 | G14: =SUMIFS('A5'!L:L,'A5'!$B:$B,'A4'!$B14) -> 0 | H14: =SUMIFS('A5'!M:M,'A5'!$B:$B,'A4'!$B14) -> 0
D15: =SUM(SUMIFS('A5'!L:L,'A5'!$B:$B,'A4'!$B15)+SUMIFS('A5'!M:M,'A5'!$B:$B,'A4'!$B15)) -> 0 | E15: =SUMIFS('A5'!O:O,'A5'!$B:$B,'A4'!$B15) -> 0 | F15: =SUMIFS('A5'!P:P,'A5'!$B:$B,'A4'!$B15) -> 0 | G15: =SUMIFS('A5'!L:L,'A5'!$B:$B,'A4'!$B15) -> 0 | H15: =SUMIFS('A5'!M:M,'A5'!$B:$B,'A4'!$B15) -> 0
... D74: =SUM(SUMIFS('A5'!L:L,'A5'!$B:$B,'A4'!$B74)+SUMIFS('A5'!M:M,'A5'!$B:$B,'A4'!$B74)) -> 0 | E74: =SUMIFS('A5'!O:O,'A5'!$B:$B,'A4'!$B74) -> 0 | F74: =SUMIFS('A5'!P:P,'A5'!$B:$B,'A4'!$B74) -> 0 | G74: =SUMIFS('A5'!L:L,'A5'!$B:$B,'A4'!$B74) -> 0 | H74: =SUMIFS('A5'!M:M,'A5'!$B:$B,'A4'!$B74) -> 0

Sheet A5
A1: Aktivita | B1: Podaktivita | C1: Účel | D1: Cieľová skupina | E1: Motív návstevy | F1: Typ návštevníka | G1: Vek návštevníka | H1: Status návštevníka | I1: Znevýhodnené skupiny | J1: KPI | K1: Očakávaný výstup (hodnota KPI) | L1: Požadovaná dotácia | M1: Vlastné zdroje | N1: BV/KV | O1: BV | P1: KV | Q1: Miesto realizácie | R1: Predpokladaný/plánovaný termín začiatku realizácie | S1: Predpokladaný/plánovaný termín ukončenia realizácie | T1: Spôsob a časový harmonogram realizácie (len KV) | U1: Zámer
A2: výber zo zoznamu | B2: výber zo zoznamu | C2: text | D2: výber zo zoznamu | E2: výber zo zoznamu | F2: výber zo zoznamu | G2: výber zo zoznamu | H2: výber zo zoznamu | I2: výber zo zoznamu | J2: výber zo zoznamu | K2: plánovaná hodnota ukazovateľa | L2: text | M2: text | N2: výber zo zoznamu | O2: automaticky | P2: automaticky | Q2: text | R2: mesiac/rok (napr. 01/2025) -> po označení KV povinné pole | S2: mesiac/rok (napr. 01/2025) | T2: text: max. 1000 znakov | U2: text: max. 1000 znakov
O4: =IF(N4="BV", L4+M4,0) -> 0 | P4: =IF(N4="KV", L4+M4,0) -> 0
O5: =IF(N5="BV", L5+M5,0) -> 0 | P5: =IF(N5="KV", L5+M5,0) -> 0
O6: =IF(N6="BV", L6+M6,0) -> 0 | P6: =IF(N6="KV", L6+M6,0) -> 0
O7: =IF(N7="BV", L7+M7,0) -> 0 | P7: =IF(N7="KV", L7+M7,0) -> 0
O8: =IF(N8="BV", L8+M8,0) -> 0 | P8: =IF(N8="KV", L8+M8,0) -> 0
O9: =IF(N9="BV", L9+M9,0) -> 0 | P9: =IF(N9="KV", L9+M9,0) -> 0
O10: =IF(N10="BV", L10+M10,0) -> 0 | P10: =IF(N10="KV", L10+M10,0) -> 0
O11: =IF(N11="BV", L11+M11,0) -> 0 | P11: =IF(N11="KV", L11+M11,0) -> 0
O12: =IF(N12="BV", L12+M12,0) -> 0 | P12: =IF(N12="KV", L12+M12,0) -> 0
O13: =IF(N13="BV", L13+M13,0) -> 0 | P13: =IF(N13="KV", L13+M13,0) -> 0
O14: =IF(N14="BV", L14+M14,0) -> 0 | P14: =IF(N14="KV", L14+M14,0) -> 0
O15: =IF(N15="BV", L15+M15,0) -> 0 | P15: =IF(N15="KV", L15+M15,0) -> 0
... O504: =IF(N504="BV", L504+M504,0) -> 0 | P504: =IF(N504="KV", L504+M504,0) -> 0

Sheet A6
A1: Aktivita | B1: Rozpočet | E1: Žiadané | F1: Vlastné zdroje | H1: Nárok na dotáciu | I1: Poznámka
B2: Spolu | C2: BV | D2: KV
A3: 1. Marketing a propagácia | B3: =SUMIFS('A3'!E:E,'A3'!$A:$A,$A3) -> 0 | C3: =SUMIFS('A3'!F:F,'A3'!$A:$A,$A3) -> 0 | D3: =SUMIFS('A3'!G:G,'A3'!$A:$A,$A3) -> 0 | E3: =SUMIFS('A3'!H:H,'A3'!$A:$A,$A3) -> 0 | F3: =SUMIFS('A3'!I:I,'A3'!$A:$A,$A3) -> 0 | H3: ='A1'!K4 -> 0 | I3: =IF(E11>H3,"POZOR! Prekročený nárok na dotáciu!","")
A4: 2. Činnosť turistického informačného centra zriadeného organizáciou cestovného ruchu | B4: =SUMIFS('A3'!E:E,'A3'!$A:$A,$A4) -> 0 | C4: =SUMIFS('A3'!F:F,'A3'!$A:$A,$A4) -> 0 | D4: =SUMIFS('A3'!G:G,'A3'!$A:$A,$A4) -> 0 | E4: =SUMIFS('A3'!H:H,'A3'!$A:$A,$A4) -> 0 | F4: =SUMIFS('A3'!I:I,'A3'!$A:$A,$A4) -> 0 | I4: (pozn.: pri prekročení sumy sa zobrazí upozornenie)
A5: 3. Tvorba a podpora udržateľných produktov cestovného ruchu | B5: =SUMIFS('A3'!E:E,'A3'!$A:$A,$A5) -> 0 | C5: =SUMIFS('A3'!F:F,'A3'!$A:$A,$A5) -> 0 | D5: =SUMIFS('A3'!G:G,'A3'!$A:$A,$A5) -> 0 | E5: =SUMIFS('A3'!H:H,'A3'!$A:$A,$A5) -> 0 | F5: =SUMIFS('A3'!I:I,'A3'!$A:$A,$A5) -> 0
A6: 4. Podpora atrakivít danej lokality | B6: =SUMIFS('A3'!E:E,'A3'!$A:$A,$A6) -> 0 | C6: =SUMIFS('A3'!F:F,'A3'!$A:$A,$A6) -> 0 | D6: =SUMIFS('A3'!G:G,'A3'!$A:$A,$A6) -> 0 | E6: =SUMIFS('A3'!H:H,'A3'!$A:$A,$A6) -> 0 | F6: =SUMIFS('A3'!I:I,'A3'!$A:$A,$A6) -> 0
A7: 5. Infraštruktúra cestovného ruchu | B7: =SUMIFS('A3'!E:E,'A3'!$A:$A,$A7) -> 0 | C7: =SUMIFS('A3'!F:F,'A3'!$A:$A,$A7) -> 0 | D7: =SUMIFS('A3'!G:G,'A3'!$A:$A,$A7) -> 0 | E7: =SUMIFS('A3'!H:H,'A3'!$A:$A,$A7) -> 0 | F7: =SUMIFS('A3'!I:I,'A3'!$A:$A,$A7) -> 0
A8: 6. Zabezpečenie strategických, koncepčných a analytických materiálov a dokumentov, štatistík a prieskumov | B8: =SUMIFS('A3'!E:E,'A3'!$A:$A,$A8) -> 0 | C8: =SUMIFS('A3'!F:F,'A3'!$A:$A,$A8) -> 0 | D8: =SUMIFS('A3'!G:G,'A3'!$A:$A,$A8) -> 0 | E8: =SUMIFS('A3'!H:H,'A3'!$A:$A,$A8) -> 0 | F8: =SUMIFS('A3'!I:I,'A3'!$A:$A,$A8) -> 0
A9: 7. Vzdelávacie aktivity zamerané na skvalitnenie a rozvoj destinácie a cestovného ruchu v nej | B9: =SUMIFS('A3'!E:E,'A3'!$A:$A,$A9) -> 0 | C9: =SUMIFS('A3'!F:F,'A3'!$A:$A,$A9) -> 0 | D9: =SUMIFS('A3'!G:G,'A3'!$A:$A,$A9) -> 0 | E9: =SUMIFS('A3'!H:H,'A3'!$A:$A,$A9) -> 0 | F9: =SUMIFS('A3'!I:I,'A3'!$A:$A,$A9) -> 0
A11: Spolu | B11: =SUM(B3:B9) -> 0 | C11: =SUM(C3:C9) -> 0 | D11: =SUM(D3:D9) -> 0 | E11: =SUM(E3:E9) -> 0 | F11: =SUM(F3:F9) -> 0
E13: Percento spolufinancovania | F13: =IF(B11=0,0,F11/B11) -> 0

Sheet B1.1
A1: Typ projektu | B1: Rok | C1: IČO partnera 1 | D1: Názov partnera 1 | E1: ID partnera 1 | F1: IČO partnera 2 | G1: Názov partnera 2 | H1: ID partnera 2 | I1: IČO partnera 3 | J1: Názov partnera 3 | K1: ID partnera 3 | L1: IČO partnera 4 | M1: Názov partnera 4 | N1: ID partnera 4 | O1: IČO partnera 5 | P1: Názov partnera 5 | Q1: ID partnera 5 | R1: Názov spoločného projektového zámeru | S1: ID_Spoločného projektového zámeru | T1: Predpokladaná doba ukončenia | U1: Predpokladaná doba ukončenia | V1: Hlavný cieľ spoločného projektového zámeru | W1: Nárok na dotáciu
A2: automaticky doplnené | B2: predvolené | C2: výbez zo zoznamu | D2: automaticky doplnené | E2: automaticky doplnené | F2: výbez zo zoznamu | G2: automaticky doplnené | H2: automaticky doplnené | I2: výbez zo zoznamu | J2: automaticky doplnené | K2: automaticky doplnené | L2: výbez zo zoznamu | M2: automaticky doplnené | N2: automaticky doplnené | O2: výbez zo zoznamu | P2: automaticky doplnené | Q2: automaticky doplnené | R2: text: max. 100 znakov | S2: Doplniť z registračného hárku projektového zámeru | T2: mesiac | U2: rok | V2: text: max. 500 znakov | W2: automaticky doplnené
A5: B | B5: 2025 | C5: prázdne | D5: =VLOOKUP(C5, 'ID číselník'!C:D, 2, 0) -> 0 | E5: =VLOOKUP(D5, 'ID číselník'!D:E, 2, 0) -> 0 | F5: prázdne | G5: =VLOOKUP(F5, 'ID číselník'!C:D, 2, 0) -> 0 | H5: =IF(G5<>"",VLOOKUP(G5, 'ID číselník'!D:E, 2, 0),"") -> 0 | I5: prázdne | J5: =VLOOKUP(I5, 'ID číselník'!C:D, 2, 0) -> 0 | K5: =IF(J5<>"",VLOOKUP(J5, 'ID číselník'!D:E, 2, 0),"") -> 0 | L5: prázdne | M5: =VLOOKUP(L5, 'ID číselník'!C:D, 2, 0) -> 0 | N5: =IF(M5<>"",VLOOKUP(M5, 'ID číselník'!D:E, 2, 0),"") -> 0 | O5: prázdne | P5: =VLOOKUP(O5, 'ID číselník'!C:D, 2, 0) -> 0 | Q5: =IF(P5<>"",VLOOKUP(P5, 'ID číselník'!D:E, 2, 0),"") -> 0 | W5: ='A1'!K4/2 -> 0

Sheet B1.2
A1: B 1.2.1 Východisková situácia/ identifikácia problému (ak relevantné) | B1: B 1.2.2 Ciele projektu a očakávané výsledky | C1: B 1.2.3 Súlad so stratégiou rozvoja CR destinácie | D1: Názov dokumentu | E1: B 1.2.4 Súlad s PHSR VÚC | F1: Názov dokumentu | G1: B 1.2.5 Súlad s plánom rozvoja NRO (ak relevantné) | H1: Odborný garant projektu
A2: text: max. 2500 znakov | B2: text: max. 2500 znakov | C2: text: max. 500 znakov | D2: text | E2: text: max. 500 znakov | F2: text | G2: text: max. 500 znakov | H2: text

Sheet B1.3
A1: Aktivita | B1: Merateľný ukazovateľ (KPI) | C1: Hodnota KPI - súčasná | D1: Hodnota KPI - očakávaná | E1: Rozpočet | F1: BV | G1: KV | H1: Požadovaná dotácia | I1: Spolufinancovanie
A2: výber zo zoznamu | B2: text: KPI na úrovni aktivity len v prípade absencie KPI pri účeloch | C2: text: pre porovnanie - nepovinné | D2: text | E2: sum podaktivít | F2: sum podaktivít | G2: sum podaktivít | H2: sum podaktivít | I2: sum podaktivít
E4: =SUMIFS('B1.4'!D:D,'B1.4'!$A:$A,'B1.3'!$A4) -> 0 | F4: =SUMIFS('B1.4'!E:E,'B1.4'!$A:$A,'B1.3'!$A4) -> 0 | G4: =SUMIFS('B1.4'!F:F,'B1.4'!$A:$A,'B1.3'!$A4) -> 0 | H4: =SUMIFS('B1.4'!G:G,'B1.4'!$A:$A,'B1.3'!$A4) -> 0 | I4: =SUMIFS('B1.4'!H:H,'B1.4'!$A:$A,'B1.3'!$A4) -> 0
E5: =SUMIFS('B1.4'!D:D,'B1.4'!$A:$A,'B1.3'!$A5) -> 0 | F5: =SUMIFS('B1.4'!E:E,'B1.4'!$A:$A,'B1.3'!$A5) -> 0 | G5: =SUMIFS('B1.4'!F:F,'B1.4'!$A:$A,'B1.3'!$A5) -> 0 | H5: =SUMIFS('B1.4'!G:G,'B1.4'!$A:$A,'B1.3'!$A5) -> 0 | I5: =SUMIFS('B1.4'!H:H,'B1.4'!$A:$A,'B1.3'!$A5) -> 0
E6: =SUMIFS('B1.4'!D:D,'B1.4'!$A:$A,'B1.3'!$A6) -> 0 | F6: =SUMIFS('B1.4'!E:E,'B1.4'!$A:$A,'B1.3'!$A6) -> 0 | G6: =SUMIFS('B1.4'!F:F,'B1.4'!$A:$A,'B1.3'!$A6) -> 0 | H6: =SUMIFS('B1.4'!G:G,'B1.4'!$A:$A,'B1.3'!$A6) -> 0 | I6: =SUMIFS('B1.4'!H:H,'B1.4'!$A:$A,'B1.3'!$A6) -> 0
E7: =SUMIFS('B1.4'!D:D,'B1.4'!$A:$A,'B1.3'!$A7) -> 0 | F7: =SUMIFS('B1.4'!E:E,'B1.4'!$A:$A,'B1.3'!$A7) -> 0 | G7: =SUMIFS('B1.4'!F:F,'B1.4'!$A:$A,'B1.3'!$A7) -> 0 | H7: =SUMIFS('B1.4'!G:G,'B1.4'!$A:$A,'B1.3'!$A7) -> 0 | I7: =SUMIFS('B1.4'!H:H,'B1.4'!$A:$A,'B1.3'!$A7) -> 0
E8: =SUMIFS('B1.4'!D:D,'B1.4'!$A:$A,'B1.3'!$A8) -> 0 | F8: =SUMIFS('B1.4'!E:E,'B1.4'!$A:$A,'B1.3'!$A8) -> 0 | G8: =SUMIFS('B1.4'!F:F,'B1.4'!$A:$A,'B1.3'!$A8) -> 0 | H8: =SUMIFS('B1.4'!G:G,'B1.4'!$A:$A,'B1.3'!$A8) -> 0 | I8: =SUMIFS('B1.4'!H:H,'B1.4'!$A:$A,'B1.3'!$A8) -> 0
E9: =SUMIFS('B1.4'!D:D,'B1.4'!$A:$A,'B1.3'!$A9) -> 0 | F9: =SUMIFS('B1.4'!E:E,'B1.4'!$A:$A,'B1.3'!$A9) -> 0 | G9: =SUMIFS('B1.4'!F:F,'B1.4'!$A:$A,'B1.3'!$A9) -> 0 | H9: =SUMIFS('B1.4'!G:G,'B1.4'!$A:$A,'B1.3'!$A9) -> 0 | I9: =SUMIFS('B1.4'!H:H,'B1.4'!$A:$A,'B1.3'!$A9) -> 0
E10: =SUMIFS('B1.4'!D:D,'B1.4'!$A:$A,'B1.3'!$A10) -> 0 | F10: =SUMIFS('B1.4'!E:E,'B1.4'!$A:$A,'B1.3'!$A10) -> 0 | G10: =SUMIFS('B1.4'!F:F,'B1.4'!$A:$A,'B1.3'!$A10) -> 0 | H10: =SUMIFS('B1.4'!G:G,'B1.4'!$A:$A,'B1.3'!$A10) -> 0 | I10: =SUMIFS('B1.4'!H:H,'B1.4'!$A:$A,'B1.3'!$A10) -> 0
E11: =SUMIFS('B1.4'!D:D,'B1.4'!$A:$A,'B1.3'!$A11) -> 0 | F11: =SUMIFS('B1.4'!E:E,'B1.4'!$A:$A,'B1.3'!$A11) -> 0 | G11: =SUMIFS('B1.4'!F:F,'B1.4'!$A:$A,'B1.3'!$A11) -> 0 | H11: =SUMIFS('B1.4'!G:G,'B1.4'!$A:$A,'B1.3'!$A11) -> 0 | I11: =SUMIFS('B1.4'!H:H,'B1.4'!$A:$A,'B1.3'!$A11) -> 0
E12: =SUMIFS('B1.4'!D:D,'B1.4'!$A:$A,'B1.3'!$A12) -> 0 | F12: =SUMIFS('B1.4'!E:E,'B1.4'!$A:$A,'B1.3'!$A12) -> 0 | G12: =SUMIFS('B1.4'!F:F,'B1.4'!$A:$A,'B1.3'!$A12) -> 0 | H12: =SUMIFS('B1.4'!G:G,'B1.4'!$A:$A,'B1.3'!$A12) -> 0 | I12: =SUMIFS('B1.4'!H:H,'B1.4'!$A:$A,'B1.3'!$A12) -> 0
E13: =SUMIFS('B1.4'!D:D,'B1.4'!$A:$A,'B1.3'!$A13) -> 0 | F13: =SUMIFS('B1.4'!E:E,'B1.4'!$A:$A,'B1.3'!$A13) -> 0 | G13: =SUMIFS('B1.4'!F:F,'B1.4'!$A:$A,'B1.3'!$A13) -> 0 | H13: =SUMIFS('B1.4'!G:G,'B1.4'!$A:$A,'B1.3'!$A13) -> 0 | I13: =SUMIFS('B1.4'!H:H,'B1.4'!$A:$A,'B1.3'!$A13) -> 0

Sheet B1.4
A1: Aktivita | B1: Podaktivita | C1: Opis podaktivity | D1: Rozpočet | E1: BV | F1: KV | G1: Požadovaná dotácia | H1: Spolufinancovanie
A2: výber zo zoznamu | B2: výber zo zoznamu | C2: text: max. 250 znakov | D2: sum účelov | E2: sum účelov | F2: sum účelov | G2: sum účelov | H2: sum účelov
D4: =SUM(SUMIFS('B1.5'!L:L,'B1.5'!$B:$B,'B1.4'!$B4)+SUMIFS('B1.5'!M:M,'B1.5'!$B:$B,'B1.4'!$B4)) -> 0 | E4: =SUMIFS('B1.5'!O:O,'B1.5'!$B:$B,'B1.4'!$B4) -> 0 | F4: =SUMIFS('B1.5'!P:P,'B1.5'!$B:$B,'B1.4'!$B4) -> 0 | G4: =SUMIFS('B1.5'!L:L,'B1.5'!$B:$B,'B1.4'!$B4) -> 0 | H4: =SUMIFS('B1.5'!M:M,'B1.5'!$B:$B,'B1.4'!$B4) -> 0
D5: =SUM(SUMIFS('B1.5'!L:L,'B1.5'!$B:$B,'B1.4'!$B5)+SUMIFS('B1.5'!M:M,'B1.5'!$B:$B,'B1.4'!$B5)) -> 0 | E5: =SUMIFS('B1.5'!O:O,'B1.5'!$B:$B,'B1.4'!$B5) -> 0 | F5: =SUMIFS('B1.5'!P:P,'B1.5'!$B:$B,'B1.4'!$B5) -> 0 | G5: =SUMIFS('B1.5'!L:L,'B1.5'!$B:$B,'B1.4'!$B5) -> 0 | H5: =SUMIFS('B1.5'!M:M,'B1.5'!$B:$B,'B1.4'!$B5) -> 0
D6: =SUM(SUMIFS('B1.5'!L:L,'B1.5'!$B:$B,'B1.4'!$B6)+SUMIFS('B1.5'!M:M,'B1.5'!$B:$B,'B1.4'!$B6)) -> 0 | E6: =SUMIFS('B1.5'!O:O,'B1.5'!$B:$B,'B1.4'!$B6) -> 0 | F6: =SUMIFS('B1.5'!P:P,'B1.5'!$B:$B,'B1.4'!$B6) -> 0 | G6: =SUMIFS('B1.5'!L:L,'B1.5'!$B:$B,'B1.4'!$B6) -> 0 | H6: =SUMIFS('B1.5'!M:M,'B1.5'!$B:$B,'B1.4'!$B6) -> 0
D7: =SUM(SUMIFS('B1.5'!L:L,'B1.5'!$B:$B,'B1.4'!$B7)+SUMIFS('B1.5'!M:M,'B1.5'!$B:$B,'B1.4'!$B7)) -> 0 | E7: =SUMIFS('B1.5'!O:O,'B1.5'!$B:$B,'B1.4'!$B7) -> 0 | F7: =SUMIFS('B1.5'!P:P,'B1.5'!$B:$B,'B1.4'!$B7) -> 0 | G7: =SUMIFS('B1.5'!L:L,'B1.5'!$B:$B,'B1.4'!$B7) -> 0 | H7: =SUMIFS('B1.5'!M:M,'B1.5'!$B:$B,'B1.4'!$B7) -> 0
D8: =SUM(SUMIFS('B1.5'!L:L,'B1.5'!$B:$B,'B1.4'!$B8)+SUMIFS('B1.5'!M:M,'B1.5'!$B:$B,'B1.4'!$B8)) -> 0 | E8: =SUMIFS('B1.5'!O:O,'B1.5'!$B:$B,'B1.4'!$B8) -> 0 | F8: =SUMIFS('B1.5'!P:P,'B1.5'!$B:$B,'B1.4'!$B8) -> 0 | G8: =SUMIFS('B1.5'!L:L,'B1.5'!$B:$B,'B1.4'!$B8) -> 0 | H8: =SUMIFS('B1.5'!M:M,'B1.5'!$B:$B,'B1.4'!$B8) -> 0
D9: =SUM(SUMIFS('B1.5'!L:L,'B1.5'!$B:$B,'B1.4'!$B9)+SUMIFS('B1.5'!M:M,'B1.5'!$B:$B,'B1.4'!$B9)) -> 0 | E9: =SUMIFS('B1.5'!O:O,'B1.5'!$B:$B,'B1.4'!$B9) -> 0 | F9: =SUMIFS('B1.5'!P:P,'B1.5'!$B:$B,'B1.4'!$B9) -> 0 | G9: =SUMIFS('B1.5'!L:L,'B1.5'!$B:$B,'B1.4'!$B9) -> 0 | H9: =SUMIFS('B1.5'!M:M,'B1.5'!$B:$B,'B1.4'!$B9) -> 0
D10: =SUM(SUMIFS('B1.5'!L:L,'B1.5'!$B:$B,'B1.4'!$B10)+SUMIFS('B1.5'!M:M,'B1.5'!$B:$B,'B1.4'!$B10)) -> 0 | E10: =SUMIFS('B1.5'!O:O,'B1.5'!$B:$B,'B1.4'!$B10) -> 0 | F10: =SUMIFS('B1.5'!P:P,'B1.5'!$B:$B,'B1.4'!$B10) -> 0 | G10: =SUMIFS('B1.5'!L:L,'B1.5'!$B:$B,'B1.4'!$B10) -> 0 | H10: =SUMIFS('B1.5'!M:M,'B1.5'!$B:$B,'B1.4'!$B10) -> 0
D11: =SUM(SUMIFS('B1.5'!L:L,'B1.5'!$B:$B,'B1.4'!$B11)+SUMIFS('B1.5'!M:M,'B1.5'!$B:$B,'B1.4'!$B11)) -> 0 | E11: =SUMIFS('B1.5'!O:O,'B1.5'!$B:$B,'B1.4'!$B11) -> 0 | F11: =SUMIFS('B1.5'!P:P,'B1.5'!$B:$B,'B1.4'!$B11) -> 0 | G11: =SUMIFS('B1.5'!L:L,'B1.5'!$B:$B,'B1.4'!$B11) -> 0 | H11: =SUMIFS('B1.5'!M:M,'B1.5'!$B:$B,'B1.4'!$B11) -> 0
D12: =SUM(SUMIFS('B1.5'!L:L,'B1.5'!$B:$B,'B1.4'!$B12)+SUMIFS('B1.5'!M:M,'B1.5'!$B:$B,'B1.4'!$B12)) -> 0 | E12: =SUMIFS('B1.5'!O:O,'B1.5'!$B:$B,'B1.4'!$B12) -> 0 | F12: =SUMIFS('B1.5'!P:P,'B1.5'!$B:$B,'B1.4'!$B12) -> 0 | G12: =SUMIFS('B1.5'!L:L,'B1.5'!$B:$B,'B1.4'!$B12) -> 0 | H12: =SUMIFS('B1.5'!M:M,'B1.5'!$B:$B,'B1.4'!$B12) -> 0
D13: =SUM(SUMIFS('B1.5'!L:L,'B1.5'!$B:$B,'B1.4'!$B13)+SUMIFS('B1.5'!M:M,'B1.5'!$B:$B,'B1.4'!$B13)) -> 0 | E13: =SUMIFS('B1.5'!O:O,'B1.5'!$B:$B,'B1.4'!$B13) -> 0 | F13: =SUMIFS('B1.5'!P:P,'B1.5'!$B:$B,'B1.4'!$B13) -> 0 | G13: =SUMIFS('B1.5'!L:L,'B1.5'!$B:$B,'B1.4'!$B13) -> 0 | H13: =SUMIFS('B1.5'!M:M,'B1.5'!$B:$B,'B1.4'!$B13) -> 0
D14: =SUM(SUMIFS('B1.5'!L:L,'B1.5'!$B:$B,'B1.4'!$B14)+SUMIFS('B1.5'!M:M,'B1.5'!$B:$B,'B1.4'!$B14)) -> 0 | E14: =SUMIFS('B1.5'!O:O,'B1.5'!$B:$B,'B1.4'!$B14) -> 0 | F14: =SUMIFS('B1.5'!P:P,'B1.5'!$B:$B,'B1.4'!$B14) -> 0 | G14: =SUMIFS('B1.5'!L:L,'B1.5'!$B:$B,'B1.4'!$B14) -> 0 | H14: =SUMIFS('B1.5'!M:M,'B1.5'!$B:$B,'B1.4'!$B14) -> 0
D15: =SUM(SUMIFS('B1.5'!L:L,'B1.5'!$B:$B,'B1.4'!$B15)+SUMIFS('B1.5'!M:M,'B1.5'!$B:$B,'B1.4'!$B15)) -> 0 | E15: =SUMIFS('B1.5'!O:O,'B1.5'!$B:$B,'B1.4'!$B15) -> 0 | F15: =SUMIFS('B1.5'!P:P,'B1.5'!$B:$B,'B1.4'!$B15) -> 0 | G15: =SUMIFS('B1.5'!L:L,'B1.5'!$B:$B,'B1.4'!$B15) -> 0 | H15: =SUMIFS('B1.5'!M:M,'B1.5'!$B:$B,'B1.4'!$B15) -> 0
... D74: =SUM(SUMIFS('B1.5'!L:L,'B1.5'!$B:$B,'B1.4'!$B74)+SUMIFS('B1.5'!M:M,'B1.5'!$B:$B,'B1.4'!$B74)) -> 0 | E74: =SUMIFS('B1.5'!O:O,'B1.5'!$B:$B,'B1.4'!$B74) -> 0 | F74: =SUMIFS('B1.5'!P:P,'B1.5'!$B:$B,'B1.4'!$B74) -> 0 | G74: =SUMIFS('B1.5'!L:L,'B1.5'!$B:$B,'B1.4'!$B74) -> 0 | H74: =SUMIFS('B1.5'!M:M,'B1.5'!$B:$B,'B1.4'!$B74) -> 0

Sheet B1.5
A1: Aktivita | B1: Podaktivita | C1: Účel | D1: Cieľová skupina | E1: Motív návstevy | F1: Typ návštevníka | G1: Vek návštevníka | H1: Status návštevníka | I1: Znevýhodnené skupiny | J1: KPI | K1: Očakávaný výstup (hodnota KPI) | L1: Požadovaná dotácia | M1: Vlastné zdroje | N1: BV/KV | O1: BV | P1: KV | Q1: Miesto realizácie | R1: Predpokladaný/plánovaný termín začiatku realizácie | S1: Predpokladaný/plánovaný termín ukončenia realizácie | T1: Spôsob a časový harmonogram realizácie (len KV) | U1: Zámer
A2: výber zo zoznamu | B2: výber zo zoznamu | C2: text | D2: výber zo zoznamu | E2: výber zo zoznamu | F2: výber zo zoznamu | G2: výber zo zoznamu | H2: výber zo zoznamu | I2: výber zo zoznamu | J2: výber zo zoznamu | K2: plánovaná hodnota ukazovateľa | L2: text | M2: text | N2: výber zo zoznamu | O2: automaticky | P2: automaticky | Q2: text | R2: mesiac/rok (napr. 01/2025) -> po označení KV povinné pole | S2: mesiac/rok (napr. 01/2025) | T2: text: max. 1000 znakov | U2: text: max. 1000 znakov
O4: =IF(N4="BV",L4+ M4,0) -> 0 | P4: =IF(N4="KV",#REF!+ M4,0) -> 0
O5: =IF(N5="BV", L4+M5,0) -> 0 | P5: =IF(N5="KV", L4+M5,0) -> 0
O6: =IF(N6="BV", L6+M6,0) -> 0 | P6: =IF(N6="KV", L6+M6,0) -> 0
O7: =IF(N7="BV", L7+M7,0) -> 0 | P7: =IF(N7="KV", L7+M7,0) -> 0
O8: =IF(N8="BV", L8+M8,0) -> 0 | P8: =IF(N8="KV", L8+M8,0) -> 0
O9: =IF(N9="BV", L9+M9,0) -> 0 | P9: =IF(N9="KV", L9+M9,0) -> 0
O10: =IF(N10="BV", L10+M10,0) -> 0 | P10: =IF(N10="KV", L10+M10,0) -> 0
O11: =IF(N11="BV", L11+M11,0) -> 0 | P11: =IF(N11="KV", L11+M11,0) -> 0
O12: =IF(N12="BV", L12+M12,0) -> 0 | P12: =IF(N12="KV", L12+M12,0) -> 0
O13: =IF(N13="BV", L13+M13,0) -> 0 | P13: =IF(N13="KV", L13+M13,0) -> 0
O14: =IF(N14="BV", L14+M14,0) -> 0 | P14: =IF(N14="KV", L14+M14,0) -> 0
O15: =IF(N15="BV", L15+M15,0) -> 0 | P15: =IF(N15="KV", L15+M15,0) -> 0
O16: =IF(N16="BV", L16+M16,0) -> 0 | P16: =IF(N16="KV", L16+M16,0) -> 0
O17: =IF(N17="BV", L17+M17,0) -> 0 | P17: =IF(N17="KV", L17+M17,0) -> 0
... O504: =IF(N504="BV", L504+M504,0) -> 0 | P504: =IF(N504="KV", L504+M504,0) -> 0

Sheet B1.6
A1: Aktivita | B1: Rozpočet | E1: Žiadané | F1: Vlastné zdroje | H1: Nárok na dotáciu | I1: Poznámka
B2: Spolu | C2: BV | D2: KV
A3: 1. Marketing a propagácia | B3: =SUMIFS('B1.3'!E:E,'B1.3'!$A:$A,$A3) -> 0 | C3: =SUMIFS('B1.3'!F:F,'B1.3'!$A:$A,$A3) -> 0 | D3: =SUMIFS('B1.3'!G:G,'B1.3'!$A:$A,$A3) -> 0 | E3: =SUMIFS('B1.3'!H:H,'B1.3'!$A:$A,$A3) -> 0 | F3: =SUMIFS('B1.3'!I:I,'B1.3'!$A:$A,$A3) -> 0 | H3: ='B1.1'!W5 -> 0 | I3: =IF(E11>H3,"POZOR! Prekročený nárok na dotáciu!","")
A4: 2. Činnosť turistického informačného centra zriadeného organizáciou cestovného ruchu | B4: =SUMIFS('B1.3'!E:E,'B1.3'!$A:$A,$A4) -> 0 | C4: =SUMIFS('B1.3'!F:F,'B1.3'!$A:$A,$A4) -> 0 | D4: =SUMIFS('B1.3'!G:G,'B1.3'!$A:$A,$A4) -> 0 | E4: =SUMIFS('B1.3'!H:H,'B1.3'!$A:$A,$A4) -> 0 | F4: =SUMIFS('B1.3'!I:I,'B1.3'!$A:$A,$A4) -> 0 | I4: (pozn.: pri prekročení sumy sa zobrazí upozornenie)
A5: 3. Tvorba a podpora udržateľných produktov cestovného ruchu | B5: =SUMIFS('B1.3'!E:E,'B1.3'!$A:$A,$A5) -> 0 | C5: =SUMIFS('B1.3'!F:F,'B1.3'!$A:$A,$A5) -> 0 | D5: =SUMIFS('B1.3'!G:G,'B1.3'!$A:$A,$A5) -> 0 | E5: =SUMIFS('B1.3'!H:H,'B1.3'!$A:$A,$A5) -> 0 | F5: =SUMIFS('B1.3'!I:I,'B1.3'!$A:$A,$A5) -> 0
A6: 4. Podpora atrakivít danej lokality | B6: =SUMIFS('B1.3'!E:E,'B1.3'!$A:$A,$A6) -> 0 | C6: =SUMIFS('B1.3'!F:F,'B1.3'!$A:$A,$A6) -> 0 | D6: =SUMIFS('B1.3'!G:G,'B1.3'!$A:$A,$A6) -> 0 | E6: =SUMIFS('B1.3'!H:H,'B1.3'!$A:$A,$A6) -> 0 | F6: =SUMIFS('B1.3'!I:I,'B1.3'!$A:$A,$A6) -> 0
A7: 5. Infraštruktúra cestovného ruchu | B7: =SUMIFS('B1.3'!E:E,'B1.3'!$A:$A,$A7) -> 0 | C7: =SUMIFS('B1.3'!F:F,'B1.3'!$A:$A,$A7) -> 0 | D7: =SUMIFS('B1.3'!G:G,'B1.3'!$A:$A,$A7) -> 0 | E7: =SUMIFS('B1.3'!H:H,'B1.3'!$A:$A,$A7) -> 0 | F7: =SUMIFS('B1.3'!I:I,'B1.3'!$A:$A,$A7) -> 0
A8: 6. Zabezpečenie strategických, koncepčných a analytických materiálov a dokumentov, štatistík a prieskumov | B8: =SUMIFS('B1.3'!E:E,'B1.3'!$A:$A,$A8) -> 0 | C8: =SUMIFS('B1.3'!F:F,'B1.3'!$A:$A,$A8) -> 0 | D8: =SUMIFS('B1.3'!G:G,'B1.3'!$A:$A,$A8) -> 0 | E8: =SUMIFS('B1.3'!H:H,'B1.3'!$A:$A,$A8) -> 0 | F8: =SUMIFS('B1.3'!I:I,'B1.3'!$A:$A,$A8) -> 0
A9: 7. Vzdelávacie aktivity zamerané na skvalitnenie a rozvoj destinácie a cestovného ruchu v nej | B9: =SUMIFS('B1.3'!E:E,'B1.3'!$A:$A,$A9) -> 0 | C9: =SUMIFS('B1.3'!F:F,'B1.3'!$A:$A,$A9) -> 0 | D9: =SUMIFS('B1.3'!G:G,'B1.3'!$A:$A,$A9) -> 0 | E9: =SUMIFS('B1.3'!H:H,'B1.3'!$A:$A,$A9) -> 0 | F9: =SUMIFS('B1.3'!I:I,'B1.3'!$A:$A,$A9) -> 0
A11: Spolu | B11: =SUM(B3:B9) -> 0 | C11: =SUM(C3:C9) -> 0 | D11: =SUM(D3:D9) -> 0 | E11: =SUM(E3:E9) -> 0 | F11: =SUM(F3:F9) -> 0
E13: Percento spolufinancovania | F13: =IF(B11=0,0,F11/B11) -> 0

Sheet B2.1
A1: Typ projektu | B1: Rok | C1: IČO partnera 1 | D1: Názov partnera 1 | E1: ID partnera 1 | F1: IČO partnera 2 | G1: Názov partnera 2 | H1: ID partnera 2 | I1: IČO partnera 3 | J1: Názov partnera 3 | K1: ID partnera 3 | L1: IČO partnera 4 | M1: Názov partnera 4 | N1: ID partnera 4 | O1: IČO partnera 5 | P1: Názov partnera 5 | Q1: ID partnera 5 | R1: Názov spoločného projektového zámeru | S1: ID_Spoločného projektového zámeru | T1: Predpokladaná doba ukončenia | U1: Predpokladaná doba ukončenia | V1: Hlavný cieľ spoločného projektového zámeru | W1: Nárok na dotáciu
A2: automaticky doplnené | B2: predvolené | C2: výbez zo zoznamu | D2: automaticky doplnené | E2: automaticky doplnené | F2: výbez zo zoznamu | G2: automaticky doplnené | H2: automaticky doplnené | I2: výbez zo zoznamu | J2: automaticky doplnené | K2: automaticky doplnené | L2: výbez zo zoznamu | M2: automaticky doplnené | N2: automaticky doplnené | O2: výbez zo zoznamu | P2: automaticky doplnené | Q2: automaticky doplnené | R2: text: max. 100 znakov | S2: Doplniť z registračného hárku projektového zámeru | T2: mesiac | U2: rok | V2: text: max. 500 znakov | W2: automaticky doplnené
A5: B | B5: 2025 | C5: prázdne | D5: =VLOOKUP(C5, 'ID číselník'!C:D, 2, 0) -> 0 | E5: =VLOOKUP(D5, 'ID číselník'!D:E, 2, 0) -> 0 | F5: prázdne | G5: =VLOOKUP(F5, 'ID číselník'!C:D, 2, 0) -> 0 | H5: =IF(G5<>"",VLOOKUP(G5, 'ID číselník'!D:E, 2, 0),"") -> 0 | I5: prázdne | J5: =VLOOKUP(I5, 'ID číselník'!C:D, 2, 0) -> 0 | K5: =IF(J5<>"",VLOOKUP(J5, 'ID číselník'!D:E, 2, 0),"") -> 0 | L5: prázdne | M5: =VLOOKUP(L5, 'ID číselník'!C:D, 2, 0) -> 0 | N5: =IF(M5<>"",VLOOKUP(M5, 'ID číselník'!D:E, 2, 0),"") -> 0 | O5: prázdne | P5: =VLOOKUP(O5, 'ID číselník'!C:D, 2, 0) -> 0 | Q5: =IF(P5<>"",VLOOKUP(P5, 'ID číselník'!D:E, 2, 0),"") -> 0 | W5: =IF(('A1'!K4/2)-('B1.6'!E11)>0,('A1'!K4/2)-('B1.6'!E11),"0") -> 0

Sheet B2.2
A1: B 2.2.1 Východisková situácia/ identifikácia problému (ak relevantné) | B1: B 2.2.2 Ciele projektu a očakávané výsledky | C1: B 2.2.3 Súlad so stratégiou rozvoja CR destinácie | D1: Názov dokumentu | E1: B 2.2.4 Súlad s PHSR VÚC | F1: Názov dokumentu | G1: B 2.2.5 Súlad s plánom rozvoja NRO (ak relevantné) | H1: Odborný garant projektu
A2: text: max. 2500 znakov | B2: text: max. 2500 znakov | C2: text: max. 500 znakov | D2: text | E2: text: max. 500 znakov | F2: text | G2: text: max. 500 znakov | H2: text

Sheet B2.3
A1: Aktivita | B1: Merateľný ukazovateľ (KPI) | C1: Hodnota KPI - súčasná | D1: Hodnota KPI - očakávaná | E1: Rozpočet | F1: BV | G1: KV | H1: Požadovaná dotácia | I1: Spolufinancovanie
A2: výber zo zoznamu | B2: text: KPI na úrovni aktivity len v prípade absencie KPI pri účeloch | C2: text: pre porovnanie - nepovinné | D2: text | E2: sum podaktivít | F2: sum podaktivít | G2: sum podaktivít | H2: sum podaktivít | I2: sum podaktivít
E4: =SUMIFS('B2.4'!D:D,'B2.4'!$A:$A,'B2.3'!$A4) -> 0 | F4: =SUMIFS('B2.4'!E:E,'B2.4'!$A:$A,'B2.3'!$A4) -> 0 | G4: =SUMIFS('B2.4'!F:F,'B2.4'!$A:$A,'B2.3'!$A4) -> 0 | H4: =SUMIFS('B2.4'!G:G,'B2.4'!$A:$A,'B2.3'!$A4) -> 0 | I4: =SUMIFS('B2.4'!H:H,'B2.4'!$A:$A,'B2.3'!$A4) -> 0
E5: =SUMIFS('B2.4'!D:D,'B2.4'!$A:$A,'B2.3'!$A5) -> 0 | F5: =SUMIFS('B2.4'!E:E,'B2.4'!$A:$A,'B2.3'!$A5) -> 0 | G5: =SUMIFS('B2.4'!F:F,'B2.4'!$A:$A,'B2.3'!$A5) -> 0 | H5: =SUMIFS('B2.4'!G:G,'B2.4'!$A:$A,'B2.3'!$A5) -> 0 | I5: =SUMIFS('B2.4'!H:H,'B2.4'!$A:$A,'B2.3'!$A5) -> 0
E6: =SUMIFS('B2.4'!D:D,'B2.4'!$A:$A,'B2.3'!$A6) -> 0 | F6: =SUMIFS('B2.4'!E:E,'B2.4'!$A:$A,'B2.3'!$A6) -> 0 | G6: =SUMIFS('B2.4'!F:F,'B2.4'!$A:$A,'B2.3'!$A6) -> 0 | H6: =SUMIFS('B2.4'!G:G,'B2.4'!$A:$A,'B2.3'!$A6) -> 0 | I6: =SUMIFS('B2.4'!H:H,'B2.4'!$A:$A,'B2.3'!$A6) -> 0
E7: =SUMIFS('B2.4'!D:D,'B2.4'!$A:$A,'B2.3'!$A7) -> 0 | F7: =SUMIFS('B2.4'!E:E,'B2.4'!$A:$A,'B2.3'!$A7) -> 0 | G7: =SUMIFS('B2.4'!F:F,'B2.4'!$A:$A,'B2.3'!$A7) -> 0 | H7: =SUMIFS('B2.4'!G:G,'B2.4'!$A:$A,'B2.3'!$A7) -> 0 | I7: =SUMIFS('B2.4'!H:H,'B2.4'!$A:$A,'B2.3'!$A7) -> 0
E8: =SUMIFS('B2.4'!D:D,'B2.4'!$A:$A,'B2.3'!$A8) -> 0 | F8: =SUMIFS('B2.4'!E:E,'B2.4'!$A:$A,'B2.3'!$A8) -> 0 | G8: =SUMIFS('B2.4'!F:F,'B2.4'!$A:$A,'B2.3'!$A8) -> 0 | H8: =SUMIFS('B2.4'!G:G,'B2.4'!$A:$A,'B2.3'!$A8) -> 0 | I8: =SUMIFS('B2.4'!H:H,'B2.4'!$A:$A,'B2.3'!$A8) -> 0
E9: =SUMIFS('B2.4'!D:D,'B2.4'!$A:$A,'B2.3'!$A9) -> 0 | F9: =SUMIFS('B2.4'!E:E,'B2.4'!$A:$A,'B2.3'!$A9) -> 0 | G9: =SUMIFS('B2.4'!F:F,'B2.4'!$A:$A,'B2.3'!$A9) -> 0 | H9: =SUMIFS('B2.4'!G:G,'B2.4'!$A:$A,'B2.3'!$A9) -> 0 | I9: =SUMIFS('B2.4'!H:H,'B2.4'!$A:$A,'B2.3'!$A9) -> 0
E10: =SUMIFS('B2.4'!D:D,'B2.4'!$A:$A,'B2.3'!$A10) -> 0 | F10: =SUMIFS('B2.4'!E:E,'B2.4'!$A:$A,'B2.3'!$A10) -> 0 | G10: =SUMIFS('B2.4'!F:F,'B2.4'!$A:$A,'B2.3'!$A10) -> 0 | H10: =SUMIFS('B2.4'!G:G,'B2.4'!$A:$A,'B2.3'!$A10) -> 0 | I10: =SUMIFS('B2.4'!H:H,'B2.4'!$A:$A,'B2.3'!$A10) -> 0
E11: =SUMIFS('B2.4'!D:D,'B2.4'!$A:$A,'B2.3'!$A11) -> 0 | F11: =SUMIFS('B2.4'!E:E,'B2.4'!$A:$A,'B2.3'!$A11) -> 0 | G11: =SUMIFS('B2.4'!F:F,'B2.4'!$A:$A,'B2.3'!$A11) -> 0 | H11: =SUMIFS('B2.4'!G:G,'B2.4'!$A:$A,'B2.3'!$A11) -> 0 | I11: =SUMIFS('B2.4'!H:H,'B2.4'!$A:$A,'B2.3'!$A11) -> 0
E12: =SUMIFS('B2.4'!D:D,'B2.4'!$A:$A,'B2.3'!$A12) -> 0 | F12: =SUMIFS('B2.4'!E:E,'B2.4'!$A:$A,'B2.3'!$A12) -> 0 | G12: =SUMIFS('B2.4'!F:F,'B2.4'!$A:$A,'B2.3'!$A12) -> 0 | H12: =SUMIFS('B2.4'!G:G,'B2.4'!$A:$A,'B2.3'!$A12) -> 0 | I12: =SUMIFS('B2.4'!H:H,'B2.4'!$A:$A,'B2.3'!$A12) -> 0
E13: =SUMIFS('B2.4'!D:D,'B2.4'!$A:$A,'B2.3'!$A13) -> 0 | F13: =SUMIFS('B2.4'!E:E,'B2.4'!$A:$A,'B2.3'!$A13) -> 0 | G13: =SUMIFS('B2.4'!F:F,'B2.4'!$A:$A,'B2.3'!$A13) -> 0 | H13: =SUMIFS('B2.4'!G:G,'B2.4'!$A:$A,'B2.3'!$A13) -> 0 | I13: =SUMIFS('B2.4'!H:H,'B2.4'!$A:$A,'B2.3'!$A13) -> 0

Sheet B2.4
A1: Aktivita | B1: Podaktivita | C1: Opis podaktivity | D1: Rozpočet | E1: BV | F1: KV | G1: Požadovaná dotácia | H1: Spolufinancovanie
A2: výber zo zoznamu | B2: výber zo zoznamu | C2: text: max. 250 znakov | D2: sum účelov | E2: sum účelov | F2: sum účelov | G2: sum účelov | H2: sum účelov
D4: =SUM(SUMIFS('B2.5'!L:L,'B2.5'!$B:$B,'B2.4'!$B4)+SUMIFS('B2.5'!M:M,'B2.5'!$B:$B,'B2.4'!$B4)) -> 0 | E4: =SUMIFS('B2.5'!O:O,'B2.5'!$B:$B,'B2.4'!$B4) -> 0 | F4: =SUMIFS('B2.5'!P:P,'B2.5'!$B:$B,'B2.4'!$B4) -> 0 | G4: =SUMIFS('B2.5'!L:L,'B2.5'!$B:$B,'B2.4'!$B4) -> 0 | H4: =SUMIFS('B2.5'!M:M,'B2.5'!$B:$B,'B2.4'!$B4) -> 0
D5: =SUM(SUMIFS('B2.5'!L:L,'B2.5'!$B:$B,'B2.4'!$B5)+SUMIFS('B2.5'!M:M,'B2.5'!$B:$B,'B2.4'!$B5)) -> 0 | E5: =SUMIFS('B2.5'!O:O,'B2.5'!$B:$B,'B2.4'!$B5) -> 0 | F5: =SUMIFS('B2.5'!P:P,'B2.5'!$B:$B,'B2.4'!$B5) -> 0 | G5: =SUMIFS('B2.5'!L:L,'B2.5'!$B:$B,'B2.4'!$B5) -> 0 | H5: =SUMIFS('B2.5'!M:M,'B2.5'!$B:$B,'B2.4'!$B5) -> 0
D6: =SUM(SUMIFS('B2.5'!L:L,'B2.5'!$B:$B,'B2.4'!$B6)+SUMIFS('B2.5'!M:M,'B2.5'!$B:$B,'B2.4'!$B6)) -> 0 | E6: =SUMIFS('B2.5'!O:O,'B2.5'!$B:$B,'B2.4'!$B6) -> 0 | F6: =SUMIFS('B2.5'!P:P,'B2.5'!$B:$B,'B2.4'!$B6) -> 0 | G6: =SUMIFS('B2.5'!L:L,'B2.5'!$B:$B,'B2.4'!$B6) -> 0 | H6: =SUMIFS('B2.5'!M:M,'B2.5'!$B:$B,'B2.4'!$B6) -> 0
D7: =SUM(SUMIFS('B2.5'!L:L,'B2.5'!$B:$B,'B2.4'!$B7)+SUMIFS('B2.5'!M:M,'B2.5'!$B:$B,'B2.4'!$B7)) -> 0 | E7: =SUMIFS('B2.5'!O:O,'B2.5'!$B:$B,'B2.4'!$B7) -> 0 | F7: =SUMIFS('B2.5'!P:P,'B2.5'!$B:$B,'B2.4'!$B7) -> 0 | G7: =SUMIFS('B2.5'!L:L,'B2.5'!$B:$B,'B2.4'!$B7) -> 0 | H7: =SUMIFS('B2.5'!M:M,'B2.5'!$B:$B,'B2.4'!$B7) -> 0
D8: =SUM(SUMIFS('B2.5'!L:L,'B2.5'!$B:$B,'B2.4'!$B8)+SUMIFS('B2.5'!M:M,'B2.5'!$B:$B,'B2.4'!$B8)) -> 0 | E8: =SUMIFS('B2.5'!O:O,'B2.5'!$B:$B,'B2.4'!$B8) -> 0 | F8: =SUMIFS('B2.5'!P:P,'B2.5'!$B:$B,'B2.4'!$B8) -> 0 | G8: =SUMIFS('B2.5'!L:L,'B2.5'!$B:$B,'B2.4'!$B8) -> 0 | H8: =SUMIFS('B2.5'!M:M,'B2.5'!$B:$B,'B2.4'!$B8) -> 0
D9: =SUM(SUMIFS('B2.5'!L:L,'B2.5'!$B:$B,'B2.4'!$B9)+SUMIFS('B2.5'!M:M,'B2.5'!$B:$B,'B2.4'!$B9)) -> 0 | E9: =SUMIFS('B2.5'!O:O,'B2.5'!$B:$B,'B2.4'!$B9) -> 0 | F9: =SUMIFS('B2.5'!P:P,'B2.5'!$B:$B,'B2.4'!$B9) -> 0 | G9: =SUMIFS('B2.5'!L:L,'B2.5'!$B:$B,'B2.4'!$B9) -> 0 | H9: =SUMIFS('B2.5'!M:M,'B2.5'!$B:$B,'B2.4'!$B9) -> 0
D10: =SUM(SUMIFS('B2.5'!L:L,'B2.5'!$B:$B,'B2.4'!$B10)+SUMIFS('B2.5'!M:M,'B2.5'!$B:$B,'B2.4'!$B10)) -> 0 | E10: =SUMIFS('B2.5'!O:O,'B2.5'!$B:$B,'B2.4'!$B10) -> 0 | F10: =SUMIFS('B2.5'!P:P,'B2.5'!$B:$B,'B2.4'!$B10) -> 0 | G10: =SUMIFS('B2.5'!L:L,'B2.5'!$B:$B,'B2.4'!$B10) -> 0 | H10: =SUMIFS('B2.5'!M:M,'B2.5'!$B:$B,'B2.4'!$B10) -> 0
D11: =SUM(SUMIFS('B2.5'!L:L,'B2.5'!$B:$B,'B2.4'!$B11)+SUMIFS('B2.5'!M:M,'B2.5'!$B:$B,'B2.4'!$B11)) -> 0 | E11: =SUMIFS('B2.5'!O:O,'B2.5'!$B:$B,'B2.4'!$B11) -> 0 | F11: =SUMIFS('B2.5'!P:P,'B2.5'!$B:$B,'B2.4'!$B11) -> 0 | G11: =SUMIFS('B2.5'!L:L,'B2.5'!$B:$B,'B2.4'!$B11) -> 0 | H11: =SUMIFS('B2.5'!M:M,'B2.5'!$B:$B,'B2.4'!$B11) -> 0
D12: =SUM(SUMIFS('B2.5'!L:L,'B2.5'!$B:$B,'B2.4'!$B12)+SUMIFS('B2.5'!M:M,'B2.5'!$B:$B,'B2.4'!$B12)) -> 0 | E12: =SUMIFS('B2.5'!O:O,'B2.5'!$B:$B,'B2.4'!$B12) -> 0 | F12: =SUMIFS('B2.5'!P:P,'B2.5'!$B:$B,'B2.4'!$B12) -> 0 | G12: =SUMIFS('B2.5'!L:L,'B2.5'!$B:$B,'B2.4'!$B12) -> 0 | H12: =SUMIFS('B2.5'!M:M,'B2.5'!$B:$B,'B2.4'!$B12) -> 0
D13: =SUM(SUMIFS('B2.5'!L:L,'B2.5'!$B:$B,'B2.4'!$B13)+SUMIFS('B2.5'!M:M,'B2.5'!$B:$B,'B2.4'!$B13)) -> 0 | E13: =SUMIFS('B2.5'!O:O,'B2.5'!$B:$B,'B2.4'!$B13) -> 0 | F13: =SUMIFS('B2.5'!P:P,'B2.5'!$B:$B,'B2.4'!$B13) -> 0 | G13: =SUMIFS('B2.5'!L:L,'B2.5'!$B:$B,'B2.4'!$B13) -> 0 | H13: =SUMIFS('B2.5'!M:M,'B2.5'!$B:$B,'B2.4'!$B13) -> 0
D14: =SUM(SUMIFS('B2.5'!L:L,'B2.5'!$B:$B,'B2.4'!$B14)+SUMIFS('B2.5'!M:M,'B2.5'!$B:$B,'B2.4'!$B14)) -> 0 | E14: =SUMIFS('B2.5'!O:O,'B2.5'!$B:$B,'B2.4'!$B14) -> 0 | F14: =SUMIFS('B2.5'!P:P,'B2.5'!$B:$B,'B2.4'!$B14) -> 0 | G14: =SUMIFS('B2.5'!L:L,'B2.5'!$B:$B,'B2.4'!$B14) -> 0 | H14: =SUMIFS('B2.5'!M:M,'B2.5'!$B:$B,'B2.4'!$B14) -> 0
D15: =SUM(SUMIFS('B2.5'!L:L,'B2.5'!$B:$B,'B2.4'!$B15)+SUMIFS('B2.5'!M:M,'B2.5'!$B:$B,'B2.4'!$B15)) -> 0 | E15: =SUMIFS('B2.5'!O:O,'B2.5'!$B:$B,'B2.4'!$B15) -> 0 | F15: =SUMIFS('B2.5'!P:P,'B2.5'!$B:$B,'B2.4'!$B15) -> 0 | G15: =SUMIFS('B2.5'!L:L,'B2.5'!$B:$B,'B2.4'!$B15) -> 0 | H15: =SUMIFS('B2.5'!M:M,'B2.5'!$B:$B,'B2.4'!$B15) -> 0
... D74: =SUM(SUMIFS('B2.5'!L:L,'B2.5'!$B:$B,'B2.4'!$B74)+SUMIFS('B2.5'!M:M,'B2.5'!$B:$B,'B2.4'!$B74)) -> 0 | E74: =SUMIFS('B2.5'!O:O,'B2.5'!$B:$B,'B2.4'!$B74) -> 0 | F74: =SUMIFS('B2.5'!P:P,'B2.5'!$B:$B,'B2.4'!$B74) -> 0 | G74: =SUMIFS('B2.5'!L:L,'B2.5'!$B:$B,'B2.4'!$B74) -> 0 | H74: =SUMIFS('B2.5'!M:M,'B2.5'!$B:$B,'B2.4'!$B74) -> 0

Sheet B2.5
A1: Aktivita | B1: Podaktivita | C1: Účel | D1: Cieľová skupina | E1: Motív návstevy | F1: Typ návštevníka | G1: Vek návštevníka | H1: Status návštevníka | I1: Znevýhodnené skupiny | J1: KPI | K1: Očakávaný výstup (hodnota KPI) | L1: Požadovaná dotácia | M1: Vlastné zdroje | N1: BV/KV | O1: BV | P1: KV | Q1: Miesto realizácie | R1: Predpokladaný/plánovaný termín začiatku realizácie | S1: Predpokladaný/plánovaný termín ukončenia realizácie | T1: Spôsob a časový harmonogram realizácie (len KV) | U1: Zámer
A2: výber zo zoznamu | B2: výber zo zoznamu | C2: text | D2: výber zo zoznamu | E2: výber zo zoznamu | F2: výber zo zoznamu | G2: výber zo zoznamu | H2: výber zo zoznamu | I2: výber zo zoznamu | J2: výber zo zoznamu | K2: plánovaná hodnota ukazovateľa | L2: text | M2: text | N2: výber zo zoznamu | O2: automaticky | P2: automaticky | Q2: text | R2: mesiac/rok (napr. 01/2025) -> po označení KV povinné pole | S2: mesiac/rok (napr. 01/2025) | T2: text: max. 1000 znakov | U2: text: max. 1000 znakov
O4: =IF(N4="BV", L4+M4,0) -> 0 | P4: =IF(N4="KV", L4+M4,0) -> 0
O5: =IF(N5="BV", L5+M5,0) -> 0 | P5: =IF(N5="KV", L5+M5,0) -> 0
O6: =IF(N6="BV", L6+M6,0) -> 0 | P6: =IF(N6="KV", L6+M6,0) -> 0
O7: =IF(N7="BV", L7+M7,0) -> 0 | P7: =IF(N7="KV", L7+M7,0) -> 0
O8: =IF(N8="BV", L8+M8,0) -> 0 | P8: =IF(N8="KV", L8+M8,0) -> 0
O9: =IF(N9="BV", L9+M9,0) -> 0 | P9: =IF(N9="KV", L9+M9,0) -> 0
O10: =IF(N10="BV", L10+M10,0) -> 0 | P10: =IF(N10="KV", L10+M10,0) -> 0
O11: =IF(N11="BV", L11+M11,0) -> 0 | P11: =IF(N11="KV", L11+M11,0) -> 0
O12: =IF(N12="BV", L12+M12,0) -> 0 | P12: =IF(N12="KV", L12+M12,0) -> 0
O13: =IF(N13="BV", L13+M13,0) -> 0 | P13: =IF(N13="KV", L13+M13,0) -> 0
O14: =IF(N14="BV", L14+M14,0) -> 0 | P14: =IF(N14="KV", L14+M14,0) -> 0
O15: =IF(N15="BV", L15+M15,0) -> 0 | P15: =IF(N15="KV", L15+M15,0) -> 0
... O504: =IF(N504="BV", L504+M504,0) -> 0 | P504: =IF(N504="KV", L504+M504,0) -> 0

Sheet B2.6
A1: Aktivita | B1: Rozpočet | E1: Žiadané | F1: Vlastné zdroje | H1: Nárok na dotáciu | I1: Poznámka
B2: Spolu | C2: BV | D2: KV
A3: 1. Marketing a propagácia | B3: =SUMIFS('B2.3'!E:E,'B2.3'!$A:$A,$A3) -> 0 | C3: =SUMIFS('B2.3'!F:F,'B2.3'!$A:$A,$A3) -> 0 | D3: =SUMIFS('B2.3'!G:G,'B2.3'!$A:$A,$A3) -> 0 | E3: =SUMIFS('B2.3'!H:H,'B2.3'!$A:$A,$A3) -> 0 | F3: =SUMIFS('B2.3'!I:I,'B2.3'!$A:$A,$A3) -> 0 | H3: ='B2.1'!W5 -> 0 | I3: =IF(E11>H3,"POZOR! Prekročený nárok na dotáciu!","")
A4: 2. Činnosť turistického informačného centra zriadeného organizáciou cestovného ruchu | B4: =SUMIFS('B2.3'!E:E,'B2.3'!$A:$A,$A4) -> 0 | C4: =SUMIFS('B2.3'!F:F,'B2.3'!$A:$A,$A4) -> 0 | D4: =SUMIFS('B2.3'!G:G,'B2.3'!$A:$A,$A4) -> 0 | E4: =SUMIFS('B2.3'!H:H,'B2.3'!$A:$A,$A4) -> 0 | F4: =SUMIFS('B2.3'!I:I,'B2.3'!$A:$A,$A4) -> 0 | I4: (pozn.: pri prekročení sumy sa zobrazí upozornenie)
A5: 3. Tvorba a podpora udržateľných produktov cestovného ruchu | B5: =SUMIFS('B2.3'!E:E,'B2.3'!$A:$A,$A5) -> 0 | C5: =SUMIFS('B2.3'!F:F,'B2.3'!$A:$A,$A5) -> 0 | D5: =SUMIFS('B2.3'!G:G,'B2.3'!$A:$A,$A5) -> 0 | E5: =SUMIFS('B2.3'!H:H,'B2.3'!$A:$A,$A5) -> 0 | F5: =SUMIFS('B2.3'!I:I,'B2.3'!$A:$A,$A5) -> 0
A6: 4. Podpora atrakivít danej lokality | B6: =SUMIFS('B2.3'!E:E,'B2.3'!$A:$A,$A6) -> 0 | C6: =SUMIFS('B2.3'!F:F,'B2.3'!$A:$A,$A6) -> 0 | D6: =SUMIFS('B2.3'!G:G,'B2.3'!$A:$A,$A6) -> 0 | E6: =SUMIFS('B2.3'!H:H,'B2.3'!$A:$A,$A6) -> 0 | F6: =SUMIFS('B2.3'!I:I,'B2.3'!$A:$A,$A6) -> 0
A7: 5. Infraštruktúra cestovného ruchu | B7: =SUMIFS('B2.3'!E:E,'B2.3'!$A:$A,$A7) -> 0 | C7: =SUMIFS('B2.3'!F:F,'B2.3'!$A:$A,$A7) -> 0 | D7: =SUMIFS('B2.3'!G:G,'B2.3'!$A:$A,$A7) -> 0 | E7: =SUMIFS('B2.3'!H:H,'B2.3'!$A:$A,$A7) -> 0 | F7: =SUMIFS('B2.3'!I:I,'B2.3'!$A:$A,$A7) -> 0
A8: 6. Zabezpečenie strategických, koncepčných a analytických materiálov a dokumentov, štatistík a prieskumov | B8: =SUMIFS('B2.3'!E:E,'B2.3'!$A:$A,$A8) -> 0 | C8: =SUMIFS('B2.3'!F:F,'B2.3'!$A:$A,$A8) -> 0 | D8: =SUMIFS('B2.3'!G:G,'B2.3'!$A:$A,$A8) -> 0 | E8: =SUMIFS('B2.3'!H:H,'B2.3'!$A:$A,$A8) -> 0 | F8: =SUMIFS('B2.3'!I:I,'B2.3'!$A:$A,$A8) -> 0
A9: 7. Vzdelávacie aktivity zamerané na skvalitnenie a rozvoj destinácie a cestovného ruchu v nej | B9: =SUMIFS('B2.3'!E:E,'B2.3'!$A:$A,$A9) -> 0 | C9: =SUMIFS('B2.3'!F:F,'B2.3'!$A:$A,$A9) -> 0 | D9: =SUMIFS('B2.3'!G:G,'B2.3'!$A:$A,$A9) -> 0 | E9: =SUMIFS('B2.3'!H:H,'B2.3'!$A:$A,$A9) -> 0 | F9: =SUMIFS('B2.3'!I:I,'B2.3'!$A:$A,$A9) -> 0
A11: Spolu | B11: =SUM(B3:B9) -> 0 | C11: =SUM(C3:C9) -> 0 | D11: =SUM(D3:D9) -> 0 | E11: =SUM(E3:E9) -> 0 | F11: =SUM(F3:F9) -> 0
E13: Percento spolufinancovania | F13: =IF(B11=0,0,F11/B11) -> 0

Sheet B3.1
A1: Typ projektu | B1: Rok | C1: IČO partnera 1 | D1: Názov partnera 1 | E1: ID partnera 1 | F1: IČO partnera 2 | G1: Názov partnera 2 | H1: ID partnera 2 | I1: IČO partnera 3 | J1: Názov partnera 3 | K1: ID partnera 3 | L1: IČO partnera 4 | M1: Názov partnera 4 | N1: ID partnera 4 | O1: IČO partnera 4 | P1: Názov partnera 4 | Q1: ID partnera 4 | R1: Názov spoločného projektového zámeru | S1: ID_Spoločného projektového zámeru | T1: Predpokladaná doba ukončenia | U1: Predpokladaná doba ukončenia | V1: Hlavný cieľ spoločného projektového zámeru | W1: Nárok na dotáciu
A2: automaticky doplnené | B2: predvolené | C2: výbez zo zoznamu | D2: automaticky doplnené | E2: automaticky doplnené | F2: výbez zo zoznamu | G2: automaticky doplnené | H2: automaticky doplnené | I2: výbez zo zoznamu | J2: automaticky doplnené | K2: automaticky doplnené | L2: výbez zo zoznamu | M2: automaticky doplnené | N2: automaticky doplnené | O2: výbez zo zoznamu | P2: automaticky doplnené | Q2: automaticky doplnené | R2: text: max. 100 znakov | S2: Doplniť z registračného hárku projektového zámeru | T2: mesiac | U2: rok | V2: text: max. 500 znakov | W2: automaticky doplnené
A5: B | B5: 2025 | C5: prázdne | D5: =VLOOKUP(C5, 'ID číselník'!C:D, 2, 0) -> 0 | E5: =VLOOKUP(D5, 'ID číselník'!D:E, 2, 0) -> 0 | F5: prázdne | G5: =VLOOKUP(F5, 'ID číselník'!C:D, 2, 0) -> 0 | H5: =IF(G5<>"",VLOOKUP(G5, 'ID číselník'!D:E, 2, 0),"") -> 0 | I5: prázdne | J5: =VLOOKUP(I5, 'ID číselník'!C:D, 2, 0) -> 0 | K5: =IF(J5<>"",VLOOKUP(J5, 'ID číselník'!D:E, 2, 0),"") -> 0 | L5: prázdne | M5: =VLOOKUP(L5, 'ID číselník'!C:D, 2, 0) -> 0 | N5: =IF(M5<>"",VLOOKUP(M5, 'ID číselník'!D:E, 2, 0),"") -> 0 | O5: prázdne | P5: =VLOOKUP(O5, 'ID číselník'!C:D, 2, 0) -> 0 | Q5: =IF(P5<>"",VLOOKUP(P5, 'ID číselník'!D:E, 2, 0),"") -> 0 | W5: =IF(('B2.6'!H3)-('B2.6'!E11)>0,('B2.6'!H3)-('B2.6'!E11),"0") -> 0

Sheet B3.2
A1: B 3.2.1 Východisková situácia/ identifikácia problému (ak relevantné) | B1: B 3.2.2 Ciele projektu a očakávané výsledky | C1: B 3.2.3 Súlad so stratégiou rozvoja CR destinácie | D1: Názov dokumentu | E1: B 3.2.4 Súlad s PHSR VÚC | F1: Názov dokumentu | G1: B 3.2.5 Súlad s plánom rozvoja NRO (ak relevantné) | H1: Odborný garant projektu
A2: text: max. 2500 znakov | B2: text: max. 2500 znakov | C2: text: max. 500 znakov | D2: text | E2: text: max. 500 znakov | F2: text | G2: text: max. 500 znakov | H2: text

Sheet B3.3
A1: Aktivita | B1: Merateľný ukazovateľ (KPI) | C1: Hodnota KPI - súčasná | D1: Hodnota KPI - očakávaná | E1: Rozpočet | F1: BV | G1: KV | H1: Požadovaná dotácia | I1: Spolufinancovanie
A2: výber zo zoznamu | B2: text: KPI na úrovni aktivity len v prípade absencie KPI pri účeloch | C2: text: pre porovnanie - nepovinné | D2: text | E2: sum podaktivít | F2: sum podaktivít | G2: sum podaktivít | H2: sum podaktivít | I2: sum podaktivít
E4: =SUMIFS('B3.4'!D:D,'B3.4'!$A:$A,'B3.3'!$A4) -> 0 | F4: =SUMIFS('B3.4'!E:E,'B3.4'!$A:$A,'B3.3'!$A4) -> 0 | G4: =SUMIFS('B3.4'!F:F,'B3.4'!$A:$A,'B3.3'!$A4) -> 0 | H4: =SUMIFS('B3.4'!G:G,'B3.4'!$A:$A,'B3.3'!$A4) -> 0 | I4: =SUMIFS('B3.4'!H:H,'B3.4'!$A:$A,'B3.3'!$A4) -> 0
E5: =SUMIFS('B3.4'!D:D,'B3.4'!$A:$A,'B3.3'!$A5) -> 0 | F5: =SUMIFS('B3.4'!E:E,'B3.4'!$A:$A,'B3.3'!$A5) -> 0 | G5: =SUMIFS('B3.4'!F:F,'B3.4'!$A:$A,'B3.3'!$A5) -> 0 | H5: =SUMIFS('B3.4'!G:G,'B3.4'!$A:$A,'B3.3'!$A5) -> 0 | I5: =SUMIFS('B3.4'!H:H,'B3.4'!$A:$A,'B3.3'!$A5) -> 0
E6: =SUMIFS('B3.4'!D:D,'B3.4'!$A:$A,'B3.3'!$A6) -> 0 | F6: =SUMIFS('B3.4'!E:E,'B3.4'!$A:$A,'B3.3'!$A6) -> 0 | G6: =SUMIFS('B3.4'!F:F,'B3.4'!$A:$A,'B3.3'!$A6) -> 0 | H6: =SUMIFS('B3.4'!G:G,'B3.4'!$A:$A,'B3.3'!$A6) -> 0 | I6: =SUMIFS('B3.4'!H:H,'B3.4'!$A:$A,'B3.3'!$A6) -> 0
E7: =SUMIFS('B3.4'!D:D,'B3.4'!$A:$A,'B3.3'!$A7) -> 0 | F7: =SUMIFS('B3.4'!E:E,'B3.4'!$A:$A,'B3.3'!$A7) -> 0 | G7: =SUMIFS('B3.4'!F:F,'B3.4'!$A:$A,'B3.3'!$A7) -> 0 | H7: =SUMIFS('B3.4'!G:G,'B3.4'!$A:$A,'B3.3'!$A7) -> 0 | I7: =SUMIFS('B3.4'!H:H,'B3.4'!$A:$A,'B3.3'!$A7) -> 0
E8: =SUMIFS('B3.4'!D:D,'B3.4'!$A:$A,'B3.3'!$A8) -> 0 | F8: =SUMIFS('B3.4'!E:E,'B3.4'!$A:$A,'B3.3'!$A8) -> 0 | G8: =SUMIFS('B3.4'!F:F,'B3.4'!$A:$A,'B3.3'!$A8) -> 0 | H8: =SUMIFS('B3.4'!G:G,'B3.4'!$A:$A,'B3.3'!$A8) -> 0 | I8: =SUMIFS('B3.4'!H:H,'B3.4'!$A:$A,'B3.3'!$A8) -> 0
E9: =SUMIFS('B3.4'!D:D,'B3.4'!$A:$A,'B3.3'!$A9) -> 0 | F9: =SUMIFS('B3.4'!E:E,'B3.4'!$A:$A,'B3.3'!$A9) -> 0 | G9: =SUMIFS('B3.4'!F:F,'B3.4'!$A:$A,'B3.3'!$A9) -> 0 | H9: =SUMIFS('B3.4'!G:G,'B3.4'!$A:$A,'B3.3'!$A9) -> 0 | I9: =SUMIFS('B3.4'!H:H,'B3.4'!$A:$A,'B3.3'!$A9) -> 0
E10: =SUMIFS('B3.4'!D:D,'B3.4'!$A:$A,'B3.3'!$A10) -> 0 | F10: =SUMIFS('B3.4'!E:E,'B3.4'!$A:$A,'B3.3'!$A10) -> 0 | G10: =SUMIFS('B3.4'!F:F,'B3.4'!$A:$A,'B3.3'!$A10) -> 0 | H10: =SUMIFS('B3.4'!G:G,'B3.4'!$A:$A,'B3.3'!$A10) -> 0 | I10: =SUMIFS('B3.4'!H:H,'B3.4'!$A:$A,'B3.3'!$A10) -> 0
E11: =SUMIFS('B3.4'!D:D,'B3.4'!$A:$A,'B3.3'!$A11) -> 0 | F11: =SUMIFS('B3.4'!E:E,'B3.4'!$A:$A,'B3.3'!$A11) -> 0 | G11: =SUMIFS('B3.4'!F:F,'B3.4'!$A:$A,'B3.3'!$A11) -> 0 | H11: =SUMIFS('B3.4'!G:G,'B3.4'!$A:$A,'B3.3'!$A11) -> 0 | I11: =SUMIFS('B3.4'!H:H,'B3.4'!$A:$A,'B3.3'!$A11) -> 0
E12: =SUMIFS('B3.4'!D:D,'B3.4'!$A:$A,'B3.3'!$A12) -> 0 | F12: =SUMIFS('B3.4'!E:E,'B3.4'!$A:$A,'B3.3'!$A12) -> 0 | G12: =SUMIFS('B3.4'!F:F,'B3.4'!$A:$A,'B3.3'!$A12) -> 0 | H12: =SUMIFS('B3.4'!G:G,'B3.4'!$A:$A,'B3.3'!$A12) -> 0 | I12: =SUMIFS('B3.4'!H:H,'B3.4'!$A:$A,'B3.3'!$A12) -> 0
E13: =SUMIFS('B3.4'!D:D,'B3.4'!$A:$A,'B3.3'!$A13) -> 0 | F13: =SUMIFS('B3.4'!E:E,'B3.4'!$A:$A,'B3.3'!$A13) -> 0 | G13: =SUMIFS('B3.4'!F:F,'B3.4'!$A:$A,'B3.3'!$A13) -> 0 | H13: =SUMIFS('B3.4'!G:G,'B3.4'!$A:$A,'B3.3'!$A13) -> 0 | I13: =SUMIFS('B3.4'!H:H,'B3.4'!$A:$A,'B3.3'!$A13) -> 0

Sheet B3.4
A1: Aktivita | B1: Podaktivita | C1: Opis podaktivity | D1: Rozpočet | E1: BV | F1: KV | G1: Požadovaná dotácia | H1: Spolufinancovanie
A2: výber zo zoznamu | B2: výber zo zoznamu | C2: text: max. 250 znakov | D2: sum účelov | E2: sum účelov | F2: sum účelov | G2: sum účelov | H2: sum účelov
D4: =SUM(SUMIFS('B3.5'!L:L,'B3.5'!$B:$B,'B3.4'!$B4)+SUMIFS('B3.5'!M:M,'B3.5'!$B:$B,'B3.4'!$B4)) -> 0 | E4: =SUMIFS('B3.5'!O:O,'B3.5'!$B:$B,'B3.4'!$B4) -> 0 | F4: =SUMIFS('B3.5'!P:P,'B3.5'!$B:$B,'B3.4'!$B4) -> 0 | G4: =SUMIFS('B3.5'!L:L,'B3.5'!$B:$B,'B3.4'!$B4) -> 0 | H4: =SUMIFS('B3.5'!M:M,'B3.5'!$B:$B,'B3.4'!$B4) -> 0
D5: =SUM(SUMIFS('B3.5'!L:L,'B3.5'!$B:$B,'B3.4'!$B5)+SUMIFS('B3.5'!M:M,'B3.5'!$B:$B,'B3.4'!$B5)) -> 0 | E5: =SUMIFS('B3.5'!O:O,'B3.5'!$B:$B,'B3.4'!$B5) -> 0 | F5: =SUMIFS('B3.5'!P:P,'B3.5'!$B:$B,'B3.4'!$B5) -> 0 | G5: =SUMIFS('B3.5'!L:L,'B3.5'!$B:$B,'B3.4'!$B5) -> 0 | H5: =SUMIFS('B3.5'!M:M,'B3.5'!$B:$B,'B3.4'!$B5) -> 0
D6: =SUM(SUMIFS('B3.5'!L:L,'B3.5'!$B:$B,'B3.4'!$B6)+SUMIFS('B3.5'!M:M,'B3.5'!$B:$B,'B3.4'!$B6)) -> 0 | E6: =SUMIFS('B3.5'!O:O,'B3.5'!$B:$B,'B3.4'!$B6) -> 0 | F6: =SUMIFS('B3.5'!P:P,'B3.5'!$B:$B,'B3.4'!$B6) -> 0 | G6: =SUMIFS('B3.5'!L:L,'B3.5'!$B:$B,'B3.4'!$B6) -> 0 | H6: =SUMIFS('B3.5'!M:M,'B3.5'!$B:$B,'B3.4'!$B6) -> 0
D7: =SUM(SUMIFS('B3.5'!L:L,'B3.5'!$B:$B,'B3.4'!$B7)+SUMIFS('B3.5'!M:M,'B3.5'!$B:$B,'B3.4'!$B7)) -> 0 | E7: =SUMIFS('B3.5'!O:O,'B3.5'!$B:$B,'B3.4'!$B7) -> 0 | F7: =SUMIFS('B3.5'!P:P,'B3.5'!$B:$B,'B3.4'!$B7) -> 0 | G7: =SUMIFS('B3.5'!L:L,'B3.5'!$B:$B,'B3.4'!$B7) -> 0 | H7: =SUMIFS('B3.5'!M:M,'B3.5'!$B:$B,'B3.4'!$B7) -> 0
D8: =SUM(SUMIFS('B3.5'!L:L,'B3.5'!$B:$B,'B3.4'!$B8)+SUMIFS('B3.5'!M:M,'B3.5'!$B:$B,'B3.4'!$B8)) -> 0 | E8: =SUMIFS('B3.5'!O:O,'B3.5'!$B:$B,'B3.4'!$B8) -> 0 | F8: =SUMIFS('B3.5'!P:P,'B3.5'!$B:$B,'B3.4'!$B8) -> 0 | G8: =SUMIFS('B3.5'!L:L,'B3.5'!$B:$B,'B3.4'!$B8) -> 0 | H8: =SUMIFS('B3.5'!M:M,'B3.5'!$B:$B,'B3.4'!$B8) -> 0
D9: =SUM(SUMIFS('B3.5'!L:L,'B3.5'!$B:$B,'B3.4'!$B9)+SUMIFS('B3.5'!M:M,'B3.5'!$B:$B,'B3.4'!$B9)) -> 0 | E9: =SUMIFS('B3.5'!O:O,'B3.5'!$B:$B,'B3.4'!$B9) -> 0 | F9: =SUMIFS('B3.5'!P:P,'B3.5'!$B:$B,'B3.4'!$B9) -> 0 | G9: =SUMIFS('B3.5'!L:L,'B3.5'!$B:$B,'B3.4'!$B9) -> 0 | H9: =SUMIFS('B3.5'!M:M,'B3.5'!$B:$B,'B3.4'!$B9) -> 0
D10: =SUM(SUMIFS('B3.5'!L:L,'B3.5'!$B:$B,'B3.4'!$B10)+SUMIFS('B3.5'!M:M,'B3.5'!$B:$B,'B3.4'!$B10)) -> 0 | E10: =SUMIFS('B3.5'!O:O,'B3.5'!$B:$B,'B3.4'!$B10) -> 0 | F10: =SUMIFS('B3.5'!P:P,'B3.5'!$B:$B,'B3.4'!$B10) -> 0 | G10: =SUMIFS('B3.5'!L:L,'B3.5'!$B:$B,'B3.4'!$B10) -> 0 | H10: =SUMIFS('B3.5'!M:M,'B3.5'!$B:$B,'B3.4'!$B10) -> 0
D11: =SUM(SUMIFS('B3.5'!L:L,'B3.5'!$B:$B,'B3.4'!$B11)+SUMIFS('B3.5'!M:M,'B3.5'!$B:$B,'B3.4'!$B11)) -> 0 | E11: =SUMIFS('B3.5'!O:O,'B3.5'!$B:$B,'B3.4'!$B11) -> 0 | F11: =SUMIFS('B3.5'!P:P,'B3.5'!$B:$B,'B3.4'!$B11) -> 0 | G11: =SUMIFS('B3.5'!L:L,'B3.5'!$B:$B,'B3.4'!$B11) -> 0 | H11: =SUMIFS('B3.5'!M:M,'B3.5'!$B:$B,'B3.4'!$B11) -> 0
D12: =SUM(SUMIFS('B3.5'!L:L,'B3.5'!$B:$B,'B3.4'!$B12)+SUMIFS('B3.5'!M:M,'B3.5'!$B:$B,'B3.4'!$B12)) -> 0 | E12: =SUMIFS('B3.5'!O:O,'B3.5'!$B:$B,'B3.4'!$B12) -> 0 | F12: =SUMIFS('B3.5'!P:P,'B3.5'!$B:$B,'B3.4'!$B12) -> 0 | G12: =SUMIFS('B3.5'!L:L,'B3.5'!$B:$B,'B3.4'!$B12) -> 0 | H12: =SUMIFS('B3.5'!M:M,'B3.5'!$B:$B,'B3.4'!$B12) -> 0
D13: =SUM(SUMIFS('B3.5'!L:L,'B3.5'!$B:$B,'B3.4'!$B13)+SUMIFS('B3.5'!M:M,'B3.5'!$B:$B,'B3.4'!$B13)) -> 0 | E13: =SUMIFS('B3.5'!O:O,'B3.5'!$B:$B,'B3.4'!$B13) -> 0 | F13: =SUMIFS('B3.5'!P:P,'B3.5'!$B:$B,'B3.4'!$B13) -> 0 | G13: =SUMIFS('B3.5'!L:L,'B3.5'!$B:$B,'B3.4'!$B13) -> 0 | H13: =SUMIFS('B3.5'!M:M,'B3.5'!$B:$B,'B3.4'!$B13) -> 0
D14: =SUM(SUMIFS('B3.5'!L:L,'B3.5'!$B:$B,'B3.4'!$B14)+SUMIFS('B3.5'!M:M,'B3.5'!$B:$B,'B3.4'!$B14)) -> 0 | E14: =SUMIFS('B3.5'!O:O,'B3.5'!$B:$B,'B3.4'!$B14) -> 0 | F14: =SUMIFS('B3.5'!P:P,'B3.5'!$B:$B,'B3.4'!$B14) -> 0 | G14: =SUMIFS('B3.5'!L:L,'B3.5'!$B:$B,'B3.4'!$B14) -> 0 | H14: =SUMIFS('B3.5'!M:M,'B3.5'!$B:$B,'B3.4'!$B14) -> 0
D15: =SUM(SUMIFS('B3.5'!L:L,'B3.5'!$B:$B,'B3.4'!$B15)+SUMIFS('B3.5'!M:M,'B3.5'!$B:$B,'B3.4'!$B15)) -> 0 | E15: =SUMIFS('B3.5'!O:O,'B3.5'!$B:$B,'B3.4'!$B15) -> 0 | F15: =SUMIFS('B3.5'!P:P,'B3.5'!$B:$B,'B3.4'!$B15) -> 0 | G15: =SUMIFS('B3.5'!L:L,'B3.5'!$B:$B,'B3.4'!$B15) -> 0 | H15: =SUMIFS('B3.5'!M:M,'B3.5'!$B:$B,'B3.4'!$B15) -> 0
... D74: =SUM(SUMIFS('B3.5'!L:L,'B3.5'!$B:$B,'B3.4'!$B74)+SUMIFS('B3.5'!M:M,'B3.5'!$B:$B,'B3.4'!$B74)) -> 0 | E74: =SUMIFS('B3.5'!O:O,'B3.5'!$B:$B,'B3.4'!$B74) -> 0 | F74: =SUMIFS('B3.5'!P:P,'B3.5'!$B:$B,'B3.4'!$B74) -> 0 | G74: =SUMIFS('B3.5'!L:L,'B3.5'!$B:$B,'B3.4'!$B74) -> 0 | H74: =SUMIFS('B3.5'!M:M,'B3.5'!$B:$B,'B3.4'!$B74) -> 0

Sheet B3.5
A1: Aktivita | B1: Podaktivita | C1: Účel | D1: Cieľová skupina | E1: Motív návstevy | F1: Typ návštevníka | G1: Vek návštevníka | H1: Status návštevníka | I1: Znevýhodnené skupiny | J1: KPI | K1: Očakávaný výstup (hodnota KPI) | L1: Požadovaná dotácia | M1: Vlastné zdroje | N1: BV/KV | O1: BV | P1: KV | Q1: Miesto realizácie | R1: Predpokladaný/plánovaný termín začiatku realizácie | S1: Predpokladaný/plánovaný termín ukončenia realizácie | T1: Spôsob a časový harmonogram realizácie (len KV) | U1: Zámer
A2: výber zo zoznamu | B2: výber zo zoznamu | C2: text | D2: výber zo zoznamu | E2: výber zo zoznamu | F2: výber zo zoznamu | G2: výber zo zoznamu | H2: výber zo zoznamu | I2: výber zo zoznamu | J2: výber zo zoznamu | K2: plánovaná hodnota ukazovateľa | L2: text | M2: text | N2: výber zo zoznamu | O2: automaticky | P2: automaticky | Q2: text | R2: mesiac/rok (napr. 01/2025) -> po označení KV povinné pole | S2: mesiac/rok (napr. 01/2025) | T2: text: max. 1000 znakov | U2: text: max. 1000 znakov
O4: =IF(N4="BV", L4+M4,0) -> 0 | P4: =IF(N4="KV", L4+M4,0) -> 0
O5: =IF(N5="BV", L5+M5,0) -> 0 | P5: =IF(N5="KV", L5+M5,0) -> 0
O6: =IF(N6="BV", L6+M6,0) -> 0 | P6: =IF(N6="KV", L6+M6,0) -> 0
O7: =IF(N7="BV", L7+M7,0) -> 0 | P7: =IF(N7="KV", L7+M7,0) -> 0
O8: =IF(N8="BV", L8+M8,0) -> 0 | P8: =IF(N8="KV", L8+M8,0) -> 0
O9: =IF(N9="BV", L9+M9,0) -> 0 | P9: =IF(N9="KV", L9+M9,0) -> 0
O10: =IF(N10="BV", L10+M10,0) -> 0 | P10: =IF(N10="KV", L10+M10,0) -> 0
O11: =IF(N11="BV", L11+M11,0) -> 0 | P11: =IF(N11="KV", L11+M11,0) -> 0
O12: =IF(N12="BV", L12+M12,0) -> 0 | P12: =IF(N12="KV", L12+M12,0) -> 0
O13: =IF(N13="BV", L13+M13,0) -> 0 | P13: =IF(N13="KV", L13+M13,0) -> 0
O14: =IF(N14="BV", L14+M14,0) -> 0 | P14: =IF(N14="KV", L14+M14,0) -> 0
O15: =IF(N15="BV", L15+M15,0) -> 0 | P15: =IF(N15="KV", L15+M15,0) -> 0
... O504: =IF(N504="BV", L504+M504,0) -> 0 | P504: =IF(N504="KV", L504+M504,0) -> 0

Sheet B3.6
A1: Aktivita | B1: Rozpočet | E1: Žiadané | F1: Vlastné zdroje | H1: Nárok na dotáciu | I1: Poznámka
B2: Spolu | C2: BV | D2: KV
A3: 1. Marketing a propagácia | B3: =SUMIFS('B3.3'!E:E,'B3.3'!$A:$A,$A3) -> 0 | C3: =SUMIFS('B3.3'!F:F,'B3.3'!$A:$A,$A3) -> 0 | D3: =SUMIFS('B3.3'!G:G,'B3.3'!$A:$A,$A3) -> 0 | E3: =SUMIFS('B3.3'!H:H,'B3.3'!$A:$A,$A3) -> 0 | F3: =SUMIFS('B3.3'!I:I,'B3.3'!$A:$A,$A3) -> 0 | H3: ='B3.1'!W5 -> 0 | I3: =IF(E11>H3,"POZOR! Prekročený nárok na dotáciu!","")
A4: 2. Činnosť turistického informačného centra zriadeného organizáciou cestovného ruchu | B4: =SUMIFS('B3.3'!E:E,'B3.3'!$A:$A,$A4) -> 0 | C4: =SUMIFS('B3.3'!F:F,'B3.3'!$A:$A,$A4) -> 0 | D4: =SUMIFS('B3.3'!G:G,'B3.3'!$A:$A,$A4) -> 0 | E4: =SUMIFS('B3.3'!H:H,'B3.3'!$A:$A,$A4) -> 0 | F4: =SUMIFS('B3.3'!I:I,'B3.3'!$A:$A,$A4) -> 0 | I4: (pozn.: pri prekročení sumy sa zobrazí upozornenie)
A5: 3. Tvorba a podpora udržateľných produktov cestovného ruchu | B5: =SUMIFS('B3.3'!E:E,'B3.3'!$A:$A,$A5) -> 0 | C5: =SUMIFS('B3.3'!F:F,'B3.3'!$A:$A,$A5) -> 0 | D5: =SUMIFS('B3.3'!G:G,'B3.3'!$A:$A,$A5) -> 0 | E5: =SUMIFS('B3.3'!H:H,'B3.3'!$A:$A,$A5) -> 0 | F5: =SUMIFS('B3.3'!I:I,'B3.3'!$A:$A,$A5) -> 0
A6: 4. Podpora atrakivít danej lokality | B6: =SUMIFS('B3.3'!E:E,'B3.3'!$A:$A,$A6) -> 0 | C6: =SUMIFS('B3.3'!F:F,'B3.3'!$A:$A,$A6) -> 0 | D6: =SUMIFS('B3.3'!G:G,'B3.3'!$A:$A,$A6) -> 0 | E6: =SUMIFS('B3.3'!H:H,'B3.3'!$A:$A,$A6) -> 0 | F6: =SUMIFS('B3.3'!I:I,'B3.3'!$A:$A,$A6) -> 0
